BEGIN:VCALENDAR
VERSION:2.0
PRODID:-//East Liberty Presbyterian Church - ECPv6.15.20//NONSGML v1.0//EN
CALSCALE:GREGORIAN
METHOD:PUBLISH
X-ORIGINAL-URL:https://cathedralofhope.org
X-WR-CALDESC:Events for East Liberty Presbyterian Church
REFRESH-INTERVAL;VALUE=DURATION:PT1H
X-Robots-Tag:noindex
X-PUBLISHED-TTL:PT1H
BEGIN:VTIMEZONE
TZID:America/New_York
BEGIN:DAYLIGHT
TZOFFSETFROM:-0500
TZOFFSETTO:-0400
TZNAME:EDT
DTSTART:20230312T070000
END:DAYLIGHT
BEGIN:STANDARD
TZOFFSETFROM:-0400
TZOFFSETTO:-0500
TZNAME:EST
DTSTART:20231105T060000
END:STANDARD
BEGIN:DAYLIGHT
TZOFFSETFROM:-0500
TZOFFSETTO:-0400
TZNAME:EDT
DTSTART:20240310T070000
END:DAYLIGHT
BEGIN:STANDARD
TZOFFSETFROM:-0400
TZOFFSETTO:-0500
TZNAME:EST
DTSTART:20241103T060000
END:STANDARD
BEGIN:DAYLIGHT
TZOFFSETFROM:-0500
TZOFFSETTO:-0400
TZNAME:EDT
DTSTART:20250309T070000
END:DAYLIGHT
BEGIN:STANDARD
TZOFFSETFROM:-0400
TZOFFSETTO:-0500
TZNAME:EST
DTSTART:20251102T060000
END:STANDARD
END:VTIMEZONE
BEGIN:VEVENT
DTSTART;TZID=America/New_York:20240728T110000
DTEND;TZID=America/New_York:20240728T130000
DTSTAMP:20260425T120902
CREATED:20240719T130142Z
LAST-MODIFIED:20240719T130142Z
UID:10006402-1722164400-1722171600@cathedralofhope.org
SUMMARY:Supporting Justice Issues
DESCRIPTION:Now is the time to invest your energy in justice issues! The Justice Committee will have an in-person meeting following worship on Sunday\, July 28. \nWe will evaluate the many issues and activities we have focused on over the last few years—such as criminal justice reform\, environmental sustainability and action\, immigrant resources\, and LGBTQIA+ inclusion. How do we support those in our community? This is a great opportunity for new voices to join us as we make plans for the coming year. \nFor more information about joining our meeting\, contact Carol Chonoska.
URL:https://cathedralofhope.org/event/supporting-justice-issues/
LOCATION:PA
CATEGORIES:Featured Events,LGBTQIA+,Mission Activities
END:VEVENT
END:VCALENDAR