BEGIN:VCALENDAR
VERSION:2.0
PRODID:-//East Liberty Presbyterian Church - ECPv6.15.20//NONSGML v1.0//EN
CALSCALE:GREGORIAN
METHOD:PUBLISH
X-ORIGINAL-URL:https://cathedralofhope.org
X-WR-CALDESC:Events for East Liberty Presbyterian Church
REFRESH-INTERVAL;VALUE=DURATION:PT1H
X-Robots-Tag:noindex
X-PUBLISHED-TTL:PT1H
BEGIN:VTIMEZONE
TZID:America/New_York
BEGIN:DAYLIGHT
TZOFFSETFROM:-0500
TZOFFSETTO:-0400
TZNAME:EDT
DTSTART:20250309T070000
END:DAYLIGHT
BEGIN:STANDARD
TZOFFSETFROM:-0400
TZOFFSETTO:-0500
TZNAME:EST
DTSTART:20251102T060000
END:STANDARD
BEGIN:DAYLIGHT
TZOFFSETFROM:-0500
TZOFFSETTO:-0400
TZNAME:EDT
DTSTART:20260308T070000
END:DAYLIGHT
BEGIN:STANDARD
TZOFFSETFROM:-0400
TZOFFSETTO:-0500
TZNAME:EST
DTSTART:20261101T060000
END:STANDARD
BEGIN:DAYLIGHT
TZOFFSETFROM:-0500
TZOFFSETTO:-0400
TZNAME:EDT
DTSTART:20270314T070000
END:DAYLIGHT
BEGIN:STANDARD
TZOFFSETFROM:-0400
TZOFFSETTO:-0500
TZNAME:EST
DTSTART:20271107T060000
END:STANDARD
END:VTIMEZONE
BEGIN:VEVENT
DTSTART;TZID=America/New_York:20260510T123000
DTEND;TZID=America/New_York:20260510T143000
DTSTAMP:20260423T071155
CREATED:20251106T140513Z
LAST-MODIFIED:20251106T140513Z
UID:10006633-1778416200-1778423400@cathedralofhope.org
SUMMARY:May LGBTQIA+ Ministry Spiritual Gathering
DESCRIPTION:You are invited to the Spiritual Gathering of ELPC’s LGBTQIA+ Ministry to share food and fellowship at the church. Allies and LGBTQIA+ folks alike are welcome. \nContact Wil Forrest at 412.441.3800 X218 or Wil@coh.net to learn more\, to RSVP\, and/or to participate. \nGOD CREATED YOU. GOD LOVES YOU.  BE YOURSELF.
URL:https://cathedralofhope.org/event/may-lgbtqia-ministry-spiritual-gathering-3/
LOCATION:East Liberty Presbyterian Church\, 116 S. Highland Avenue\, Pittsburgh\, PA\, 15206\, United States
CATEGORIES:LGBTQIA+
ORGANIZER;CN="Wil Forrest":MAILTO:Wil@coh.net
GEO:40.4609708;-79.9253554
X-APPLE-STRUCTURED-LOCATION;VALUE=URI;X-ADDRESS=East Liberty Presbyterian Church 116 S. Highland Avenue Pittsburgh PA 15206 United States;X-APPLE-RADIUS=500;X-TITLE=116 S. Highland Avenue:geo:-79.9253554,40.4609708
END:VEVENT
BEGIN:VEVENT
DTSTART;TZID=America/New_York:20260607T120000
DTEND;TZID=America/New_York:20260607T200000
DTSTAMP:20260423T071155
CREATED:20260409T155739Z
LAST-MODIFIED:20260409T155739Z
UID:10007391-1780833600-1780862400@cathedralofhope.org
SUMMARY:ELPC @ Pittsburgh Pride
DESCRIPTION:Our congregation is a proud participant in LAMP – LGBTQIA+ Affirming Ministries of Pittsburgh.  We are excited to again celebrate Pride in Pittsburgh this summer.  While there are many Pride events sponsored by different groups and in different neighborhoods around the area\, the ONE Pride event LAMP will be participating this year is Pittsburgh Pride March and Festival on Sunday\, June 7.  The March will begin at noon on Liberty Avenue concluding at Allegheny Commons Park West where the Festival will take place. \nCome out and celebrate while we share God’s love with all God’s people! \nMore information will be added to this post when available\,
URL:https://cathedralofhope.org/event/elpc-pittsburgh-pride/
LOCATION:Downtown Pittsburgh\, Pittsburgh\, PA\, United States
CATEGORIES:Community,Featured Events,LGBTQIA+,Special Events
ORGANIZER;CN="Wil Forrest":MAILTO:Wil@coh.net
GEO:40.4406248;-79.9958864
END:VEVENT
BEGIN:VEVENT
DTSTART;TZID=America/New_York:20260614T113000
DTEND;TZID=America/New_York:20260614T133000
DTSTAMP:20260423T071155
CREATED:20251106T140705Z
LAST-MODIFIED:20251106T140705Z
UID:10006785-1781436600-1781443800@cathedralofhope.org
SUMMARY:June LGBTQIA+ Ministry Spiritual Gathering
DESCRIPTION:You are invited to the Spiritual Gathering of ELPC’s LGBTQIA+ Ministry to share food and fellowship at the church. Allies and LGBTQIA+ folks alike are welcome. \nContact Wil Forrest at 412.441.3800 X218 or Wil@coh.net to learn more\, to RSVP\, and/or to participate. \nGOD CREATED YOU. GOD LOVES YOU.  BE YOURSELF.
URL:https://cathedralofhope.org/event/june-lgbtqia-ministry-spiritual-gathering/
LOCATION:East Liberty Presbyterian Church\, 116 S. Highland Avenue\, Pittsburgh\, PA\, 15206\, United States
CATEGORIES:LGBTQIA+
ORGANIZER;CN="Wil Forrest":MAILTO:Wil@coh.net
GEO:40.4609708;-79.9253554
X-APPLE-STRUCTURED-LOCATION;VALUE=URI;X-ADDRESS=East Liberty Presbyterian Church 116 S. Highland Avenue Pittsburgh PA 15206 United States;X-APPLE-RADIUS=500;X-TITLE=116 S. Highland Avenue:geo:-79.9253554,40.4609708
END:VEVENT
BEGIN:VEVENT
DTSTART;TZID=America/New_York:20260627T090000
DTEND;TZID=America/New_York:20260627T160000
DTSTAMP:20260423T071155
CREATED:20260409T154859Z
LAST-MODIFIED:20260409T154859Z
UID:10007390-1782550800-1782576000@cathedralofhope.org
SUMMARY:Day Retreat - The Gift of Relationship
DESCRIPTION:Take a step away from your regular Saturday schedule to look at how relationships can be both healing and inspiring.  Together we will seek hope and encouragement in the gift of relationship. You are invited to this day retreat for LGBTQIA+ folks and their allies as we explore\, laugh\, reflect\, and share conversation and food on Saturday\, June 27 from 9am to 4pm at ELPC.  We will be led by a special guest presenter\, Judy Corasaniti. The day will be shaped around her book “The Gift of Relationship: We Heal in Community” which will be provided at the event.  Cost is $25 for the entire event including brunch and the book. RSVP by June 21 to Wil at wil@coh.net or 412-441-3800 X218 to attend\, with dietary considerations\, and/or with questions about financial support to attend.  Due to the nature of the event and space considerations\, group size will be limited.  Sponsored by ELPC’s LGBTQIA+ Ministry.  If you need to know anything else or have any additional needs or concerns\, please contact Wil ASAP.
URL:https://cathedralofhope.org/event/day-retreat-the-gift-of-relationship/
LOCATION:East Liberty Presbyterian Church\, 116 S. Highland Avenue\, Pittsburgh\, PA\, 15206\, United States
CATEGORIES:LGBTQIA+
ORGANIZER;CN="Wil Forrest":MAILTO:Wil@coh.net
GEO:40.4609708;-79.9253554
X-APPLE-STRUCTURED-LOCATION;VALUE=URI;X-ADDRESS=East Liberty Presbyterian Church 116 S. Highland Avenue Pittsburgh PA 15206 United States;X-APPLE-RADIUS=500;X-TITLE=116 S. Highland Avenue:geo:-79.9253554,40.4609708
END:VEVENT
BEGIN:VEVENT
DTSTART;TZID=America/New_York:20260719T113000
DTEND;TZID=America/New_York:20260719T133000
DTSTAMP:20260423T071155
CREATED:20260407T132808Z
LAST-MODIFIED:20260407T165346Z
UID:10007388-1784460600-1784467800@cathedralofhope.org
SUMMARY:LGBTQIA+ Ministry July Spiritual Gathering
DESCRIPTION:You are invited to the Spiritual Gathering of ELPC’s LGBTQIA+ Ministry to share food and fellowship at the church. Allies and LGBTQIA+ folks alike are welcome. \nContact Wil Forrest at 412.441.3800 X218 or Wil@coh.net to learn more\, to RSVP\, and/or to participate. \nGOD CREATED YOU. GOD LOVES YOU.  BE YOURSELF.
URL:https://cathedralofhope.org/event/lgbtqia-ministry-july-spiritual-gathering/
LOCATION:East Liberty Presbyterian Church\, 116 S. Highland Avenue\, Pittsburgh\, PA\, 15206\, United States
CATEGORIES:LGBTQIA+
ORGANIZER;CN="Wil Forrest":MAILTO:Wil@coh.net
GEO:40.4609708;-79.9253554
X-APPLE-STRUCTURED-LOCATION;VALUE=URI;X-ADDRESS=East Liberty Presbyterian Church 116 S. Highland Avenue Pittsburgh PA 15206 United States;X-APPLE-RADIUS=500;X-TITLE=116 S. Highland Avenue:geo:-79.9253554,40.4609708
END:VEVENT
BEGIN:VEVENT
DTSTART;TZID=America/New_York:20260725T120000
DTEND;TZID=America/New_York:20260725T150000
DTSTAMP:20260423T071155
CREATED:20260409T165122Z
LAST-MODIFIED:20260409T165122Z
UID:10007392-1784980800-1784991600@cathedralofhope.org
SUMMARY:Family Fun Day by PBP and ELPC
DESCRIPTION:Join in the fun as Pittsburgh Black Pride’s Family Fun Day returns to ELPC. We will have food\, bowling\, basketball\, open mic\, face painting\, jewelry-making\, and a resource fair. Come to volunteer. Come to play. Just come!!
URL:https://cathedralofhope.org/event/family-fun-day-by-pbp-and-elpc/
LOCATION:East Liberty Presbyterian Church\, 116 S. Highland Avenue\, Pittsburgh\, PA\, 15206\, United States
CATEGORIES:Community,LGBTQIA+
ORGANIZER;CN="Wil Forrest":MAILTO:Wil@coh.net
GEO:40.4609708;-79.9253554
X-APPLE-STRUCTURED-LOCATION;VALUE=URI;X-ADDRESS=East Liberty Presbyterian Church 116 S. Highland Avenue Pittsburgh PA 15206 United States;X-APPLE-RADIUS=500;X-TITLE=116 S. Highland Avenue:geo:-79.9253554,40.4609708
END:VEVENT
BEGIN:VEVENT
DTSTART;TZID=America/New_York:20260809T113000
DTEND;TZID=America/New_York:20260809T133000
DTSTAMP:20260423T071155
CREATED:20260407T133036Z
LAST-MODIFIED:20260407T133149Z
UID:10007389-1786275000-1786282200@cathedralofhope.org
SUMMARY:LGTBQIA+ Ministry August Spiritual Gathering
DESCRIPTION:You are invited to the Spiritual Gathering of ELPC’s LGBTQIA+ Ministry to share food and fellowship at the church. Allies and LGBTQIA+ folks alike are welcome. \nContact Wil Forrest at 412.441.3800 X218 or Wil@coh.net to learn more\, to RSVP\, and/or to participate. \nGOD CREATED YOU. GOD LOVES YOU.  BE YOURSELF.
URL:https://cathedralofhope.org/event/lgtbqia-ministry-august-spiritual-gathering/
LOCATION:East Liberty Presbyterian Church\, 116 S. Highland Avenue\, Pittsburgh\, PA\, 15206\, United States
CATEGORIES:LGBTQIA+
ORGANIZER;CN="Wil Forrest":MAILTO:Wil@coh.net
GEO:40.4609708;-79.9253554
X-APPLE-STRUCTURED-LOCATION;VALUE=URI;X-ADDRESS=East Liberty Presbyterian Church 116 S. Highland Avenue Pittsburgh PA 15206 United States;X-APPLE-RADIUS=500;X-TITLE=116 S. Highland Avenue:geo:-79.9253554,40.4609708
END:VEVENT
END:VCALENDAR