BEGIN:VCALENDAR
VERSION:2.0
PRODID:-//East Liberty Presbyterian Church - ECPv6.15.20//NONSGML v1.0//EN
CALSCALE:GREGORIAN
METHOD:PUBLISH
X-WR-CALNAME:East Liberty Presbyterian Church
X-ORIGINAL-URL:https://cathedralofhope.org
X-WR-CALDESC:Events for East Liberty Presbyterian Church
REFRESH-INTERVAL;VALUE=DURATION:PT1H
X-Robots-Tag:noindex
X-PUBLISHED-TTL:PT1H
BEGIN:VTIMEZONE
TZID:America/Halifax
BEGIN:DAYLIGHT
TZOFFSETFROM:-0400
TZOFFSETTO:-0300
TZNAME:ADT
DTSTART:20130310T060000
END:DAYLIGHT
BEGIN:STANDARD
TZOFFSETFROM:-0300
TZOFFSETTO:-0400
TZNAME:AST
DTSTART:20131103T050000
END:STANDARD
BEGIN:DAYLIGHT
TZOFFSETFROM:-0400
TZOFFSETTO:-0300
TZNAME:ADT
DTSTART:20140309T060000
END:DAYLIGHT
BEGIN:STANDARD
TZOFFSETFROM:-0300
TZOFFSETTO:-0400
TZNAME:AST
DTSTART:20141102T050000
END:STANDARD
BEGIN:DAYLIGHT
TZOFFSETFROM:-0400
TZOFFSETTO:-0300
TZNAME:ADT
DTSTART:20150308T060000
END:DAYLIGHT
BEGIN:STANDARD
TZOFFSETFROM:-0300
TZOFFSETTO:-0400
TZNAME:AST
DTSTART:20151101T050000
END:STANDARD
BEGIN:DAYLIGHT
TZOFFSETFROM:-0400
TZOFFSETTO:-0300
TZNAME:ADT
DTSTART:20160313T060000
END:DAYLIGHT
BEGIN:STANDARD
TZOFFSETFROM:-0300
TZOFFSETTO:-0400
TZNAME:AST
DTSTART:20161106T050000
END:STANDARD
END:VTIMEZONE
BEGIN:VEVENT
DTSTART;TZID=America/Halifax:20150411T170000
DTEND;TZID=America/Halifax:20150411T180000
DTSTAMP:20260425T133713
CREATED:20150101T192418Z
LAST-MODIFIED:20150101T192418Z
UID:10002342-1428771600-1428775200@cathedralofhope.org
SUMMARY:LGBTQ Ministry Business Meeting
DESCRIPTION:All are invited to this quarterly Business Meeting for the LGBTQ Ministry.  We will plan for the summer and into the fall.  Bring your ideas!  All are invited to attend the monthly Spiritual Gathering immediately following this meeting.  Contact Wil Forrest for more details.
URL:https://cathedralofhope.org/event/business-meeting-2/
LOCATION:East Liberty Presbyterian Church\, 116 S. Highland Avenue\, Pittsburgh\, PA\, 15206\, United States
CATEGORIES:Church Life,Committee Meetings,LGBTQIA+
ATTACH;FMTTYPE=image/jpeg:https://cathedralofhope.org/wp-content/uploads/2015/01/LGBTQ-April-15.jpg
ORGANIZER;CN="Jim DiGiorgio":MAILTO:JimD@coh.net
GEO:40.4609708;-79.9253554
X-APPLE-STRUCTURED-LOCATION;VALUE=URI;X-ADDRESS=East Liberty Presbyterian Church 116 S. Highland Avenue Pittsburgh PA 15206 United States;X-APPLE-RADIUS=500;X-TITLE=116 S. Highland Avenue:geo:-79.9253554,40.4609708
END:VEVENT
BEGIN:VEVENT
DTSTART;TZID=America/Halifax:20150322T123000
DTEND;TZID=America/Halifax:20150322T150000
DTSTAMP:20260425T133713
CREATED:20150101T191936Z
LAST-MODIFIED:20150101T191936Z
UID:10002340-1427027400-1427036400@cathedralofhope.org
SUMMARY:Spiritual Gathering
DESCRIPTION:At this LGBTQ Ministry monthly Spiritual Gathering we will share conversation\, food and watch a movie together. Contact Wil for more detail.
URL:https://cathedralofhope.org/event/spiritual-gathering-7/
LOCATION:East Liberty Presbyterian Church\, 116 S. Highland Avenue\, Pittsburgh\, PA\, 15206\, United States
CATEGORIES:Church Life,LGBTQIA+
ORGANIZER;CN="Jim DiGiorgio":MAILTO:JimD@coh.net
GEO:40.4609708;-79.9253554
X-APPLE-STRUCTURED-LOCATION;VALUE=URI;X-ADDRESS=East Liberty Presbyterian Church 116 S. Highland Avenue Pittsburgh PA 15206 United States;X-APPLE-RADIUS=500;X-TITLE=116 S. Highland Avenue:geo:-79.9253554,40.4609708
END:VEVENT
BEGIN:VEVENT
DTSTART;TZID=America/Halifax:20150221T170000
DTEND;TZID=America/Halifax:20150221T190000
DTSTAMP:20260425T133713
CREATED:20150101T191639Z
LAST-MODIFIED:20150101T191639Z
UID:10002339-1424538000-1424545200@cathedralofhope.org
SUMMARY:Spiritual Gathering
DESCRIPTION:[Spiritual Gathering]\nAt this LGBTQ Ministry monthly Spiritual Gathering we will share conversation\, food and discuss the last chapter of the Rogers book. Contact Wil for more detail.
URL:https://cathedralofhope.org/event/spiritual-gathering-6/
LOCATION:East Liberty Presbyterian Church\, 116 S. Highland Avenue\, Pittsburgh\, PA\, 15206\, United States
CATEGORIES:LGBTQIA+
ORGANIZER;CN="Jim DiGiorgio":MAILTO:JimD@coh.net
GEO:40.4609708;-79.9253554
X-APPLE-STRUCTURED-LOCATION;VALUE=URI;X-ADDRESS=East Liberty Presbyterian Church 116 S. Highland Avenue Pittsburgh PA 15206 United States;X-APPLE-RADIUS=500;X-TITLE=116 S. Highland Avenue:geo:-79.9253554,40.4609708
END:VEVENT
BEGIN:VEVENT
DTSTART;TZID=America/Halifax:20150118T123000
DTEND;TZID=America/Halifax:20150118T143000
DTSTAMP:20260425T133713
CREATED:20141208T045539Z
LAST-MODIFIED:20141208T045539Z
UID:10002558-1421584200-1421591400@cathedralofhope.org
SUMMARY:Spiritual Gathering
DESCRIPTION:At this LGBTQ Ministry monthly Spiritual Gathering we will share conversation\, food and discuss the next two chapters of the Rogers book. Contact Wil for more detail.
URL:https://cathedralofhope.org/event/spiritual-gathering-5/
LOCATION:East Liberty Presbyterian Church\, 116 S. Highland Avenue\, Pittsburgh\, PA\, 15206\, United States
CATEGORIES:LGBTQIA+
ATTACH;FMTTYPE=image/jpeg:https://cathedralofhope.org/wp-content/uploads/2014/07/PrideFest-2014-035.jpg
ORGANIZER;CN="Jim DiGiorgio":MAILTO:JimD@coh.net
GEO:40.4609708;-79.9253554
X-APPLE-STRUCTURED-LOCATION;VALUE=URI;X-ADDRESS=East Liberty Presbyterian Church 116 S. Highland Avenue Pittsburgh PA 15206 United States;X-APPLE-RADIUS=500;X-TITLE=116 S. Highland Avenue:geo:-79.9253554,40.4609708
END:VEVENT
BEGIN:VEVENT
DTSTART;TZID=America/Halifax:20141206T170000
DTEND;TZID=America/Halifax:20141206T190000
DTSTAMP:20260425T133713
CREATED:20140819T034247Z
LAST-MODIFIED:20140819T034247Z
UID:10002489-1417885200-1417892400@cathedralofhope.org
SUMMARY:LGBTQ Ministry Spiritual Gathering
DESCRIPTION:All LGBTQ individuals and allies are welcome at this monthly spiritual gathering. This month we will share food\, fellowship and some holiday fun. Contact Wil Forrest for more detail.
URL:https://cathedralofhope.org/event/lgbtq-ministry-spiritual-gathering-3/
LOCATION:East Liberty Presbyterian Church\, 116 S. Highland Avenue\, Pittsburgh\, PA\, 15206\, United States
CATEGORIES:Community,LGBTQIA+
ORGANIZER;CN="Jim DiGiorgio":MAILTO:JimD@coh.net
GEO:40.4609708;-79.9253554
X-APPLE-STRUCTURED-LOCATION;VALUE=URI;X-ADDRESS=East Liberty Presbyterian Church 116 S. Highland Avenue Pittsburgh PA 15206 United States;X-APPLE-RADIUS=500;X-TITLE=116 S. Highland Avenue:geo:-79.9253554,40.4609708
END:VEVENT
BEGIN:VEVENT
DTSTART;TZID=America/Halifax:20141130T123000
DTEND;TZID=America/Halifax:20141130T140000
DTSTAMP:20260425T133713
CREATED:20140819T034623Z
LAST-MODIFIED:20140819T034623Z
UID:10002491-1417350600-1417356000@cathedralofhope.org
SUMMARY:LGBTQ Ministry Business Meeting
DESCRIPTION:All LGBTQ individuals and allies are welcome at this quarterly business meeting. Contact Wil Forrest for more detail.
URL:https://cathedralofhope.org/event/lgbtq-ministry-business-meeting-2/
LOCATION:ELPC – Pastor’s Conference Room\, 116 S Highland Avenue\, Pittsburgh\, PA\, 15206\, United States
CATEGORIES:Committee Meetings,LGBTQIA+
ORGANIZER;CN="Jim DiGiorgio":MAILTO:JimD@coh.net
GEO:40.461033;-79.925503
X-APPLE-STRUCTURED-LOCATION;VALUE=URI;X-ADDRESS=ELPC – Pastor’s Conference Room 116 S Highland Avenue Pittsburgh PA 15206 United States;X-APPLE-RADIUS=500;X-TITLE=116 S Highland Avenue:geo:-79.925503,40.461033
END:VEVENT
BEGIN:VEVENT
DTSTART;TZID=America/Halifax:20141115T170000
DTEND;TZID=America/Halifax:20141115T190000
DTSTAMP:20260425T133713
CREATED:20140819T034032Z
LAST-MODIFIED:20140819T034032Z
UID:10002487-1416070800-1416078000@cathedralofhope.org
SUMMARY:LGBTQ Ministry Spiritual Gathering
DESCRIPTION:All LGBTQ individuals and allies are welcome at this monthly spiritual gathering. This month we will share food\, fellowship and continue with our book discussion. Contact Wil Forrest for more detail.
URL:https://cathedralofhope.org/event/lgbtq-ministry-spiritual-gathering-2/
LOCATION:East Liberty Presbyterian Church\, 116 S. Highland Avenue\, Pittsburgh\, PA\, 15206\, United States
CATEGORIES:Community,LGBTQIA+
ORGANIZER;CN="Jim DiGiorgio":MAILTO:JimD@coh.net
GEO:40.4609708;-79.9253554
X-APPLE-STRUCTURED-LOCATION;VALUE=URI;X-ADDRESS=East Liberty Presbyterian Church 116 S. Highland Avenue Pittsburgh PA 15206 United States;X-APPLE-RADIUS=500;X-TITLE=116 S. Highland Avenue:geo:-79.9253554,40.4609708
END:VEVENT
BEGIN:VEVENT
DTSTART;TZID=America/Halifax:20141018T170000
DTEND;TZID=America/Halifax:20141018T190000
DTSTAMP:20260425T133713
CREATED:20140819T033812Z
LAST-MODIFIED:20140819T033812Z
UID:10002485-1413651600-1413658800@cathedralofhope.org
SUMMARY:LGBTQ Ministry Spiritual Gathering
DESCRIPTION:All LGBTQ individuals and allies are welcome at this monthly spiritual gathering. This month we will share food\, fellowship and continue with our book discussion. Contact Wil Forrest for more detail.
URL:https://cathedralofhope.org/event/lgbtq-ministry-spiritual-gathering/
LOCATION:East Liberty Presbyterian Church\, 116 S. Highland Avenue\, Pittsburgh\, PA\, 15206\, United States
CATEGORIES:Community,LGBTQIA+
ORGANIZER;CN="Jim DiGiorgio":MAILTO:JimD@coh.net
GEO:40.4609708;-79.9253554
X-APPLE-STRUCTURED-LOCATION;VALUE=URI;X-ADDRESS=East Liberty Presbyterian Church 116 S. Highland Avenue Pittsburgh PA 15206 United States;X-APPLE-RADIUS=500;X-TITLE=116 S. Highland Avenue:geo:-79.9253554,40.4609708
END:VEVENT
BEGIN:VEVENT
DTSTART;TZID=America/Halifax:20141017T200000
DTEND;TZID=America/Halifax:20141017T210000
DTSTAMP:20260425T133713
CREATED:20141002T161023Z
LAST-MODIFIED:20141002T161023Z
UID:10002531-1413576000-1413579600@cathedralofhope.org
SUMMARY:Loving Black: A Dance Performance
DESCRIPTION:Hope Academy teaching artist\, Anthony Williams\, presents “Loving Black\,” as part of the Kelly Strayhorn Theater’s Fresh Works series.  This new dance performance is about the complicated love between African American men. The project examines past and present representations of black male identities to inspire a dialogue about the diversity of expressions. \nAbout Anthony Williams:\nAnthony Williams is a resident teaching artist at Kelly Strayhorn Theater who recently presented his work Identity at KST’s newMoves Contemporary Dance Festival 2013. He has performed with Deeply Rooted Dance Theatre\, August Wilson Center Dance Ensemble\, Texture Contemporary Ballet\, and Ballet Chicago. Anthony has studied with a range of master teachers and choreographers including Terrence Greene\, Nathan Trice\, Ray Mercer\, Christopher Huggins\, and former KST artists-in-residence Sidra Bell and 2013 MacArthur Fellow Kyle Abraham. Anthony continues his journey in Pittsburgh as a freelance dance artist. \nAbout Fresh Works:\nFresh Works is KST’s month-long creative learning program for Pittsburgh-based artists. The program provides artists with production support\, lighting and sound design\, and 80 hours at The Alloy Studios to research\, explore\, play\, and finally share a work-in-progress performance. Fresh Works debuted in 2013 and\, so far\, this residency incubator has benefited seven lead artists. \nFunding for Loving Black was provided by the Advancing Black Arts in Pittsburgh Fund\, a partnership of the Pittsburgh Foundation and The Heinz Endowments. Additional support was provided by Artist Opportunity Grant through the Greater Pittsburgh Arts Council \nPhoto by Anna Malguina (St. Petersburg\, Russia)
URL:https://cathedralofhope.org/event/loving-black-dance-performance/
LOCATION:PA
CATEGORIES:Hope Academy,Hope Academy Teaching Artists,LGBTQIA+
ATTACH;FMTTYPE=image/jpeg:https://cathedralofhope.org/wp-content/uploads/2014/10/Anthony-Williams.jpg
ORGANIZER;CN="Kelly Strayhorn Theater":MAILTO:http://kelly-strayhorn.org/
END:VEVENT
BEGIN:VEVENT
DTSTART;TZID=America/Halifax:20140913T170000
DTEND;TZID=America/Halifax:20140913T190000
DTSTAMP:20260425T133713
CREATED:20140819T024448Z
LAST-MODIFIED:20140819T024448Z
UID:10002465-1410627600-1410634800@cathedralofhope.org
SUMMARY:LGBTQ Spiritual Gathering
DESCRIPTION:All LGBTQ individuals and allies are welcome at this monthly spiritual gathering.  This month we will share food\, fun and fellowship.  Contact Wil Forrest for more detail.
URL:https://cathedralofhope.org/event/lgbtq-spiritual-gathering/
LOCATION:East Liberty Presbyterian Church\, 116 S. Highland Avenue\, Pittsburgh\, PA\, 15206\, United States
CATEGORIES:Community,LGBTQIA+
ORGANIZER;CN="Jim DiGiorgio":MAILTO:JimD@coh.net
GEO:40.4609708;-79.9253554
X-APPLE-STRUCTURED-LOCATION;VALUE=URI;X-ADDRESS=East Liberty Presbyterian Church 116 S. Highland Avenue Pittsburgh PA 15206 United States;X-APPLE-RADIUS=500;X-TITLE=116 S. Highland Avenue:geo:-79.9253554,40.4609708
END:VEVENT
BEGIN:VEVENT
DTSTART;TZID=America/Halifax:20140824T113000
DTEND;TZID=America/Halifax:20140824T123000
DTSTAMP:20260425T133713
CREATED:20140520T014631Z
LAST-MODIFIED:20140520T014631Z
UID:10000783-1408879800-1408883400@cathedralofhope.org
SUMMARY:Business Meeting
DESCRIPTION:The members of the LGBTQ Ministry and allies gather for this monthly business meeting. All are welcome.
URL:https://cathedralofhope.org/event/business-meeting-3/
LOCATION:PA
CATEGORIES:Committee Meetings,LGBTQIA+
END:VEVENT
BEGIN:VEVENT
DTSTART;TZID=America/Halifax:20140809T150000
DTEND;TZID=America/Halifax:20140809T170000
DTSTAMP:20260425T133713
CREATED:20140520T015351Z
LAST-MODIFIED:20140520T015351Z
UID:10002426-1407596400-1407603600@cathedralofhope.org
SUMMARY:Spiritual Gathering
DESCRIPTION:All are welcome at this monthly gathering as we share food and fellowship as we explore the juncture of begin LGBTQ people and people of faith.
URL:https://cathedralofhope.org/event/spiritual-gathering-4/
LOCATION:ELPC – Ground Floor Lounge\, 116 S Highland Avenue\, Pittsburgh\, PA\, 15206\, United States
CATEGORIES:Church Life,LGBTQIA+
GEO:40.461033;-79.925503
X-APPLE-STRUCTURED-LOCATION;VALUE=URI;X-ADDRESS=ELPC – Ground Floor Lounge 116 S Highland Avenue Pittsburgh PA 15206 United States;X-APPLE-RADIUS=500;X-TITLE=116 S Highland Avenue:geo:-79.925503,40.461033
END:VEVENT
BEGIN:VEVENT
DTSTART;TZID=America/Halifax:20140726T170000
DTEND;TZID=America/Halifax:20140726T190000
DTSTAMP:20260425T133713
CREATED:20140520T015005Z
LAST-MODIFIED:20140520T015005Z
UID:10000784-1406394000-1406401200@cathedralofhope.org
SUMMARY:Spiritual Gathering
DESCRIPTION:All are welcome at this monthly gathering as we share food and fellowship as we explore the juncture of begin LGBTQ people and people of faith.  Among other things\, we will explore chapter 3 of Roger’s The Bible\, Jesus and Homosexuality.  This will be a potluck dinner\, please bring a side or dessert to share.
URL:https://cathedralofhope.org/event/spiritual-gathering-3/
LOCATION:PA
CATEGORIES:Church Life,LGBTQIA+
END:VEVENT
BEGIN:VEVENT
DTSTART;TZID=America/Halifax:20140615T110000
DTEND;TZID=America/Halifax:20140615T150000
DTSTAMP:20260425T133713
CREATED:20140509T003659Z
LAST-MODIFIED:20140509T003659Z
UID:10002345-1402830000-1402844400@cathedralofhope.org
SUMMARY:Pittsburgh Pridefest
DESCRIPTION:Each year ELPC members\, both LGBTQ and allies\, participate in the annual Pittsburgh Pride Festival in June to celebrate and support our LGBTQ sisters and brothers. On this date we will march in the parade at noon and will also host an information table for Pridefest participants to learn about ELPC and its ministries. See the bulletin board in the Highland hallway for more information or sign up in advance with Wil Forrest for a ride from ELPC after the 10am service.
URL:https://cathedralofhope.org/event/pittsburgh-pridefest/
LOCATION:Downtown Pittsburgh\, Pittsburgh\, PA\, United States
CATEGORIES:Church Life,Community,Featured Events,LGBTQIA+,Mission Activities,Special Events,Young Adult
GEO:40.4406248;-79.9958864
END:VEVENT
BEGIN:VEVENT
DTSTART;TZID=America/Halifax:20140607T150000
DTEND;TZID=America/Halifax:20140607T170000
DTSTAMP:20260425T133713
CREATED:20140510T162323Z
LAST-MODIFIED:20140510T162323Z
UID:10002396-1402153200-1402160400@cathedralofhope.org
SUMMARY:Spiritual Gathering
DESCRIPTION:All are welcome at this monthly gathering as we share food and fellowship as we explore the juncture of begin LGBTQ people and people of faith. Among other things\, we will explore chapter 2 of Roger’s The Bible\, Jesus and Homosexuality.
URL:https://cathedralofhope.org/event/spiritual-gathering-2/
LOCATION:ELPC – Ground Floor Lounge\, 116 S Highland Avenue\, Pittsburgh\, PA\, 15206\, United States
CATEGORIES:Church Life,LGBTQIA+
GEO:40.461033;-79.925503
X-APPLE-STRUCTURED-LOCATION;VALUE=URI;X-ADDRESS=ELPC – Ground Floor Lounge 116 S Highland Avenue Pittsburgh PA 15206 United States;X-APPLE-RADIUS=500;X-TITLE=116 S Highland Avenue:geo:-79.925503,40.461033
END:VEVENT
BEGIN:VEVENT
DTSTART;TZID=America/Halifax:20140601T113000
DTEND;TZID=America/Halifax:20140601T130000
DTSTAMP:20260425T133713
CREATED:20140510T161910Z
LAST-MODIFIED:20140510T161910Z
UID:10002394-1401622200-1401627600@cathedralofhope.org
SUMMARY:Business Meeting
DESCRIPTION:The members of the LGBTQ Ministry and allies gather for this monthly business meeting.  All are welcome.
URL:https://cathedralofhope.org/event/business-meeting/
LOCATION:ELPC – Pastor’s Conference Room\, 116 S Highland Avenue\, Pittsburgh\, PA\, 15206\, United States
CATEGORIES:Committee Meetings,LGBTQIA+
GEO:40.461033;-79.925503
X-APPLE-STRUCTURED-LOCATION;VALUE=URI;X-ADDRESS=ELPC – Pastor’s Conference Room 116 S Highland Avenue Pittsburgh PA 15206 United States;X-APPLE-RADIUS=500;X-TITLE=116 S Highland Avenue:geo:-79.925503,40.461033
END:VEVENT
BEGIN:VEVENT
DTSTART;TZID=America/Halifax:20140517T170000
DTEND;TZID=America/Halifax:20140517T190000
DTSTAMP:20260425T133713
CREATED:20140510T161456Z
LAST-MODIFIED:20140510T161456Z
UID:10002392-1400346000-1400353200@cathedralofhope.org
SUMMARY:Spiritual Gathering
DESCRIPTION:Come out for this monthly spiritual gathering of the LGBTQ Ministry members and allies.  During this time we will begin our exploration of Roger’s The Bible\, Jesus and Homosexuality with looking at chapter 1.  See Wil for your copy of the book.  We will share discussion\, fellowship and more.  All are welcome!!
URL:https://cathedralofhope.org/event/spiritual-gathering/
LOCATION:PA
CATEGORIES:Church Life,LGBTQIA+
END:VEVENT
BEGIN:VEVENT
DTSTART;TZID=America/Halifax:20140504T170000
DTEND;TZID=America/Halifax:20140504T190000
DTSTAMP:20260425T133713
CREATED:20140422T213038Z
LAST-MODIFIED:20140422T213038Z
UID:10002338-1399222800-1399230000@cathedralofhope.org
SUMMARY:LGBTQ Ministry Business Meeting
DESCRIPTION:All are welcome to join the discussion as we continue to plan the purpose and programs of the forming LGBTQ Ministry.
URL:https://cathedralofhope.org/event/lgbtq-ministry-business-meeting/
LOCATION:PA
CATEGORIES:Committee Meetings,LGBTQIA+
END:VEVENT
END:VCALENDAR