BEGIN:VCALENDAR
VERSION:2.0
PRODID:-//East Liberty Presbyterian Church - ECPv6.15.20//NONSGML v1.0//EN
CALSCALE:GREGORIAN
METHOD:PUBLISH
X-ORIGINAL-URL:https://cathedralofhope.org
X-WR-CALDESC:Events for East Liberty Presbyterian Church
REFRESH-INTERVAL;VALUE=DURATION:PT1H
X-Robots-Tag:noindex
X-PUBLISHED-TTL:PT1H
BEGIN:VTIMEZONE
TZID:America/Halifax
BEGIN:DAYLIGHT
TZOFFSETFROM:-0400
TZOFFSETTO:-0300
TZNAME:ADT
DTSTART:20130310T060000
END:DAYLIGHT
BEGIN:STANDARD
TZOFFSETFROM:-0300
TZOFFSETTO:-0400
TZNAME:AST
DTSTART:20131103T050000
END:STANDARD
BEGIN:DAYLIGHT
TZOFFSETFROM:-0400
TZOFFSETTO:-0300
TZNAME:ADT
DTSTART:20140309T060000
END:DAYLIGHT
BEGIN:STANDARD
TZOFFSETFROM:-0300
TZOFFSETTO:-0400
TZNAME:AST
DTSTART:20141102T050000
END:STANDARD
BEGIN:DAYLIGHT
TZOFFSETFROM:-0400
TZOFFSETTO:-0300
TZNAME:ADT
DTSTART:20150308T060000
END:DAYLIGHT
BEGIN:STANDARD
TZOFFSETFROM:-0300
TZOFFSETTO:-0400
TZNAME:AST
DTSTART:20151101T050000
END:STANDARD
END:VTIMEZONE
BEGIN:VEVENT
DTSTART;TZID=America/Halifax:20140726T170000
DTEND;TZID=America/Halifax:20140726T190000
DTSTAMP:20260425T145303
CREATED:20140520T015005Z
LAST-MODIFIED:20140520T015005Z
UID:10000784-1406394000-1406401200@cathedralofhope.org
SUMMARY:Spiritual Gathering
DESCRIPTION:All are welcome at this monthly gathering as we share food and fellowship as we explore the juncture of begin LGBTQ people and people of faith.  Among other things\, we will explore chapter 3 of Roger’s The Bible\, Jesus and Homosexuality.  This will be a potluck dinner\, please bring a side or dessert to share.
URL:https://cathedralofhope.org/event/spiritual-gathering-3/
LOCATION:PA
CATEGORIES:Church Life,LGBTQIA+
END:VEVENT
BEGIN:VEVENT
DTSTART;TZID=America/Halifax:20140615T110000
DTEND;TZID=America/Halifax:20140615T150000
DTSTAMP:20260425T145303
CREATED:20140509T003659Z
LAST-MODIFIED:20140509T003659Z
UID:10002345-1402830000-1402844400@cathedralofhope.org
SUMMARY:Pittsburgh Pridefest
DESCRIPTION:Each year ELPC members\, both LGBTQ and allies\, participate in the annual Pittsburgh Pride Festival in June to celebrate and support our LGBTQ sisters and brothers. On this date we will march in the parade at noon and will also host an information table for Pridefest participants to learn about ELPC and its ministries. See the bulletin board in the Highland hallway for more information or sign up in advance with Wil Forrest for a ride from ELPC after the 10am service.
URL:https://cathedralofhope.org/event/pittsburgh-pridefest/
LOCATION:Downtown Pittsburgh\, Pittsburgh\, PA\, United States
CATEGORIES:Church Life,Community,Featured Events,LGBTQIA+,Mission Activities,Special Events,Young Adult
GEO:40.4406248;-79.9958864
END:VEVENT
BEGIN:VEVENT
DTSTART;TZID=America/Halifax:20140607T150000
DTEND;TZID=America/Halifax:20140607T170000
DTSTAMP:20260425T145303
CREATED:20140510T162323Z
LAST-MODIFIED:20140510T162323Z
UID:10002396-1402153200-1402160400@cathedralofhope.org
SUMMARY:Spiritual Gathering
DESCRIPTION:All are welcome at this monthly gathering as we share food and fellowship as we explore the juncture of begin LGBTQ people and people of faith. Among other things\, we will explore chapter 2 of Roger’s The Bible\, Jesus and Homosexuality.
URL:https://cathedralofhope.org/event/spiritual-gathering-2/
LOCATION:ELPC – Ground Floor Lounge\, 116 S Highland Avenue\, Pittsburgh\, PA\, 15206\, United States
CATEGORIES:Church Life,LGBTQIA+
GEO:40.461033;-79.925503
X-APPLE-STRUCTURED-LOCATION;VALUE=URI;X-ADDRESS=ELPC – Ground Floor Lounge 116 S Highland Avenue Pittsburgh PA 15206 United States;X-APPLE-RADIUS=500;X-TITLE=116 S Highland Avenue:geo:-79.925503,40.461033
END:VEVENT
BEGIN:VEVENT
DTSTART;TZID=America/Halifax:20140601T113000
DTEND;TZID=America/Halifax:20140601T130000
DTSTAMP:20260425T145303
CREATED:20140510T161910Z
LAST-MODIFIED:20140510T161910Z
UID:10002394-1401622200-1401627600@cathedralofhope.org
SUMMARY:Business Meeting
DESCRIPTION:The members of the LGBTQ Ministry and allies gather for this monthly business meeting.  All are welcome.
URL:https://cathedralofhope.org/event/business-meeting/
LOCATION:ELPC – Pastor’s Conference Room\, 116 S Highland Avenue\, Pittsburgh\, PA\, 15206\, United States
CATEGORIES:Committee Meetings,LGBTQIA+
GEO:40.461033;-79.925503
X-APPLE-STRUCTURED-LOCATION;VALUE=URI;X-ADDRESS=ELPC – Pastor’s Conference Room 116 S Highland Avenue Pittsburgh PA 15206 United States;X-APPLE-RADIUS=500;X-TITLE=116 S Highland Avenue:geo:-79.925503,40.461033
END:VEVENT
BEGIN:VEVENT
DTSTART;TZID=America/Halifax:20140517T170000
DTEND;TZID=America/Halifax:20140517T190000
DTSTAMP:20260425T145303
CREATED:20140510T161456Z
LAST-MODIFIED:20140510T161456Z
UID:10002392-1400346000-1400353200@cathedralofhope.org
SUMMARY:Spiritual Gathering
DESCRIPTION:Come out for this monthly spiritual gathering of the LGBTQ Ministry members and allies.  During this time we will begin our exploration of Roger’s The Bible\, Jesus and Homosexuality with looking at chapter 1.  See Wil for your copy of the book.  We will share discussion\, fellowship and more.  All are welcome!!
URL:https://cathedralofhope.org/event/spiritual-gathering/
LOCATION:PA
CATEGORIES:Church Life,LGBTQIA+
END:VEVENT
BEGIN:VEVENT
DTSTART;TZID=America/Halifax:20140504T170000
DTEND;TZID=America/Halifax:20140504T190000
DTSTAMP:20260425T145303
CREATED:20140422T213038Z
LAST-MODIFIED:20140422T213038Z
UID:10002338-1399222800-1399230000@cathedralofhope.org
SUMMARY:LGBTQ Ministry Business Meeting
DESCRIPTION:All are welcome to join the discussion as we continue to plan the purpose and programs of the forming LGBTQ Ministry.
URL:https://cathedralofhope.org/event/lgbtq-ministry-business-meeting/
LOCATION:PA
CATEGORIES:Committee Meetings,LGBTQIA+
END:VEVENT
END:VCALENDAR