BEGIN:VCALENDAR
VERSION:2.0
PRODID:-//East Liberty Presbyterian Church - ECPv6.15.20//NONSGML v1.0//EN
CALSCALE:GREGORIAN
METHOD:PUBLISH
X-ORIGINAL-URL:https://cathedralofhope.org
X-WR-CALDESC:Events for East Liberty Presbyterian Church
REFRESH-INTERVAL;VALUE=DURATION:PT1H
X-Robots-Tag:noindex
X-PUBLISHED-TTL:PT1H
BEGIN:VTIMEZONE
TZID:America/New_York
BEGIN:DAYLIGHT
TZOFFSETFROM:-0500
TZOFFSETTO:-0400
TZNAME:EDT
DTSTART:20250309T070000
END:DAYLIGHT
BEGIN:STANDARD
TZOFFSETFROM:-0400
TZOFFSETTO:-0500
TZNAME:EST
DTSTART:20251102T060000
END:STANDARD
BEGIN:DAYLIGHT
TZOFFSETFROM:-0500
TZOFFSETTO:-0400
TZNAME:EDT
DTSTART:20260308T070000
END:DAYLIGHT
BEGIN:STANDARD
TZOFFSETFROM:-0400
TZOFFSETTO:-0500
TZNAME:EST
DTSTART:20261101T060000
END:STANDARD
BEGIN:DAYLIGHT
TZOFFSETFROM:-0500
TZOFFSETTO:-0400
TZNAME:EDT
DTSTART:20270314T070000
END:DAYLIGHT
BEGIN:STANDARD
TZOFFSETFROM:-0400
TZOFFSETTO:-0500
TZNAME:EST
DTSTART:20271107T060000
END:STANDARD
END:VTIMEZONE
BEGIN:VTIMEZONE
TZID:America/Halifax
BEGIN:DAYLIGHT
TZOFFSETFROM:-0400
TZOFFSETTO:-0300
TZNAME:ADT
DTSTART:20250309T060000
END:DAYLIGHT
BEGIN:STANDARD
TZOFFSETFROM:-0300
TZOFFSETTO:-0400
TZNAME:AST
DTSTART:20251102T050000
END:STANDARD
BEGIN:DAYLIGHT
TZOFFSETFROM:-0400
TZOFFSETTO:-0300
TZNAME:ADT
DTSTART:20260308T060000
END:DAYLIGHT
BEGIN:STANDARD
TZOFFSETFROM:-0300
TZOFFSETTO:-0400
TZNAME:AST
DTSTART:20261101T050000
END:STANDARD
BEGIN:DAYLIGHT
TZOFFSETFROM:-0400
TZOFFSETTO:-0300
TZNAME:ADT
DTSTART:20270314T060000
END:DAYLIGHT
BEGIN:STANDARD
TZOFFSETFROM:-0300
TZOFFSETTO:-0400
TZNAME:AST
DTSTART:20271107T050000
END:STANDARD
END:VTIMEZONE
BEGIN:VEVENT
DTSTART;TZID=America/New_York:20260426T120000
DTEND;TZID=America/New_York:20260426T170000
DTSTAMP:20260423T071136
CREATED:20260417T141215Z
LAST-MODIFIED:20260417T141215Z
UID:10007397-1777204800-1777222800@cathedralofhope.org
SUMMARY:Justice Committee Open Meeting
DESCRIPTION:The Justice Committee invites you to an in-person meeting following Sanctuary worship on Sunday\, April 26\, in Room 213. We have four primary focus areas: immigration and integration\, human safety and dignity\, environmental stewardship\, and full inclusion. Please join us to find out more about the work that the Justice Committee does and how you might participate. \nFor more info\, please contact Carol Chonoska at carolchonoska@gmail.com or 724.272.9722.
URL:https://cathedralofhope.org/event/justice-committee-open-meeting/
LOCATION:East Liberty Presbyterian Church\, 116 S. Highland Avenue\, Pittsburgh\, PA\, 15206\, United States
CATEGORIES:Featured Events,Mission Activities
GEO:40.4609708;-79.9253554
X-APPLE-STRUCTURED-LOCATION;VALUE=URI;X-ADDRESS=East Liberty Presbyterian Church 116 S. Highland Avenue Pittsburgh PA 15206 United States;X-APPLE-RADIUS=500;X-TITLE=116 S. Highland Avenue:geo:-79.9253554,40.4609708
END:VEVENT
BEGIN:VEVENT
DTSTART;TZID=America/Halifax:20260509T090000
DTEND;TZID=America/Halifax:20260509T120000
DTSTAMP:20260423T071136
CREATED:20240423T120034Z
LAST-MODIFIED:20260422T123920Z
UID:10002995-1778317200-1778328000@cathedralofhope.org
SUMMARY:Spring Planting Day
DESCRIPTION:Each spring\, a group of dedicated members and friends meet to refresh the Highland Ave entrance with beautiful flowering plants\, so it is vibrant and welcoming. This year\, we are gathering on Saturday\, May 9\, 9 am–12 pm\, and all are welcome! Green thumbs are not required. Just bring your energy\, curiosity\, and a pair of work gloves to the Highland driveway around 9 am. Hand tools\, gloves\, and donuts will be provided.  \nIn addition to planting flowers\, we will spend time cleaning up garbage and pulling a few weeds around the grounds. If you’re interested or have questions\, please call or text Don Breitbarth at 412.225.7649.
URL:https://cathedralofhope.org/event/spring-planting-day/
LOCATION:East Liberty Presbyterian Church\, 116 S. Highland Avenue\, Pittsburgh\, PA\, 15206\, United States
CATEGORIES:Featured Events,Mission Activities
ATTACH;FMTTYPE=image/png:https://cathedralofhope.org/wp-content/uploads/2024/04/img_spring-planting-1.png
GEO:40.4609708;-79.9253554
X-APPLE-STRUCTURED-LOCATION;VALUE=URI;X-ADDRESS=East Liberty Presbyterian Church 116 S. Highland Avenue Pittsburgh PA 15206 United States;X-APPLE-RADIUS=500;X-TITLE=116 S. Highland Avenue:geo:-79.9253554,40.4609708
END:VEVENT
END:VCALENDAR