BEGIN:VCALENDAR
VERSION:2.0
PRODID:-//East Liberty Presbyterian Church - ECPv6.15.20//NONSGML v1.0//EN
CALSCALE:GREGORIAN
METHOD:PUBLISH
X-WR-CALNAME:East Liberty Presbyterian Church
X-ORIGINAL-URL:https://cathedralofhope.org
X-WR-CALDESC:Events for East Liberty Presbyterian Church
REFRESH-INTERVAL;VALUE=DURATION:PT1H
X-Robots-Tag:noindex
X-PUBLISHED-TTL:PT1H
BEGIN:VTIMEZONE
TZID:America/New_York
BEGIN:DAYLIGHT
TZOFFSETFROM:-0500
TZOFFSETTO:-0400
TZNAME:EDT
DTSTART:20190310T070000
END:DAYLIGHT
BEGIN:STANDARD
TZOFFSETFROM:-0400
TZOFFSETTO:-0500
TZNAME:EST
DTSTART:20191103T060000
END:STANDARD
BEGIN:DAYLIGHT
TZOFFSETFROM:-0500
TZOFFSETTO:-0400
TZNAME:EDT
DTSTART:20200308T070000
END:DAYLIGHT
BEGIN:STANDARD
TZOFFSETFROM:-0400
TZOFFSETTO:-0500
TZNAME:EST
DTSTART:20201101T060000
END:STANDARD
BEGIN:DAYLIGHT
TZOFFSETFROM:-0500
TZOFFSETTO:-0400
TZNAME:EDT
DTSTART:20210314T070000
END:DAYLIGHT
BEGIN:STANDARD
TZOFFSETFROM:-0400
TZOFFSETTO:-0500
TZNAME:EST
DTSTART:20211107T060000
END:STANDARD
BEGIN:DAYLIGHT
TZOFFSETFROM:-0500
TZOFFSETTO:-0400
TZNAME:EDT
DTSTART:20220313T070000
END:DAYLIGHT
BEGIN:STANDARD
TZOFFSETFROM:-0400
TZOFFSETTO:-0500
TZNAME:EST
DTSTART:20221106T060000
END:STANDARD
BEGIN:DAYLIGHT
TZOFFSETFROM:-0500
TZOFFSETTO:-0400
TZNAME:EDT
DTSTART:20230312T070000
END:DAYLIGHT
BEGIN:STANDARD
TZOFFSETFROM:-0400
TZOFFSETTO:-0500
TZNAME:EST
DTSTART:20231105T060000
END:STANDARD
BEGIN:DAYLIGHT
TZOFFSETFROM:-0500
TZOFFSETTO:-0400
TZNAME:EDT
DTSTART:20240310T070000
END:DAYLIGHT
BEGIN:STANDARD
TZOFFSETFROM:-0400
TZOFFSETTO:-0500
TZNAME:EST
DTSTART:20241103T060000
END:STANDARD
BEGIN:DAYLIGHT
TZOFFSETFROM:-0500
TZOFFSETTO:-0400
TZNAME:EDT
DTSTART:20250309T070000
END:DAYLIGHT
BEGIN:STANDARD
TZOFFSETFROM:-0400
TZOFFSETTO:-0500
TZNAME:EST
DTSTART:20251102T060000
END:STANDARD
BEGIN:DAYLIGHT
TZOFFSETFROM:-0500
TZOFFSETTO:-0400
TZNAME:EDT
DTSTART:20260308T070000
END:DAYLIGHT
BEGIN:STANDARD
TZOFFSETFROM:-0400
TZOFFSETTO:-0500
TZNAME:EST
DTSTART:20261101T060000
END:STANDARD
END:VTIMEZONE
BEGIN:VEVENT
DTSTART;TZID=America/New_York:20251016T180000
DTEND;TZID=America/New_York:20251016T200000
DTSTAMP:20260423T071222
CREATED:20251001T190448Z
LAST-MODIFIED:20251002T102645Z
UID:10006794-1760637600-1760644800@cathedralofhope.org
SUMMARY:Reflections of Healing: Domestic Violence Awareness Through Art
DESCRIPTION:October is Domestic Violence Awareness Month. On Thursday\, October 16\, 6–8 pm\, the Carnegie Museum of Art is sponsoring a lecture called\, Reflections of Healing: Domestic Violence Awareness Through Art. ELPC member\, Nicole Molinaro\, President/CEO of the Women’s Center & Shelter of Greater Pittsburgh will be presenting\, Creative Trauma-informed Care in Domestic Violence Healing and Awareness\, followed by the launch of Reflections of Healing\, a contemplative tour of artworks at The Carnegie Museum of Art with reflective prompts that share the cycle of domestic abuse while creating space for creative healing. \nThe Justice Committee encourages you to attend this event and learn more about the pervasive issue of abuse and how we can empower survivors by breaking the silence that often surrounds their experiences. The event is free\, but registration is required. \nREAD MORE & REGISTER
URL:https://cathedralofhope.org/event/reflections-of-healing-domestic-violence-awareness-through-art/
CATEGORIES:Community,Mission Activities,Mission Month
ATTACH;FMTTYPE=image/jpeg:https://cathedralofhope.org/wp-content/uploads/2025/10/img_domestic-violence-awareness-through-art.jpg
END:VEVENT
BEGIN:VEVENT
DTSTART;TZID=America/New_York:20221026T170000
DTEND;TZID=America/New_York:20221026T183000
DTSTAMP:20260423T071222
CREATED:20221018T163845Z
LAST-MODIFIED:20221018T164457Z
UID:10006758-1666803600-1666809000@cathedralofhope.org
SUMMARY:Forging a Better Future\, for All
DESCRIPTION:On Wednesday\, October 26\, 5 pm\, Dr. Joylette Portlock\, executive director of Sustainable Pittsburgh\, will give a zoom talk\, titled “Forging a Better Future\, for All\,” sponsored by the Social Justice and Outreach Committee and the Commission on Race and Reconciliation of the Episcopal Diocese of Pittsburgh. \nUnder Dr. Portlock’s leadership\, Sustainable Pittsburgh regularly works with hundreds of partners in the region—including local governments\, nonprofits\, and the business community—to ensure that our economy is built to last and our people and our planet thrive. Dr. Portlock has been associate director of Science and Research at the Carnegie Museum of Natural History\, and—among many other current positions—is an advisory board member of the Black Environmental Collective. She holds a bachelor’s degree in biology and anthropology from MIT and a PH.D. in genetics from Stanford. \nHer talk will deal with moving from environmental racism to environmental justice. \nFor more information\, contact Marianne Novy. Join the discussion via Zoom by clicking the button below. Enter meeting ID 864 1179 4777 and passcode 351255 if prompted. \nJoin via Zoom
URL:https://cathedralofhope.org/event/forging-a-better-future-for-all/
CATEGORIES:Featured Events,Mission Activities,Mission Month
END:VEVENT
BEGIN:VEVENT
DTSTART;TZID=America/New_York:20221009T120000
DTEND;TZID=America/New_York:20221009T130000
DTSTAMP:20260423T071222
CREATED:20220928T170512Z
LAST-MODIFIED:20220928T170512Z
UID:10006450-1665316800-1665320400@cathedralofhope.org
SUMMARY:Register to Vote
DESCRIPTION:In partnership with the League of Women Voters\, the ELPC Justice and Facing Systemic Racism Committees are sponsoring three opportunities for citizens to: \n\nRegister as new voter;\nAssure registration is still active;\nDouble check polling location;\nMake changes to current voting status (name\, address\, affiliation);\nObtain website info to apply for electronic voting\, etc.; and\nDevelop voting plan.\n\nThese opportunities are open to the public and will follow our Taizé prayer service on Wednesday\, October 5\, and both services on Sunday\, October 9. Join us in the Whitfield Lounge after Journey worship\, or along Penn Ave. following Sanctuary worship.
URL:https://cathedralofhope.org/event/register-to-vote/2022-10-09/2/
LOCATION:East Liberty Presbyterian Church\, 116 S. Highland Avenue\, Pittsburgh\, PA\, 15206\, United States
CATEGORIES:Featured Events,Mission Activities,Mission Month
GEO:40.4609708;-79.9253554
X-APPLE-STRUCTURED-LOCATION;VALUE=URI;X-ADDRESS=East Liberty Presbyterian Church 116 S. Highland Avenue Pittsburgh PA 15206 United States;X-APPLE-RADIUS=500;X-TITLE=116 S. Highland Avenue:geo:-79.9253554,40.4609708
END:VEVENT
BEGIN:VEVENT
DTSTART;TZID=America/New_York:20221009T094500
DTEND;TZID=America/New_York:20221009T110000
DTSTAMP:20260423T071222
CREATED:20220928T170512Z
LAST-MODIFIED:20220928T170512Z
UID:10006449-1665308700-1665313200@cathedralofhope.org
SUMMARY:Register to Vote
DESCRIPTION:In partnership with the League of Women Voters\, the ELPC Justice and Facing Systemic Racism Committees are sponsoring three opportunities for citizens to: \n\nRegister as new voter;\nAssure registration is still active;\nDouble check polling location;\nMake changes to current voting status (name\, address\, affiliation);\nObtain website info to apply for electronic voting\, etc.; and\nDevelop voting plan.\n\nThese opportunities are open to the public and will follow our Taizé prayer service on Wednesday\, October 5\, and both services on Sunday\, October 9. Join us in the Whitfield Lounge after Journey worship\, or along Penn Ave. following Sanctuary worship.
URL:https://cathedralofhope.org/event/register-to-vote/2022-10-09/1/
LOCATION:East Liberty Presbyterian Church\, 116 S. Highland Avenue\, Pittsburgh\, PA\, 15206\, United States
CATEGORIES:Featured Events,Mission Activities,Mission Month
GEO:40.4609708;-79.9253554
X-APPLE-STRUCTURED-LOCATION;VALUE=URI;X-ADDRESS=East Liberty Presbyterian Church 116 S. Highland Avenue Pittsburgh PA 15206 United States;X-APPLE-RADIUS=500;X-TITLE=116 S. Highland Avenue:geo:-79.9253554,40.4609708
END:VEVENT
BEGIN:VEVENT
DTSTART;TZID=America/New_York:20221005T200000
DTEND;TZID=America/New_York:20221005T210000
DTSTAMP:20260423T071222
CREATED:20220928T170512Z
LAST-MODIFIED:20220928T170512Z
UID:10006448-1665000000-1665003600@cathedralofhope.org
SUMMARY:Register to Vote
DESCRIPTION:In partnership with the League of Women Voters\, the ELPC Justice and Facing Systemic Racism Committees are sponsoring three opportunities for citizens to: \n\nRegister as new voter;\nAssure registration is still active;\nDouble check polling location;\nMake changes to current voting status (name\, address\, affiliation);\nObtain website info to apply for electronic voting\, etc.; and\nDevelop voting plan.\n\nThese opportunities are open to the public and will follow our Taizé prayer service on Wednesday\, October 5\, and both services on Sunday\, October 9. Join us in the Whitfield Lounge after Journey worship\, or along Penn Ave. following Sanctuary worship.
URL:https://cathedralofhope.org/event/register-to-vote/2022-10-05/
LOCATION:East Liberty Presbyterian Church\, 116 S. Highland Avenue\, Pittsburgh\, PA\, 15206\, United States
CATEGORIES:Featured Events,Mission Activities,Mission Month
GEO:40.4609708;-79.9253554
X-APPLE-STRUCTURED-LOCATION;VALUE=URI;X-ADDRESS=East Liberty Presbyterian Church 116 S. Highland Avenue Pittsburgh PA 15206 United States;X-APPLE-RADIUS=500;X-TITLE=116 S. Highland Avenue:geo:-79.9253554,40.4609708
END:VEVENT
BEGIN:VEVENT
DTSTART;TZID=America/New_York:20220926T080000
DTEND;TZID=America/New_York:20220926T170000
DTSTAMP:20260423T071222
CREATED:20220926T155445Z
LAST-MODIFIED:20220926T155445Z
UID:10006777-1664179200-1664211600@cathedralofhope.org
SUMMARY:2023 WMI Conference
DESCRIPTION:What does it mean to engage in God’s mission of love\, peace\, and justice through the major disruptions of our day? How can we lead in mission in new ways amidst such disruption? \nJoin us Friday–Saturday\, October 7–8\, in person or online\, as we explore these questions in lectures\, workshops and plenary. The Rev. Eugene E. Cho\, president/CEO of Bread for the World\, will be the keynote speaker on Friday evening. \nThe conference is free\, thanks to sponsors\, including Presbyterian Women in ELPC. Registration is required. For details\, visit pts.edu/wmi-conference.
URL:https://cathedralofhope.org/event/2023-wmi-conference/
CATEGORIES:Featured Events,Mission Activities,Mission Month,Presbyterian Women
ATTACH;FMTTYPE=image/jpeg:https://cathedralofhope.org/wp-content/uploads/2022/09/WMI-2022-Conference-Postcard-scaled.jpg
END:VEVENT
BEGIN:VEVENT
DTSTART;TZID=America/New_York:20211031T094500
DTEND;TZID=America/New_York:20211031T104500
DTSTAMP:20260423T071222
CREATED:20210929T125207Z
LAST-MODIFIED:20211029T142027Z
UID:10007317-1635673500-1635677100@cathedralofhope.org
SUMMARY:The Role of Educators in Affirming Racial Identity
DESCRIPTION:Critical Race Theory in schools is a hot-button topic today. Not long ago\, it was bussing Black kids into white neighborhoods. Before that\, it was school segregation. The topics of race and education are—and have always been—inextricably intertwined. So\, let’s talk about it! Let’s discuss the connections. Let’s discuss the problems. And let’s discuss the future and how to make it better. \nJoin the Facing Systemic Racism Committee during the Church School hour on Sunday\, October 31\, for an intergenerational conversation through story. Dr. Beverly Harris-Schenz will share a personal vignette that addresses the intersection of race and education. Dr. Linda Lane will help facilitate a discussion about why this personal recollection from Dr. Harris-Schenz’s youth is relevant to each of us today. \nIf you are interested in learning more about racial identity in the classroom from the lived perspective of Dr. Beverly Harris-Schenz\, join the Facing Systemic Racism Committee for this vignette on race. \nClick the button below to join via Zoom\, or call 301.715.8592 and enter meeting ID 810 5099 0117. Please note\, this link is different than the one used for your normal Church School class. \nJOIN VIA ZOOM
URL:https://cathedralofhope.org/event/educators-role-in-affirming-racial-identity/
LOCATION:East Liberty Presbyterian Church\, 116 S. Highland Avenue\, Pittsburgh\, PA\, 15206\, United States
CATEGORIES:Community,Educational & Spiritual Life,Featured Events,Mission Activities,Mission Month
ATTACH;FMTTYPE=image/jpeg:https://cathedralofhope.org/wp-content/uploads/2021/05/FSR-vignette.jpg
GEO:40.4609708;-79.9253554
X-APPLE-STRUCTURED-LOCATION;VALUE=URI;X-ADDRESS=East Liberty Presbyterian Church 116 S. Highland Avenue Pittsburgh PA 15206 United States;X-APPLE-RADIUS=500;X-TITLE=116 S. Highland Avenue:geo:-79.9253554,40.4609708
END:VEVENT
BEGIN:VEVENT
DTSTART;TZID=America/New_York:20211017T123000
DTEND;TZID=America/New_York:20211017T140000
DTSTAMP:20260423T071222
CREATED:20210929T124946Z
LAST-MODIFIED:20211013T141751Z
UID:10007316-1634473800-1634479200@cathedralofhope.org
SUMMARY:A Conversation on Critical Race Theory
DESCRIPTION:One of the Facing Systemic Racism Committee’s roles is to inform the congregation of current issues regarding race. This month\, we are pleased to present an online conversation on Critical Race Theory (CRT)\, which has come to the forefront of the racial issues in our country. We will provide an opportunity to learn more about the origin of CRT\, what it is\, and how it became such an issue—especially in K–12 education. \nOn Sunday\, October 17\, 12:30 pm\, we are honored to have a keynote speaker\, Dr. James Phillip Huguley\, associate dean for Diversity\, Equity\, and Inclusion and associate professor at the School of Social Work\, University of Pittsburgh\, and a panel of our own ELPC educators who represent early childhood through higher education. They will discuss what CRT is\, what it is not\, and what the implications are for public school education. The keynote and the panel will be followed by a Q&A session. \nWe look forward to your participation. \nClick the button below to join via Zoom\, or call 301.715.8592 and enter meeting ID 892 1999 1165 and passcode 880908. \nJOIN VIA ZOOM
URL:https://cathedralofhope.org/event/a-conversation-on-critical-race-theory/
CATEGORIES:Community,Featured Events,Mission Activities,Mission Month
ATTACH;FMTTYPE=image/jpeg:https://cathedralofhope.org/wp-content/uploads/2021/09/Dr.-James-Phillip-Huguley.jpg
END:VEVENT
BEGIN:VEVENT
DTSTART;TZID=America/New_York:20201025T121500
DTEND;TZID=America/New_York:20201025T134500
DTSTAMP:20260423T071222
CREATED:20200922T130936Z
LAST-MODIFIED:20201013T125941Z
UID:10006409-1603628100-1603633500@cathedralofhope.org
SUMMARY:Justice: Systemic Racism in the Form of Cash Bail
DESCRIPTION:Cash bail is assigned by a judge or magistrate after a person is arrested for an alleged crime. It is designed to ensure that a person will show up for their court hearing\, as persons who cannot pay bail are held in jail until their hearing. How does cash bail further systemic racism in our criminal justice system? What role does cash bail play in Allegheny County? In what ways can we interrupt this system? How can we eliminate cash bail without replacing it with another form of systemic racism? What is our response as Christians? We will examine information from the ACLU\, Bukit Bail Fund\, community efforts\, and cities that have eliminated cash bail. \nParticipate at Zoom.us/join or call 929.205.6099\, and enter Meeting ID 827 8715 9714 when prompted.
URL:https://cathedralofhope.org/event/justice-systemic-racism-in-the-form-of-cash-bail/
CATEGORIES:Mission Month
END:VEVENT
BEGIN:VEVENT
DTSTART;TZID=America/New_York:20201018T121500
DTEND;TZID=America/New_York:20201018T134500
DTSTAMP:20260423T071222
CREATED:20200922T130833Z
LAST-MODIFIED:20201001T130506Z
UID:10006408-1603023300-1603028700@cathedralofhope.org
SUMMARY:Confronting Confederate Symbols
DESCRIPTION:In many U.S. cities and communities\, people have come together to demand the dismantling of Confederate symbols. Some say these symbols celebrate heritage and history. For others\, they are negative reminders of “America’s Original Sin.” Join us as the Peace Committee and other members discuss the Confederate symbol in our midst\, disclose the history behind its inclusion in our church’s design\, and suggest ways we can address its removal (or not). \nParticipate at Zoom.us/join or call 929.205.6099\, and enter Meeting ID 827 8715 9714 when prompted.
URL:https://cathedralofhope.org/event/confronting-confederate-symbols/
CATEGORIES:Featured Events,Mission Activities,Mission Month
END:VEVENT
BEGIN:VEVENT
DTSTART;TZID=America/New_York:20201011T121500
DTEND;TZID=America/New_York:20201011T134500
DTSTAMP:20260423T071222
CREATED:20200922T130730Z
LAST-MODIFIED:20201001T130509Z
UID:10006407-1602418500-1602423900@cathedralofhope.org
SUMMARY:Affordable Housing in the East End
DESCRIPTION:Please join us as the Neighbors Committee presents Becky Gloninger. Becky will give us an update on the families from East Liberty Gardens and future plans for even more affordable housing in East Liberty\, as well as explore ways we can potentially walk with and help our neighbors who are in jeopardy of eviction. \nParticipate at Zoom.us/join or call 929.205.6099\, and enter Meeting ID 827 8715 9714 when prompted.
URL:https://cathedralofhope.org/event/affordable-housing-in-the-east-end/
CATEGORIES:Featured Events,Mission Activities,Mission Month
END:VEVENT
BEGIN:VEVENT
DTSTART;TZID=America/New_York:20201004T121500
DTEND;TZID=America/New_York:20201004T134500
DTSTAMP:20260423T071222
CREATED:20200922T130627Z
LAST-MODIFIED:20201001T130422Z
UID:10006406-1601813700-1601819100@cathedralofhope.org
SUMMARY:So\, Let’s Talk
DESCRIPTION:As a Matthew 25 church\, the Mission Board of ELPC invites you to the next program in our work of dismantling structural racism: So\, Let’s Talk. To understand others\, we are told “to walk a mile in their shoes.” We hope that reading and discussing the story of “Routine Traffic Stop” (based on an experience and written by ELPC member\, Beverly Harris-Schenz) will help others “learn about the shoes” that many Black siblings walk in daily. \nJoin us on Saturday\, October 3\, 5–6:30 pm\, and/or Sunday\, October 4\, 12:15 pm. \nParticipate at Zoom.us/join or call 929.205.6099\, and enter Meeting ID 827 8715 9714 when prompted.
URL:https://cathedralofhope.org/event/so-lets-talk/2020-10-04/
CATEGORIES:Featured Events,Mission Activities,Mission Month
END:VEVENT
BEGIN:VEVENT
DTSTART;TZID=America/New_York:20201003T170000
DTEND;TZID=America/New_York:20201003T183000
DTSTAMP:20260423T071222
CREATED:20200922T130627Z
LAST-MODIFIED:20201001T130422Z
UID:10006405-1601744400-1601749800@cathedralofhope.org
SUMMARY:So\, Let’s Talk
DESCRIPTION:As a Matthew 25 church\, the Mission Board of ELPC invites you to the next program in our work of dismantling structural racism: So\, Let’s Talk. To understand others\, we are told “to walk a mile in their shoes.” We hope that reading and discussing the story of “Routine Traffic Stop” (based on an experience and written by ELPC member\, Beverly Harris-Schenz) will help others “learn about the shoes” that many Black siblings walk in daily. \nJoin us on Saturday\, October 3\, 5–6:30 pm\, and/or Sunday\, October 4\, 12:15 pm. \nParticipate at Zoom.us/join or call 929.205.6099\, and enter Meeting ID 827 8715 9714 when prompted.
URL:https://cathedralofhope.org/event/so-lets-talk/2020-10-03/
CATEGORIES:Featured Events,Mission Activities,Mission Month
END:VEVENT
END:VCALENDAR