BEGIN:VCALENDAR
VERSION:2.0
PRODID:-//East Liberty Presbyterian Church - ECPv6.15.20//NONSGML v1.0//EN
CALSCALE:GREGORIAN
METHOD:PUBLISH
X-ORIGINAL-URL:https://cathedralofhope.org
X-WR-CALDESC:Events for East Liberty Presbyterian Church
REFRESH-INTERVAL;VALUE=DURATION:PT1H
X-Robots-Tag:noindex
X-PUBLISHED-TTL:PT1H
BEGIN:VTIMEZONE
TZID:America/Halifax
BEGIN:DAYLIGHT
TZOFFSETFROM:-0400
TZOFFSETTO:-0300
TZNAME:ADT
DTSTART:20240310T060000
END:DAYLIGHT
BEGIN:STANDARD
TZOFFSETFROM:-0300
TZOFFSETTO:-0400
TZNAME:AST
DTSTART:20241103T050000
END:STANDARD
BEGIN:DAYLIGHT
TZOFFSETFROM:-0400
TZOFFSETTO:-0300
TZNAME:ADT
DTSTART:20250309T060000
END:DAYLIGHT
BEGIN:STANDARD
TZOFFSETFROM:-0300
TZOFFSETTO:-0400
TZNAME:AST
DTSTART:20251102T050000
END:STANDARD
BEGIN:DAYLIGHT
TZOFFSETFROM:-0400
TZOFFSETTO:-0300
TZNAME:ADT
DTSTART:20260308T060000
END:DAYLIGHT
BEGIN:STANDARD
TZOFFSETFROM:-0300
TZOFFSETTO:-0400
TZNAME:AST
DTSTART:20261101T050000
END:STANDARD
END:VTIMEZONE
BEGIN:VEVENT
DTSTART;TZID=America/Halifax:20251104T180000
DTEND;TZID=America/Halifax:20251104T190000
DTSTAMP:20260425T151109
CREATED:20250923T191055Z
LAST-MODIFIED:20250923T191055Z
UID:10006224-1762279200-1762282800@cathedralofhope.org
SUMMARY:ELPC Ringers Rehearsal
DESCRIPTION:The ELPC Ringers rehearse on Tuesdays\, 6–7 pm\, in Dr. Ed Moore’s office and rings periodically throughout the year at our Sanctuary worship service on Sundays at 11 am. We ring on a four-octave set of Schulmerich handbells. \nPlease contact Dr. Ed Moore for more information on joining the ELPC Ringers.
URL:https://cathedralofhope.org/event/elpc-ringers-rehearsal-2/2025-11-04/
LOCATION:East Liberty Presbyterian Church\, 116 S. Highland Avenue\, Pittsburgh\, PA\, 15206\, United States
CATEGORIES:Church Life,Music
ATTACH;FMTTYPE=image/jpeg:https://cathedralofhope.org/wp-content/uploads/2018/08/C571072C-EC0E-4F73-B136-404F76BC55FC_1_105_c.jpeg
GEO:40.4609708;-79.9253554
X-APPLE-STRUCTURED-LOCATION;VALUE=URI;X-ADDRESS=East Liberty Presbyterian Church 116 S. Highland Avenue Pittsburgh PA 15206 United States;X-APPLE-RADIUS=500;X-TITLE=116 S. Highland Avenue:geo:-79.9253554,40.4609708
END:VEVENT
BEGIN:VEVENT
DTSTART;TZID=America/Halifax:20251106T173000
DTEND;TZID=America/Halifax:20251106T183000
DTSTAMP:20260425T151109
CREATED:20190825T142813Z
LAST-MODIFIED:20260127T200229Z
UID:10000674-1762450200-1762453800@cathedralofhope.org
SUMMARY:Journey Praise Team Rehearsal
DESCRIPTION:The Journey Praise Team rehearses in the Chapel on Thursdays\, 5:30 pm\, and leads the Journey worship service on Sundays\, 8:45 am. \nGerald Savage\, ELPC’s Journey music director\, leads the Journey Praise Team.
URL:https://cathedralofhope.org/event/journey-praise-team-rehearsal/2025-11-06/
LOCATION:ELPC – Music Room\, 116 South Highland Avenue\, Pittsburgh\, PA\, 15206\, United States
CATEGORIES:Church Life,Music
ATTACH;FMTTYPE=image/jpeg:https://cathedralofhope.org/wp-content/uploads/2017/08/20181111_pittsburgh-8121.jpg
GEO:40.461033;-79.925503
X-APPLE-STRUCTURED-LOCATION;VALUE=URI;X-ADDRESS=ELPC – Music Room 116 South Highland Avenue Pittsburgh PA 15206 United States;X-APPLE-RADIUS=500;X-TITLE=116 South Highland Avenue:geo:-79.925503,40.461033
END:VEVENT
BEGIN:VEVENT
DTSTART;TZID=America/Halifax:20251111T180000
DTEND;TZID=America/Halifax:20251111T190000
DTSTAMP:20260425T151109
CREATED:20250923T191055Z
LAST-MODIFIED:20250923T191055Z
UID:10006225-1762884000-1762887600@cathedralofhope.org
SUMMARY:ELPC Ringers Rehearsal
DESCRIPTION:The ELPC Ringers rehearse on Tuesdays\, 6–7 pm\, in Dr. Ed Moore’s office and rings periodically throughout the year at our Sanctuary worship service on Sundays at 11 am. We ring on a four-octave set of Schulmerich handbells. \nPlease contact Dr. Ed Moore for more information on joining the ELPC Ringers.
URL:https://cathedralofhope.org/event/elpc-ringers-rehearsal-2/2025-11-11/
LOCATION:East Liberty Presbyterian Church\, 116 S. Highland Avenue\, Pittsburgh\, PA\, 15206\, United States
CATEGORIES:Church Life,Music
ATTACH;FMTTYPE=image/jpeg:https://cathedralofhope.org/wp-content/uploads/2018/08/C571072C-EC0E-4F73-B136-404F76BC55FC_1_105_c.jpeg
GEO:40.4609708;-79.9253554
X-APPLE-STRUCTURED-LOCATION;VALUE=URI;X-ADDRESS=East Liberty Presbyterian Church 116 S. Highland Avenue Pittsburgh PA 15206 United States;X-APPLE-RADIUS=500;X-TITLE=116 S. Highland Avenue:geo:-79.9253554,40.4609708
END:VEVENT
BEGIN:VEVENT
DTSTART;TZID=America/Halifax:20251113T173000
DTEND;TZID=America/Halifax:20251113T183000
DTSTAMP:20260425T151109
CREATED:20190825T142813Z
LAST-MODIFIED:20260127T200229Z
UID:10000675-1763055000-1763058600@cathedralofhope.org
SUMMARY:Journey Praise Team Rehearsal
DESCRIPTION:The Journey Praise Team rehearses in the Chapel on Thursdays\, 5:30 pm\, and leads the Journey worship service on Sundays\, 8:45 am. \nGerald Savage\, ELPC’s Journey music director\, leads the Journey Praise Team.
URL:https://cathedralofhope.org/event/journey-praise-team-rehearsal/2025-11-13/
LOCATION:ELPC – Music Room\, 116 South Highland Avenue\, Pittsburgh\, PA\, 15206\, United States
CATEGORIES:Church Life,Music
ATTACH;FMTTYPE=image/jpeg:https://cathedralofhope.org/wp-content/uploads/2017/08/20181111_pittsburgh-8121.jpg
GEO:40.461033;-79.925503
X-APPLE-STRUCTURED-LOCATION;VALUE=URI;X-ADDRESS=ELPC – Music Room 116 South Highland Avenue Pittsburgh PA 15206 United States;X-APPLE-RADIUS=500;X-TITLE=116 South Highland Avenue:geo:-79.925503,40.461033
END:VEVENT
BEGIN:VEVENT
DTSTART;TZID=America/Halifax:20251118T180000
DTEND;TZID=America/Halifax:20251118T190000
DTSTAMP:20260425T151109
CREATED:20250923T191055Z
LAST-MODIFIED:20250923T191055Z
UID:10006226-1763488800-1763492400@cathedralofhope.org
SUMMARY:ELPC Ringers Rehearsal
DESCRIPTION:The ELPC Ringers rehearse on Tuesdays\, 6–7 pm\, in Dr. Ed Moore’s office and rings periodically throughout the year at our Sanctuary worship service on Sundays at 11 am. We ring on a four-octave set of Schulmerich handbells. \nPlease contact Dr. Ed Moore for more information on joining the ELPC Ringers.
URL:https://cathedralofhope.org/event/elpc-ringers-rehearsal-2/2025-11-18/
LOCATION:East Liberty Presbyterian Church\, 116 S. Highland Avenue\, Pittsburgh\, PA\, 15206\, United States
CATEGORIES:Church Life,Music
ATTACH;FMTTYPE=image/jpeg:https://cathedralofhope.org/wp-content/uploads/2018/08/C571072C-EC0E-4F73-B136-404F76BC55FC_1_105_c.jpeg
GEO:40.4609708;-79.9253554
X-APPLE-STRUCTURED-LOCATION;VALUE=URI;X-ADDRESS=East Liberty Presbyterian Church 116 S. Highland Avenue Pittsburgh PA 15206 United States;X-APPLE-RADIUS=500;X-TITLE=116 S. Highland Avenue:geo:-79.9253554,40.4609708
END:VEVENT
BEGIN:VEVENT
DTSTART;TZID=America/Halifax:20251120T173000
DTEND;TZID=America/Halifax:20251120T183000
DTSTAMP:20260425T151109
CREATED:20190825T142813Z
LAST-MODIFIED:20260127T200229Z
UID:10000676-1763659800-1763663400@cathedralofhope.org
SUMMARY:Journey Praise Team Rehearsal
DESCRIPTION:The Journey Praise Team rehearses in the Chapel on Thursdays\, 5:30 pm\, and leads the Journey worship service on Sundays\, 8:45 am. \nGerald Savage\, ELPC’s Journey music director\, leads the Journey Praise Team.
URL:https://cathedralofhope.org/event/journey-praise-team-rehearsal/2025-11-20/
LOCATION:ELPC – Music Room\, 116 South Highland Avenue\, Pittsburgh\, PA\, 15206\, United States
CATEGORIES:Church Life,Music
ATTACH;FMTTYPE=image/jpeg:https://cathedralofhope.org/wp-content/uploads/2017/08/20181111_pittsburgh-8121.jpg
GEO:40.461033;-79.925503
X-APPLE-STRUCTURED-LOCATION;VALUE=URI;X-ADDRESS=ELPC – Music Room 116 South Highland Avenue Pittsburgh PA 15206 United States;X-APPLE-RADIUS=500;X-TITLE=116 South Highland Avenue:geo:-79.925503,40.461033
END:VEVENT
BEGIN:VEVENT
DTSTART;TZID=America/Halifax:20251125T180000
DTEND;TZID=America/Halifax:20251125T190000
DTSTAMP:20260425T151109
CREATED:20250923T191055Z
LAST-MODIFIED:20250923T191055Z
UID:10006227-1764093600-1764097200@cathedralofhope.org
SUMMARY:ELPC Ringers Rehearsal
DESCRIPTION:The ELPC Ringers rehearse on Tuesdays\, 6–7 pm\, in Dr. Ed Moore’s office and rings periodically throughout the year at our Sanctuary worship service on Sundays at 11 am. We ring on a four-octave set of Schulmerich handbells. \nPlease contact Dr. Ed Moore for more information on joining the ELPC Ringers.
URL:https://cathedralofhope.org/event/elpc-ringers-rehearsal-2/2025-11-25/
LOCATION:East Liberty Presbyterian Church\, 116 S. Highland Avenue\, Pittsburgh\, PA\, 15206\, United States
CATEGORIES:Church Life,Music
ATTACH;FMTTYPE=image/jpeg:https://cathedralofhope.org/wp-content/uploads/2018/08/C571072C-EC0E-4F73-B136-404F76BC55FC_1_105_c.jpeg
GEO:40.4609708;-79.9253554
X-APPLE-STRUCTURED-LOCATION;VALUE=URI;X-ADDRESS=East Liberty Presbyterian Church 116 S. Highland Avenue Pittsburgh PA 15206 United States;X-APPLE-RADIUS=500;X-TITLE=116 S. Highland Avenue:geo:-79.9253554,40.4609708
END:VEVENT
BEGIN:VEVENT
DTSTART;TZID=America/Halifax:20251127T173000
DTEND;TZID=America/Halifax:20251127T183000
DTSTAMP:20260425T151109
CREATED:20190825T142813Z
LAST-MODIFIED:20260127T200229Z
UID:10000677-1764264600-1764268200@cathedralofhope.org
SUMMARY:Journey Praise Team Rehearsal
DESCRIPTION:The Journey Praise Team rehearses in the Chapel on Thursdays\, 5:30 pm\, and leads the Journey worship service on Sundays\, 8:45 am. \nGerald Savage\, ELPC’s Journey music director\, leads the Journey Praise Team.
URL:https://cathedralofhope.org/event/journey-praise-team-rehearsal/2025-11-27/
LOCATION:ELPC – Music Room\, 116 South Highland Avenue\, Pittsburgh\, PA\, 15206\, United States
CATEGORIES:Church Life,Music
ATTACH;FMTTYPE=image/jpeg:https://cathedralofhope.org/wp-content/uploads/2017/08/20181111_pittsburgh-8121.jpg
GEO:40.461033;-79.925503
X-APPLE-STRUCTURED-LOCATION;VALUE=URI;X-ADDRESS=ELPC – Music Room 116 South Highland Avenue Pittsburgh PA 15206 United States;X-APPLE-RADIUS=500;X-TITLE=116 South Highland Avenue:geo:-79.925503,40.461033
END:VEVENT
END:VCALENDAR