BEGIN:VCALENDAR
VERSION:2.0
PRODID:-//East Liberty Presbyterian Church - ECPv6.15.20//NONSGML v1.0//EN
CALSCALE:GREGORIAN
METHOD:PUBLISH
X-ORIGINAL-URL:https://cathedralofhope.org
X-WR-CALDESC:Events for East Liberty Presbyterian Church
REFRESH-INTERVAL;VALUE=DURATION:PT1H
X-Robots-Tag:noindex
X-PUBLISHED-TTL:PT1H
BEGIN:VTIMEZONE
TZID:America/Halifax
BEGIN:DAYLIGHT
TZOFFSETFROM:-0400
TZOFFSETTO:-0300
TZNAME:ADT
DTSTART:20240310T060000
END:DAYLIGHT
BEGIN:STANDARD
TZOFFSETFROM:-0300
TZOFFSETTO:-0400
TZNAME:AST
DTSTART:20241103T050000
END:STANDARD
BEGIN:DAYLIGHT
TZOFFSETFROM:-0400
TZOFFSETTO:-0300
TZNAME:ADT
DTSTART:20250309T060000
END:DAYLIGHT
BEGIN:STANDARD
TZOFFSETFROM:-0300
TZOFFSETTO:-0400
TZNAME:AST
DTSTART:20251102T050000
END:STANDARD
BEGIN:DAYLIGHT
TZOFFSETFROM:-0400
TZOFFSETTO:-0300
TZNAME:ADT
DTSTART:20260308T060000
END:DAYLIGHT
BEGIN:STANDARD
TZOFFSETFROM:-0300
TZOFFSETTO:-0400
TZNAME:AST
DTSTART:20261101T050000
END:STANDARD
END:VTIMEZONE
BEGIN:VTIMEZONE
TZID:America/New_York
BEGIN:DAYLIGHT
TZOFFSETFROM:-0500
TZOFFSETTO:-0400
TZNAME:EDT
DTSTART:20240310T070000
END:DAYLIGHT
BEGIN:STANDARD
TZOFFSETFROM:-0400
TZOFFSETTO:-0500
TZNAME:EST
DTSTART:20241103T060000
END:STANDARD
BEGIN:DAYLIGHT
TZOFFSETFROM:-0500
TZOFFSETTO:-0400
TZNAME:EDT
DTSTART:20250309T070000
END:DAYLIGHT
BEGIN:STANDARD
TZOFFSETFROM:-0400
TZOFFSETTO:-0500
TZNAME:EST
DTSTART:20251102T060000
END:STANDARD
BEGIN:DAYLIGHT
TZOFFSETFROM:-0500
TZOFFSETTO:-0400
TZNAME:EDT
DTSTART:20260308T070000
END:DAYLIGHT
BEGIN:STANDARD
TZOFFSETFROM:-0400
TZOFFSETTO:-0500
TZNAME:EST
DTSTART:20261101T060000
END:STANDARD
END:VTIMEZONE
BEGIN:VEVENT
DTSTART;TZID=America/Halifax:20251202T180000
DTEND;TZID=America/Halifax:20251202T190000
DTSTAMP:20260423T175842
CREATED:20250923T191055Z
LAST-MODIFIED:20250923T191055Z
UID:10006228-1764698400-1764702000@cathedralofhope.org
SUMMARY:ELPC Ringers Rehearsal
DESCRIPTION:The ELPC Ringers rehearse on Tuesdays\, 6–7 pm\, in Dr. Ed Moore’s office and rings periodically throughout the year at our Sanctuary worship service on Sundays at 11 am. We ring on a four-octave set of Schulmerich handbells. \nPlease contact Dr. Ed Moore for more information on joining the ELPC Ringers.
URL:https://cathedralofhope.org/event/elpc-ringers-rehearsal-2/2025-12-02/
LOCATION:East Liberty Presbyterian Church\, 116 S. Highland Avenue\, Pittsburgh\, PA\, 15206\, United States
CATEGORIES:Church Life,Music
ATTACH;FMTTYPE=image/jpeg:https://cathedralofhope.org/wp-content/uploads/2018/08/C571072C-EC0E-4F73-B136-404F76BC55FC_1_105_c.jpeg
GEO:40.4609708;-79.9253554
X-APPLE-STRUCTURED-LOCATION;VALUE=URI;X-ADDRESS=East Liberty Presbyterian Church 116 S. Highland Avenue Pittsburgh PA 15206 United States;X-APPLE-RADIUS=500;X-TITLE=116 S. Highland Avenue:geo:-79.9253554,40.4609708
END:VEVENT
BEGIN:VEVENT
DTSTART;TZID=America/Halifax:20251204T173000
DTEND;TZID=America/Halifax:20251204T183000
DTSTAMP:20260423T175842
CREATED:20190825T142813Z
LAST-MODIFIED:20260127T200229Z
UID:10000678-1764869400-1764873000@cathedralofhope.org
SUMMARY:Journey Praise Team Rehearsal
DESCRIPTION:The Journey Praise Team rehearses in the Chapel on Thursdays\, 5:30 pm\, and leads the Journey worship service on Sundays\, 8:45 am. \nGerald Savage\, ELPC’s Journey music director\, leads the Journey Praise Team.
URL:https://cathedralofhope.org/event/journey-praise-team-rehearsal/2025-12-04/
LOCATION:ELPC – Music Room\, 116 South Highland Avenue\, Pittsburgh\, PA\, 15206\, United States
CATEGORIES:Church Life,Music
ATTACH;FMTTYPE=image/jpeg:https://cathedralofhope.org/wp-content/uploads/2017/08/20181111_pittsburgh-8121.jpg
GEO:40.461033;-79.925503
X-APPLE-STRUCTURED-LOCATION;VALUE=URI;X-ADDRESS=ELPC – Music Room 116 South Highland Avenue Pittsburgh PA 15206 United States;X-APPLE-RADIUS=500;X-TITLE=116 South Highland Avenue:geo:-79.925503,40.461033
END:VEVENT
BEGIN:VEVENT
DTSTART;TZID=America/Halifax:20251209T180000
DTEND;TZID=America/Halifax:20251209T190000
DTSTAMP:20260423T175842
CREATED:20250923T191055Z
LAST-MODIFIED:20250923T191055Z
UID:10006229-1765303200-1765306800@cathedralofhope.org
SUMMARY:ELPC Ringers Rehearsal
DESCRIPTION:The ELPC Ringers rehearse on Tuesdays\, 6–7 pm\, in Dr. Ed Moore’s office and rings periodically throughout the year at our Sanctuary worship service on Sundays at 11 am. We ring on a four-octave set of Schulmerich handbells. \nPlease contact Dr. Ed Moore for more information on joining the ELPC Ringers.
URL:https://cathedralofhope.org/event/elpc-ringers-rehearsal-2/2025-12-09/
LOCATION:East Liberty Presbyterian Church\, 116 S. Highland Avenue\, Pittsburgh\, PA\, 15206\, United States
CATEGORIES:Church Life,Music
ATTACH;FMTTYPE=image/jpeg:https://cathedralofhope.org/wp-content/uploads/2018/08/C571072C-EC0E-4F73-B136-404F76BC55FC_1_105_c.jpeg
GEO:40.4609708;-79.9253554
X-APPLE-STRUCTURED-LOCATION;VALUE=URI;X-ADDRESS=East Liberty Presbyterian Church 116 S. Highland Avenue Pittsburgh PA 15206 United States;X-APPLE-RADIUS=500;X-TITLE=116 S. Highland Avenue:geo:-79.9253554,40.4609708
END:VEVENT
BEGIN:VEVENT
DTSTART;TZID=America/Halifax:20251211T173000
DTEND;TZID=America/Halifax:20251211T183000
DTSTAMP:20260423T175842
CREATED:20190825T142813Z
LAST-MODIFIED:20260127T200229Z
UID:10000679-1765474200-1765477800@cathedralofhope.org
SUMMARY:Journey Praise Team Rehearsal
DESCRIPTION:The Journey Praise Team rehearses in the Chapel on Thursdays\, 5:30 pm\, and leads the Journey worship service on Sundays\, 8:45 am. \nGerald Savage\, ELPC’s Journey music director\, leads the Journey Praise Team.
URL:https://cathedralofhope.org/event/journey-praise-team-rehearsal/2025-12-11/
LOCATION:ELPC – Music Room\, 116 South Highland Avenue\, Pittsburgh\, PA\, 15206\, United States
CATEGORIES:Church Life,Music
ATTACH;FMTTYPE=image/jpeg:https://cathedralofhope.org/wp-content/uploads/2017/08/20181111_pittsburgh-8121.jpg
GEO:40.461033;-79.925503
X-APPLE-STRUCTURED-LOCATION;VALUE=URI;X-ADDRESS=ELPC – Music Room 116 South Highland Avenue Pittsburgh PA 15206 United States;X-APPLE-RADIUS=500;X-TITLE=116 South Highland Avenue:geo:-79.925503,40.461033
END:VEVENT
BEGIN:VEVENT
DTSTART;TZID=America/New_York:20251212T193000
DTEND;TZID=America/New_York:20251212T210000
DTSTAMP:20260423T175842
CREATED:20250924T173754Z
LAST-MODIFIED:20251211T155854Z
UID:10003667-1765567800-1765573200@cathedralofhope.org
SUMMARY:Cathedral Concert - Christmas in East Liberty 2025
DESCRIPTION:Our Cathedral Concerts series returns with the year’s most anticipated concert\, Christmas in East Liberty\, on Friday\, December 12\, 7:30 pm! \nThis annual\, East Liberty tradition will feature holiday favorites\, along with performances by The Brass Roots with conductor Daniel Curtis\, the ELPC Chancel Choir under the direction of Dr. Edward Alan Moore\, guest organist Ethan LaPlaca\, saxophonist Mike Tomaro\, and narrator Jim Cunningham. The concert also will include a new setting of It’s the Most Wonderful Time of the Year by Mike Tomaro. \nJoin us in the Sanctuary or on YouTube or Facebook. The concert is free and open to all\, so bring your family and friends! A freewill offering will be received. \nThe concert is free and open to all. A freewill offering will be received at the concert. \nChristmas in East Liberty 2025\nThe Brass Roots – Daniel Curtis\, conductor\nELPC Chancel Choir – Dr. Edward Alan Moore\, conductor\nEthan LaPlaca\, guest organist\nMike Tomaro\, saxophone\nJim Cunningham\, narrator\n\nFeaturing a new setting of It’s the Most Wonderful Time of the Year by Mike Tomaro \nPROGRAM – Click here for the PDF of the printed program \nO Come\, All Ye Faithful – arr. Willcocks \nHark the Herald Angels Sing – arr. DiLorenzo \nAve Maria – Biebl/arr. Yager \nI Wonder as I Wander – arr. Tomaro\nMike Tomaro\, saxophone \n‘Twas the Night Before Christmas – arr. DiLorenzo\nJim Cunningham\, narrator \nSussex Carol – arr. Willcocks \nCarol Fantasia – Mary Beth Bennett \nIntermission \nWhite Christmas – Berlin/arr. Tomaro \nTwelve Days of Christmas – arr. Holcombe \nSilver Bells – arr. Connick/Gardner \nChristmas Toons – arr. DiLorenzo \nIt’s the Most Wonderful Time of the Year – Pola\, Wyle/arr. Tomaro\nPREMIERE – commissioned for Christmas in East Liberty 2025
URL:https://cathedralofhope.org/event/cathedral-concert-christmas-in-east-liberty-2/
LOCATION:ELPC – Sanctuary\, 116 South Highland Avenue\, Pittsburgh\, PA\, 15206\, United States
CATEGORIES:Cathedral Concerts,Church Life,Concerts,Featured Events,Music,Special Events
ATTACH;FMTTYPE=image/png:https://cathedralofhope.org/wp-content/uploads/2025/06/Christmas-in-East-Liberty-2024-scaled.png
ORGANIZER;CN="Dr. Ed Moore":MAILTO:EdM@coh.net
GEO:40.461033;-79.925503
X-APPLE-STRUCTURED-LOCATION;VALUE=URI;X-ADDRESS=ELPC – Sanctuary 116 South Highland Avenue Pittsburgh PA 15206 United States;X-APPLE-RADIUS=500;X-TITLE=116 South Highland Avenue:geo:-79.925503,40.461033
END:VEVENT
BEGIN:VEVENT
DTSTART;TZID=America/Halifax:20251216T180000
DTEND;TZID=America/Halifax:20251216T190000
DTSTAMP:20260423T175842
CREATED:20250923T191055Z
LAST-MODIFIED:20250923T191055Z
UID:10006230-1765908000-1765911600@cathedralofhope.org
SUMMARY:ELPC Ringers Rehearsal
DESCRIPTION:The ELPC Ringers rehearse on Tuesdays\, 6–7 pm\, in Dr. Ed Moore’s office and rings periodically throughout the year at our Sanctuary worship service on Sundays at 11 am. We ring on a four-octave set of Schulmerich handbells. \nPlease contact Dr. Ed Moore for more information on joining the ELPC Ringers.
URL:https://cathedralofhope.org/event/elpc-ringers-rehearsal-2/2025-12-16/
LOCATION:East Liberty Presbyterian Church\, 116 S. Highland Avenue\, Pittsburgh\, PA\, 15206\, United States
CATEGORIES:Church Life,Music
ATTACH;FMTTYPE=image/jpeg:https://cathedralofhope.org/wp-content/uploads/2018/08/C571072C-EC0E-4F73-B136-404F76BC55FC_1_105_c.jpeg
GEO:40.4609708;-79.9253554
X-APPLE-STRUCTURED-LOCATION;VALUE=URI;X-ADDRESS=East Liberty Presbyterian Church 116 S. Highland Avenue Pittsburgh PA 15206 United States;X-APPLE-RADIUS=500;X-TITLE=116 S. Highland Avenue:geo:-79.9253554,40.4609708
END:VEVENT
BEGIN:VEVENT
DTSTART;TZID=America/Halifax:20251218T173000
DTEND;TZID=America/Halifax:20251218T183000
DTSTAMP:20260423T175842
CREATED:20190825T142813Z
LAST-MODIFIED:20260127T200229Z
UID:10000680-1766079000-1766082600@cathedralofhope.org
SUMMARY:Journey Praise Team Rehearsal
DESCRIPTION:The Journey Praise Team rehearses in the Chapel on Thursdays\, 5:30 pm\, and leads the Journey worship service on Sundays\, 8:45 am. \nGerald Savage\, ELPC’s Journey music director\, leads the Journey Praise Team.
URL:https://cathedralofhope.org/event/journey-praise-team-rehearsal/2025-12-18/
LOCATION:ELPC – Music Room\, 116 South Highland Avenue\, Pittsburgh\, PA\, 15206\, United States
CATEGORIES:Church Life,Music
ATTACH;FMTTYPE=image/jpeg:https://cathedralofhope.org/wp-content/uploads/2017/08/20181111_pittsburgh-8121.jpg
GEO:40.461033;-79.925503
X-APPLE-STRUCTURED-LOCATION;VALUE=URI;X-ADDRESS=ELPC – Music Room 116 South Highland Avenue Pittsburgh PA 15206 United States;X-APPLE-RADIUS=500;X-TITLE=116 South Highland Avenue:geo:-79.925503,40.461033
END:VEVENT
BEGIN:VEVENT
DTSTART;TZID=America/Halifax:20251223T180000
DTEND;TZID=America/Halifax:20251223T190000
DTSTAMP:20260423T175842
CREATED:20250923T191055Z
LAST-MODIFIED:20250923T191055Z
UID:10006231-1766512800-1766516400@cathedralofhope.org
SUMMARY:ELPC Ringers Rehearsal
DESCRIPTION:The ELPC Ringers rehearse on Tuesdays\, 6–7 pm\, in Dr. Ed Moore’s office and rings periodically throughout the year at our Sanctuary worship service on Sundays at 11 am. We ring on a four-octave set of Schulmerich handbells. \nPlease contact Dr. Ed Moore for more information on joining the ELPC Ringers.
URL:https://cathedralofhope.org/event/elpc-ringers-rehearsal-2/2025-12-23/
LOCATION:East Liberty Presbyterian Church\, 116 S. Highland Avenue\, Pittsburgh\, PA\, 15206\, United States
CATEGORIES:Church Life,Music
ATTACH;FMTTYPE=image/jpeg:https://cathedralofhope.org/wp-content/uploads/2018/08/C571072C-EC0E-4F73-B136-404F76BC55FC_1_105_c.jpeg
GEO:40.4609708;-79.9253554
X-APPLE-STRUCTURED-LOCATION;VALUE=URI;X-ADDRESS=East Liberty Presbyterian Church 116 S. Highland Avenue Pittsburgh PA 15206 United States;X-APPLE-RADIUS=500;X-TITLE=116 S. Highland Avenue:geo:-79.9253554,40.4609708
END:VEVENT
BEGIN:VEVENT
DTSTART;TZID=America/Halifax:20251225T173000
DTEND;TZID=America/Halifax:20251225T183000
DTSTAMP:20260423T175842
CREATED:20190825T142813Z
LAST-MODIFIED:20251222T155406Z
UID:10006362-1766683800-1766687400@cathedralofhope.org
SUMMARY:NO Journey Praise Team Rehearsal
DESCRIPTION:There will be no Journey Praise Team rehearsal on Christmas Day\, Thursday\, December 25. \n\nThe Journey Praise Team rehearses in the Social Hall on Thursdays\, 5:30 pm\, and leads the Journey worship service on Sundays\, 8:45 am. \nGerald Savage\, ELPC’s Journey music director\, leads the Journey Praise Team.
URL:https://cathedralofhope.org/event/journey-praise-team-rehearsal-2025-12-25/
LOCATION:ELPC – Music Room\, 116 South Highland Avenue\, Pittsburgh\, PA\, 15206\, United States
CATEGORIES:Church Life,Music
ATTACH;FMTTYPE=image/jpeg:https://cathedralofhope.org/wp-content/uploads/2017/08/20181111_pittsburgh-8121.jpg
GEO:40.461033;-79.925503
X-APPLE-STRUCTURED-LOCATION;VALUE=URI;X-ADDRESS=ELPC – Music Room 116 South Highland Avenue Pittsburgh PA 15206 United States;X-APPLE-RADIUS=500;X-TITLE=116 South Highland Avenue:geo:-79.925503,40.461033
END:VEVENT
BEGIN:VEVENT
DTSTART;TZID=America/Halifax:20251230T180000
DTEND;TZID=America/Halifax:20251230T190000
DTSTAMP:20260423T175842
CREATED:20250923T191055Z
LAST-MODIFIED:20250923T191055Z
UID:10006232-1767117600-1767121200@cathedralofhope.org
SUMMARY:ELPC Ringers Rehearsal
DESCRIPTION:The ELPC Ringers rehearse on Tuesdays\, 6–7 pm\, in Dr. Ed Moore’s office and rings periodically throughout the year at our Sanctuary worship service on Sundays at 11 am. We ring on a four-octave set of Schulmerich handbells. \nPlease contact Dr. Ed Moore for more information on joining the ELPC Ringers.
URL:https://cathedralofhope.org/event/elpc-ringers-rehearsal-2/2025-12-30/
LOCATION:East Liberty Presbyterian Church\, 116 S. Highland Avenue\, Pittsburgh\, PA\, 15206\, United States
CATEGORIES:Church Life,Music
ATTACH;FMTTYPE=image/jpeg:https://cathedralofhope.org/wp-content/uploads/2018/08/C571072C-EC0E-4F73-B136-404F76BC55FC_1_105_c.jpeg
GEO:40.4609708;-79.9253554
X-APPLE-STRUCTURED-LOCATION;VALUE=URI;X-ADDRESS=East Liberty Presbyterian Church 116 S. Highland Avenue Pittsburgh PA 15206 United States;X-APPLE-RADIUS=500;X-TITLE=116 S. Highland Avenue:geo:-79.9253554,40.4609708
END:VEVENT
END:VCALENDAR