BEGIN:VCALENDAR
VERSION:2.0
PRODID:-//East Liberty Presbyterian Church - ECPv6.15.20//NONSGML v1.0//EN
CALSCALE:GREGORIAN
METHOD:PUBLISH
X-ORIGINAL-URL:https://cathedralofhope.org
X-WR-CALDESC:Events for East Liberty Presbyterian Church
REFRESH-INTERVAL;VALUE=DURATION:PT1H
X-Robots-Tag:noindex
X-PUBLISHED-TTL:PT1H
BEGIN:VTIMEZONE
TZID:America/Halifax
BEGIN:DAYLIGHT
TZOFFSETFROM:-0400
TZOFFSETTO:-0300
TZNAME:ADT
DTSTART:20250309T060000
END:DAYLIGHT
BEGIN:STANDARD
TZOFFSETFROM:-0300
TZOFFSETTO:-0400
TZNAME:AST
DTSTART:20251102T050000
END:STANDARD
BEGIN:DAYLIGHT
TZOFFSETFROM:-0400
TZOFFSETTO:-0300
TZNAME:ADT
DTSTART:20260308T060000
END:DAYLIGHT
BEGIN:STANDARD
TZOFFSETFROM:-0300
TZOFFSETTO:-0400
TZNAME:AST
DTSTART:20261101T050000
END:STANDARD
BEGIN:DAYLIGHT
TZOFFSETFROM:-0400
TZOFFSETTO:-0300
TZNAME:ADT
DTSTART:20270314T060000
END:DAYLIGHT
BEGIN:STANDARD
TZOFFSETFROM:-0300
TZOFFSETTO:-0400
TZNAME:AST
DTSTART:20271107T050000
END:STANDARD
END:VTIMEZONE
BEGIN:VTIMEZONE
TZID:America/New_York
BEGIN:DAYLIGHT
TZOFFSETFROM:-0500
TZOFFSETTO:-0400
TZNAME:EDT
DTSTART:20250309T070000
END:DAYLIGHT
BEGIN:STANDARD
TZOFFSETFROM:-0400
TZOFFSETTO:-0500
TZNAME:EST
DTSTART:20251102T060000
END:STANDARD
BEGIN:DAYLIGHT
TZOFFSETFROM:-0500
TZOFFSETTO:-0400
TZNAME:EDT
DTSTART:20260308T070000
END:DAYLIGHT
BEGIN:STANDARD
TZOFFSETFROM:-0400
TZOFFSETTO:-0500
TZNAME:EST
DTSTART:20261101T060000
END:STANDARD
BEGIN:DAYLIGHT
TZOFFSETFROM:-0500
TZOFFSETTO:-0400
TZNAME:EDT
DTSTART:20270314T070000
END:DAYLIGHT
BEGIN:STANDARD
TZOFFSETFROM:-0400
TZOFFSETTO:-0500
TZNAME:EST
DTSTART:20271107T060000
END:STANDARD
END:VTIMEZONE
BEGIN:VEVENT
DTSTART;TZID=America/Halifax:20260423T173000
DTEND;TZID=America/Halifax:20260423T183000
DTSTAMP:20260423T052803
CREATED:20190825T142813Z
LAST-MODIFIED:20260127T200229Z
UID:10000695-1776965400-1776969000@cathedralofhope.org
SUMMARY:Journey Praise Team Rehearsal
DESCRIPTION:The Journey Praise Team rehearses in the Chapel on Thursdays\, 5:30 pm\, and leads the Journey worship service on Sundays\, 8:45 am. \nGerald Savage\, ELPC’s Journey music director\, leads the Journey Praise Team.
URL:https://cathedralofhope.org/event/journey-praise-team-rehearsal/2026-04-23/
LOCATION:ELPC – Music Room\, 116 South Highland Avenue\, Pittsburgh\, PA\, 15206\, United States
CATEGORIES:Church Life,Music
ATTACH;FMTTYPE=image/jpeg:https://cathedralofhope.org/wp-content/uploads/2017/08/20181111_pittsburgh-8121.jpg
GEO:40.461033;-79.925503
X-APPLE-STRUCTURED-LOCATION;VALUE=URI;X-ADDRESS=ELPC – Music Room 116 South Highland Avenue Pittsburgh PA 15206 United States;X-APPLE-RADIUS=500;X-TITLE=116 South Highland Avenue:geo:-79.925503,40.461033
END:VEVENT
BEGIN:VEVENT
DTSTART;TZID=America/Halifax:20260423T190000
DTEND;TZID=America/Halifax:20260423T203000
DTSTAMP:20260423T052803
CREATED:20260127T194637Z
LAST-MODIFIED:20260127T195431Z
UID:10003647-1776970800-1776976200@cathedralofhope.org
SUMMARY:Chancel Choir Rehearsal
DESCRIPTION:The Chancel Choir rehearses in the Sanctuary on Thursdays\, 7–8:30 pm\, from September through early June (unless noted otherwise). Sunday morning rehearsals are at 10 am\, in preparation for the worship service. The choir provides musical leadership at our Sanctuary worship service on Sundays. \nNo audition is required\, just the desire to learn and have fun as we prepare to lead worship. The choir is open to everyone in high school and older. \nDr. Ed Moore is the director of the Chancel Choir. \nCome join us and make a joyful noise!
URL:https://cathedralofhope.org/event/chancel-choir-rehearsal-3/2026-04-23/
LOCATION:ELPC – Sanctuary\, 116 South Highland Avenue\, Pittsburgh\, PA\, 15206\, United States
CATEGORIES:Church Life,Music
ATTACH;FMTTYPE=image/jpeg:https://cathedralofhope.org/wp-content/uploads/2022/08/20181111_pittsburgh-8479.jpg
ORGANIZER;CN="Dr. Ed Moore":MAILTO:EdM@coh.net
GEO:40.461033;-79.925503
X-APPLE-STRUCTURED-LOCATION;VALUE=URI;X-ADDRESS=ELPC – Sanctuary 116 South Highland Avenue Pittsburgh PA 15206 United States;X-APPLE-RADIUS=500;X-TITLE=116 South Highland Avenue:geo:-79.925503,40.461033
END:VEVENT
BEGIN:VEVENT
DTSTART;TZID=America/Halifax:20260428T180000
DTEND;TZID=America/Halifax:20260428T190000
DTSTAMP:20260423T052803
CREATED:20250923T191055Z
LAST-MODIFIED:20250923T191055Z
UID:10006248-1777399200-1777402800@cathedralofhope.org
SUMMARY:ELPC Ringers Rehearsal
DESCRIPTION:The ELPC Ringers rehearse on Tuesdays\, 6–7 pm\, in Dr. Ed Moore’s office and rings periodically throughout the year at our Sanctuary worship service on Sundays at 11 am. We ring on a four-octave set of Schulmerich handbells. \nPlease contact Dr. Ed Moore for more information on joining the ELPC Ringers.
URL:https://cathedralofhope.org/event/elpc-ringers-rehearsal-2/2026-04-28/
LOCATION:East Liberty Presbyterian Church\, 116 S. Highland Avenue\, Pittsburgh\, PA\, 15206\, United States
CATEGORIES:Church Life,Music
ATTACH;FMTTYPE=image/jpeg:https://cathedralofhope.org/wp-content/uploads/2018/08/C571072C-EC0E-4F73-B136-404F76BC55FC_1_105_c.jpeg
GEO:40.4609708;-79.9253554
X-APPLE-STRUCTURED-LOCATION;VALUE=URI;X-ADDRESS=East Liberty Presbyterian Church 116 S. Highland Avenue Pittsburgh PA 15206 United States;X-APPLE-RADIUS=500;X-TITLE=116 S. Highland Avenue:geo:-79.9253554,40.4609708
END:VEVENT
BEGIN:VEVENT
DTSTART;TZID=America/Halifax:20260430T173000
DTEND;TZID=America/Halifax:20260430T183000
DTSTAMP:20260423T052803
CREATED:20190825T142813Z
LAST-MODIFIED:20260127T200229Z
UID:10000696-1777570200-1777573800@cathedralofhope.org
SUMMARY:Journey Praise Team Rehearsal
DESCRIPTION:The Journey Praise Team rehearses in the Chapel on Thursdays\, 5:30 pm\, and leads the Journey worship service on Sundays\, 8:45 am. \nGerald Savage\, ELPC’s Journey music director\, leads the Journey Praise Team.
URL:https://cathedralofhope.org/event/journey-praise-team-rehearsal/2026-04-30/
LOCATION:ELPC – Music Room\, 116 South Highland Avenue\, Pittsburgh\, PA\, 15206\, United States
CATEGORIES:Church Life,Music
ATTACH;FMTTYPE=image/jpeg:https://cathedralofhope.org/wp-content/uploads/2017/08/20181111_pittsburgh-8121.jpg
GEO:40.461033;-79.925503
X-APPLE-STRUCTURED-LOCATION;VALUE=URI;X-ADDRESS=ELPC – Music Room 116 South Highland Avenue Pittsburgh PA 15206 United States;X-APPLE-RADIUS=500;X-TITLE=116 South Highland Avenue:geo:-79.925503,40.461033
END:VEVENT
BEGIN:VEVENT
DTSTART;TZID=America/Halifax:20260430T190000
DTEND;TZID=America/Halifax:20260430T203000
DTSTAMP:20260423T052803
CREATED:20260127T194637Z
LAST-MODIFIED:20260127T195431Z
UID:10003648-1777575600-1777581000@cathedralofhope.org
SUMMARY:Chancel Choir Rehearsal
DESCRIPTION:The Chancel Choir rehearses in the Sanctuary on Thursdays\, 7–8:30 pm\, from September through early June (unless noted otherwise). Sunday morning rehearsals are at 10 am\, in preparation for the worship service. The choir provides musical leadership at our Sanctuary worship service on Sundays. \nNo audition is required\, just the desire to learn and have fun as we prepare to lead worship. The choir is open to everyone in high school and older. \nDr. Ed Moore is the director of the Chancel Choir. \nCome join us and make a joyful noise!
URL:https://cathedralofhope.org/event/chancel-choir-rehearsal-3/2026-04-30/
LOCATION:ELPC – Sanctuary\, 116 South Highland Avenue\, Pittsburgh\, PA\, 15206\, United States
CATEGORIES:Church Life,Music
ATTACH;FMTTYPE=image/jpeg:https://cathedralofhope.org/wp-content/uploads/2022/08/20181111_pittsburgh-8479.jpg
ORGANIZER;CN="Dr. Ed Moore":MAILTO:EdM@coh.net
GEO:40.461033;-79.925503
X-APPLE-STRUCTURED-LOCATION;VALUE=URI;X-ADDRESS=ELPC – Sanctuary 116 South Highland Avenue Pittsburgh PA 15206 United States;X-APPLE-RADIUS=500;X-TITLE=116 South Highland Avenue:geo:-79.925503,40.461033
END:VEVENT
BEGIN:VEVENT
DTSTART;TZID=America/Halifax:20260505T180000
DTEND;TZID=America/Halifax:20260505T190000
DTSTAMP:20260423T052803
CREATED:20250923T191055Z
LAST-MODIFIED:20250923T191055Z
UID:10006249-1778004000-1778007600@cathedralofhope.org
SUMMARY:ELPC Ringers Rehearsal
DESCRIPTION:The ELPC Ringers rehearse on Tuesdays\, 6–7 pm\, in Dr. Ed Moore’s office and rings periodically throughout the year at our Sanctuary worship service on Sundays at 11 am. We ring on a four-octave set of Schulmerich handbells. \nPlease contact Dr. Ed Moore for more information on joining the ELPC Ringers.
URL:https://cathedralofhope.org/event/elpc-ringers-rehearsal-2/2026-05-05/
LOCATION:East Liberty Presbyterian Church\, 116 S. Highland Avenue\, Pittsburgh\, PA\, 15206\, United States
CATEGORIES:Church Life,Music
ATTACH;FMTTYPE=image/jpeg:https://cathedralofhope.org/wp-content/uploads/2018/08/C571072C-EC0E-4F73-B136-404F76BC55FC_1_105_c.jpeg
GEO:40.4609708;-79.9253554
X-APPLE-STRUCTURED-LOCATION;VALUE=URI;X-ADDRESS=East Liberty Presbyterian Church 116 S. Highland Avenue Pittsburgh PA 15206 United States;X-APPLE-RADIUS=500;X-TITLE=116 S. Highland Avenue:geo:-79.9253554,40.4609708
END:VEVENT
BEGIN:VEVENT
DTSTART;TZID=America/Halifax:20260507T173000
DTEND;TZID=America/Halifax:20260507T183000
DTSTAMP:20260423T052803
CREATED:20190825T142813Z
LAST-MODIFIED:20260127T200229Z
UID:10000697-1778175000-1778178600@cathedralofhope.org
SUMMARY:Journey Praise Team Rehearsal
DESCRIPTION:The Journey Praise Team rehearses in the Chapel on Thursdays\, 5:30 pm\, and leads the Journey worship service on Sundays\, 8:45 am. \nGerald Savage\, ELPC’s Journey music director\, leads the Journey Praise Team.
URL:https://cathedralofhope.org/event/journey-praise-team-rehearsal/2026-05-07/
LOCATION:ELPC – Music Room\, 116 South Highland Avenue\, Pittsburgh\, PA\, 15206\, United States
CATEGORIES:Church Life,Music
ATTACH;FMTTYPE=image/jpeg:https://cathedralofhope.org/wp-content/uploads/2017/08/20181111_pittsburgh-8121.jpg
GEO:40.461033;-79.925503
X-APPLE-STRUCTURED-LOCATION;VALUE=URI;X-ADDRESS=ELPC – Music Room 116 South Highland Avenue Pittsburgh PA 15206 United States;X-APPLE-RADIUS=500;X-TITLE=116 South Highland Avenue:geo:-79.925503,40.461033
END:VEVENT
BEGIN:VEVENT
DTSTART;TZID=America/Halifax:20260507T190000
DTEND;TZID=America/Halifax:20260507T203000
DTSTAMP:20260423T052803
CREATED:20260127T194637Z
LAST-MODIFIED:20260127T195431Z
UID:10003649-1778180400-1778185800@cathedralofhope.org
SUMMARY:Chancel Choir Rehearsal
DESCRIPTION:The Chancel Choir rehearses in the Sanctuary on Thursdays\, 7–8:30 pm\, from September through early June (unless noted otherwise). Sunday morning rehearsals are at 10 am\, in preparation for the worship service. The choir provides musical leadership at our Sanctuary worship service on Sundays. \nNo audition is required\, just the desire to learn and have fun as we prepare to lead worship. The choir is open to everyone in high school and older. \nDr. Ed Moore is the director of the Chancel Choir. \nCome join us and make a joyful noise!
URL:https://cathedralofhope.org/event/chancel-choir-rehearsal-3/2026-05-07/
LOCATION:ELPC – Sanctuary\, 116 South Highland Avenue\, Pittsburgh\, PA\, 15206\, United States
CATEGORIES:Church Life,Music
ATTACH;FMTTYPE=image/jpeg:https://cathedralofhope.org/wp-content/uploads/2022/08/20181111_pittsburgh-8479.jpg
ORGANIZER;CN="Dr. Ed Moore":MAILTO:EdM@coh.net
GEO:40.461033;-79.925503
X-APPLE-STRUCTURED-LOCATION;VALUE=URI;X-ADDRESS=ELPC – Sanctuary 116 South Highland Avenue Pittsburgh PA 15206 United States;X-APPLE-RADIUS=500;X-TITLE=116 South Highland Avenue:geo:-79.925503,40.461033
END:VEVENT
BEGIN:VEVENT
DTSTART;TZID=America/Halifax:20260512T180000
DTEND;TZID=America/Halifax:20260512T190000
DTSTAMP:20260423T052803
CREATED:20250923T191055Z
LAST-MODIFIED:20250923T191055Z
UID:10006250-1778608800-1778612400@cathedralofhope.org
SUMMARY:ELPC Ringers Rehearsal
DESCRIPTION:The ELPC Ringers rehearse on Tuesdays\, 6–7 pm\, in Dr. Ed Moore’s office and rings periodically throughout the year at our Sanctuary worship service on Sundays at 11 am. We ring on a four-octave set of Schulmerich handbells. \nPlease contact Dr. Ed Moore for more information on joining the ELPC Ringers.
URL:https://cathedralofhope.org/event/elpc-ringers-rehearsal-2/2026-05-12/
LOCATION:East Liberty Presbyterian Church\, 116 S. Highland Avenue\, Pittsburgh\, PA\, 15206\, United States
CATEGORIES:Church Life,Music
ATTACH;FMTTYPE=image/jpeg:https://cathedralofhope.org/wp-content/uploads/2018/08/C571072C-EC0E-4F73-B136-404F76BC55FC_1_105_c.jpeg
GEO:40.4609708;-79.9253554
X-APPLE-STRUCTURED-LOCATION;VALUE=URI;X-ADDRESS=East Liberty Presbyterian Church 116 S. Highland Avenue Pittsburgh PA 15206 United States;X-APPLE-RADIUS=500;X-TITLE=116 S. Highland Avenue:geo:-79.9253554,40.4609708
END:VEVENT
BEGIN:VEVENT
DTSTART;TZID=America/Halifax:20260514T173000
DTEND;TZID=America/Halifax:20260514T183000
DTSTAMP:20260423T052803
CREATED:20190825T142813Z
LAST-MODIFIED:20260127T200229Z
UID:10000698-1778779800-1778783400@cathedralofhope.org
SUMMARY:Journey Praise Team Rehearsal
DESCRIPTION:The Journey Praise Team rehearses in the Chapel on Thursdays\, 5:30 pm\, and leads the Journey worship service on Sundays\, 8:45 am. \nGerald Savage\, ELPC’s Journey music director\, leads the Journey Praise Team.
URL:https://cathedralofhope.org/event/journey-praise-team-rehearsal/2026-05-14/
LOCATION:ELPC – Music Room\, 116 South Highland Avenue\, Pittsburgh\, PA\, 15206\, United States
CATEGORIES:Church Life,Music
ATTACH;FMTTYPE=image/jpeg:https://cathedralofhope.org/wp-content/uploads/2017/08/20181111_pittsburgh-8121.jpg
GEO:40.461033;-79.925503
X-APPLE-STRUCTURED-LOCATION;VALUE=URI;X-ADDRESS=ELPC – Music Room 116 South Highland Avenue Pittsburgh PA 15206 United States;X-APPLE-RADIUS=500;X-TITLE=116 South Highland Avenue:geo:-79.925503,40.461033
END:VEVENT
BEGIN:VEVENT
DTSTART;TZID=America/Halifax:20260514T190000
DTEND;TZID=America/Halifax:20260514T203000
DTSTAMP:20260423T052803
CREATED:20260127T194637Z
LAST-MODIFIED:20260127T195431Z
UID:10003650-1778785200-1778790600@cathedralofhope.org
SUMMARY:Chancel Choir Rehearsal
DESCRIPTION:The Chancel Choir rehearses in the Sanctuary on Thursdays\, 7–8:30 pm\, from September through early June (unless noted otherwise). Sunday morning rehearsals are at 10 am\, in preparation for the worship service. The choir provides musical leadership at our Sanctuary worship service on Sundays. \nNo audition is required\, just the desire to learn and have fun as we prepare to lead worship. The choir is open to everyone in high school and older. \nDr. Ed Moore is the director of the Chancel Choir. \nCome join us and make a joyful noise!
URL:https://cathedralofhope.org/event/chancel-choir-rehearsal-3/2026-05-14/
LOCATION:ELPC – Sanctuary\, 116 South Highland Avenue\, Pittsburgh\, PA\, 15206\, United States
CATEGORIES:Church Life,Music
ATTACH;FMTTYPE=image/jpeg:https://cathedralofhope.org/wp-content/uploads/2022/08/20181111_pittsburgh-8479.jpg
ORGANIZER;CN="Dr. Ed Moore":MAILTO:EdM@coh.net
GEO:40.461033;-79.925503
X-APPLE-STRUCTURED-LOCATION;VALUE=URI;X-ADDRESS=ELPC – Sanctuary 116 South Highland Avenue Pittsburgh PA 15206 United States;X-APPLE-RADIUS=500;X-TITLE=116 South Highland Avenue:geo:-79.925503,40.461033
END:VEVENT
BEGIN:VEVENT
DTSTART;TZID=America/New_York:20260517T150000
DTEND;TZID=America/New_York:20260517T163000
DTSTAMP:20260423T052803
CREATED:20260416T142841Z
LAST-MODIFIED:20260416T142841Z
UID:10007395-1779030000-1779035400@cathedralofhope.org
SUMMARY:Cathedral Concert - The Arsenal Duo
DESCRIPTION:The Arsenal Duo\nEdward Alan Moore\, organ\nNathan Carterette\, piano \nThe explosive duo returns to ELPC with what Cleveland Classical described as a “rather unusual musical combination” that “showed itself to be one of exceptional artistic quality and surprisingly precise ensemble.”  The concert features a new organ/piano duet by composer Mary Beth Bennett and one of their signature pieces\, George Gershwin’s timeless Rhapsody in Blue.
URL:https://cathedralofhope.org/event/cathedral-concert-the-arsenal-duo/
LOCATION:ELPC – Sanctuary\, 116 South Highland Avenue\, Pittsburgh\, PA\, 15206\, United States
CATEGORIES:Cathedral Concerts,Concerts,Featured Events,Music,Special Events
ATTACH;FMTTYPE=image/png:https://cathedralofhope.org/wp-content/uploads/2025/07/Arsenal-Duo-2025-1.png
ORGANIZER;CN="Dr. Ed Moore":MAILTO:EdM@coh.net
GEO:40.461033;-79.925503
X-APPLE-STRUCTURED-LOCATION;VALUE=URI;X-ADDRESS=ELPC – Sanctuary 116 South Highland Avenue Pittsburgh PA 15206 United States;X-APPLE-RADIUS=500;X-TITLE=116 South Highland Avenue:geo:-79.925503,40.461033
END:VEVENT
BEGIN:VEVENT
DTSTART;TZID=America/Halifax:20260519T180000
DTEND;TZID=America/Halifax:20260519T190000
DTSTAMP:20260423T052803
CREATED:20250923T191055Z
LAST-MODIFIED:20250923T191055Z
UID:10006251-1779213600-1779217200@cathedralofhope.org
SUMMARY:ELPC Ringers Rehearsal
DESCRIPTION:The ELPC Ringers rehearse on Tuesdays\, 6–7 pm\, in Dr. Ed Moore’s office and rings periodically throughout the year at our Sanctuary worship service on Sundays at 11 am. We ring on a four-octave set of Schulmerich handbells. \nPlease contact Dr. Ed Moore for more information on joining the ELPC Ringers.
URL:https://cathedralofhope.org/event/elpc-ringers-rehearsal-2/2026-05-19/
LOCATION:East Liberty Presbyterian Church\, 116 S. Highland Avenue\, Pittsburgh\, PA\, 15206\, United States
CATEGORIES:Church Life,Music
ATTACH;FMTTYPE=image/jpeg:https://cathedralofhope.org/wp-content/uploads/2018/08/C571072C-EC0E-4F73-B136-404F76BC55FC_1_105_c.jpeg
GEO:40.4609708;-79.9253554
X-APPLE-STRUCTURED-LOCATION;VALUE=URI;X-ADDRESS=East Liberty Presbyterian Church 116 S. Highland Avenue Pittsburgh PA 15206 United States;X-APPLE-RADIUS=500;X-TITLE=116 S. Highland Avenue:geo:-79.9253554,40.4609708
END:VEVENT
BEGIN:VEVENT
DTSTART;TZID=America/Halifax:20260521T173000
DTEND;TZID=America/Halifax:20260521T183000
DTSTAMP:20260423T052803
CREATED:20190825T142813Z
LAST-MODIFIED:20260127T200229Z
UID:10000699-1779384600-1779388200@cathedralofhope.org
SUMMARY:Journey Praise Team Rehearsal
DESCRIPTION:The Journey Praise Team rehearses in the Chapel on Thursdays\, 5:30 pm\, and leads the Journey worship service on Sundays\, 8:45 am. \nGerald Savage\, ELPC’s Journey music director\, leads the Journey Praise Team.
URL:https://cathedralofhope.org/event/journey-praise-team-rehearsal/2026-05-21/
LOCATION:ELPC – Music Room\, 116 South Highland Avenue\, Pittsburgh\, PA\, 15206\, United States
CATEGORIES:Church Life,Music
ATTACH;FMTTYPE=image/jpeg:https://cathedralofhope.org/wp-content/uploads/2017/08/20181111_pittsburgh-8121.jpg
GEO:40.461033;-79.925503
X-APPLE-STRUCTURED-LOCATION;VALUE=URI;X-ADDRESS=ELPC – Music Room 116 South Highland Avenue Pittsburgh PA 15206 United States;X-APPLE-RADIUS=500;X-TITLE=116 South Highland Avenue:geo:-79.925503,40.461033
END:VEVENT
BEGIN:VEVENT
DTSTART;TZID=America/Halifax:20260521T190000
DTEND;TZID=America/Halifax:20260521T203000
DTSTAMP:20260423T052803
CREATED:20260127T194637Z
LAST-MODIFIED:20260127T195431Z
UID:10003651-1779390000-1779395400@cathedralofhope.org
SUMMARY:Chancel Choir Rehearsal
DESCRIPTION:The Chancel Choir rehearses in the Sanctuary on Thursdays\, 7–8:30 pm\, from September through early June (unless noted otherwise). Sunday morning rehearsals are at 10 am\, in preparation for the worship service. The choir provides musical leadership at our Sanctuary worship service on Sundays. \nNo audition is required\, just the desire to learn and have fun as we prepare to lead worship. The choir is open to everyone in high school and older. \nDr. Ed Moore is the director of the Chancel Choir. \nCome join us and make a joyful noise!
URL:https://cathedralofhope.org/event/chancel-choir-rehearsal-3/2026-05-21/
LOCATION:ELPC – Sanctuary\, 116 South Highland Avenue\, Pittsburgh\, PA\, 15206\, United States
CATEGORIES:Church Life,Music
ATTACH;FMTTYPE=image/jpeg:https://cathedralofhope.org/wp-content/uploads/2022/08/20181111_pittsburgh-8479.jpg
ORGANIZER;CN="Dr. Ed Moore":MAILTO:EdM@coh.net
GEO:40.461033;-79.925503
X-APPLE-STRUCTURED-LOCATION;VALUE=URI;X-ADDRESS=ELPC – Sanctuary 116 South Highland Avenue Pittsburgh PA 15206 United States;X-APPLE-RADIUS=500;X-TITLE=116 South Highland Avenue:geo:-79.925503,40.461033
END:VEVENT
BEGIN:VEVENT
DTSTART;TZID=America/Halifax:20260526T180000
DTEND;TZID=America/Halifax:20260526T190000
DTSTAMP:20260423T052803
CREATED:20250923T191055Z
LAST-MODIFIED:20250923T191055Z
UID:10006252-1779818400-1779822000@cathedralofhope.org
SUMMARY:ELPC Ringers Rehearsal
DESCRIPTION:The ELPC Ringers rehearse on Tuesdays\, 6–7 pm\, in Dr. Ed Moore’s office and rings periodically throughout the year at our Sanctuary worship service on Sundays at 11 am. We ring on a four-octave set of Schulmerich handbells. \nPlease contact Dr. Ed Moore for more information on joining the ELPC Ringers.
URL:https://cathedralofhope.org/event/elpc-ringers-rehearsal-2/2026-05-26/
LOCATION:East Liberty Presbyterian Church\, 116 S. Highland Avenue\, Pittsburgh\, PA\, 15206\, United States
CATEGORIES:Church Life,Music
ATTACH;FMTTYPE=image/jpeg:https://cathedralofhope.org/wp-content/uploads/2018/08/C571072C-EC0E-4F73-B136-404F76BC55FC_1_105_c.jpeg
GEO:40.4609708;-79.9253554
X-APPLE-STRUCTURED-LOCATION;VALUE=URI;X-ADDRESS=East Liberty Presbyterian Church 116 S. Highland Avenue Pittsburgh PA 15206 United States;X-APPLE-RADIUS=500;X-TITLE=116 S. Highland Avenue:geo:-79.9253554,40.4609708
END:VEVENT
BEGIN:VEVENT
DTSTART;TZID=America/Halifax:20260528T190000
DTEND;TZID=America/Halifax:20260528T203000
DTSTAMP:20260423T052803
CREATED:20260127T194637Z
LAST-MODIFIED:20260127T195431Z
UID:10003652-1779994800-1780000200@cathedralofhope.org
SUMMARY:Chancel Choir Rehearsal
DESCRIPTION:The Chancel Choir rehearses in the Sanctuary on Thursdays\, 7–8:30 pm\, from September through early June (unless noted otherwise). Sunday morning rehearsals are at 10 am\, in preparation for the worship service. The choir provides musical leadership at our Sanctuary worship service on Sundays. \nNo audition is required\, just the desire to learn and have fun as we prepare to lead worship. The choir is open to everyone in high school and older. \nDr. Ed Moore is the director of the Chancel Choir. \nCome join us and make a joyful noise!
URL:https://cathedralofhope.org/event/chancel-choir-rehearsal-3/2026-05-28/
LOCATION:ELPC – Sanctuary\, 116 South Highland Avenue\, Pittsburgh\, PA\, 15206\, United States
CATEGORIES:Church Life,Music
ATTACH;FMTTYPE=image/jpeg:https://cathedralofhope.org/wp-content/uploads/2022/08/20181111_pittsburgh-8479.jpg
ORGANIZER;CN="Dr. Ed Moore":MAILTO:EdM@coh.net
GEO:40.461033;-79.925503
X-APPLE-STRUCTURED-LOCATION;VALUE=URI;X-ADDRESS=ELPC – Sanctuary 116 South Highland Avenue Pittsburgh PA 15206 United States;X-APPLE-RADIUS=500;X-TITLE=116 South Highland Avenue:geo:-79.925503,40.461033
END:VEVENT
BEGIN:VEVENT
DTSTART;TZID=America/New_York:20260531T150000
DTEND;TZID=America/New_York:20260531T163000
DTSTAMP:20260423T052803
CREATED:20260312T163303Z
LAST-MODIFIED:20260409T203848Z
UID:10006358-1780239600-1780245000@cathedralofhope.org
SUMMARY:Cathedral Concert - Nathaniel Gumbs\, organist
DESCRIPTION:RESCHEDULED FROM APRIL 12 – Unfortunately Dr. Gumbs is unable to join us on April 12 due to a back injury\, but we are so glad he and Olanna Miller were able to reschedule for May 31.  Please join us then! \nSunday\, May 31\, 2026 – 3:00 PM in the Sanctuary \nELPC members and friends should contact Dr. Ed Moore (EdM@coh.net) for complimentary tickets.  Tickets for the general public are available here: Organ Artists Series of Pittsburgh Tickets \nVirtuoso performer Nathaniel Gumbs is joined by a guest soprano Olanna Miller\, née Goudeau\, to present a concert of classical and modern selections for organ and voice – including a few settings of spirituals. Mrs. Miller is a much-sought-after soloist\, having performed on stage nationally and notably on Season 9 of NBC’s America’s Got Talent. \nNathaniel Gumbs is a native of the Bronx\, NY and has performed throughout the United States and abroad\, including Antigua\, St. Thomas\, Ghana\, Paris\, and Munich\, and is consistently gathering new fans and followers. In a review of a recorded performance with bass-baritone Dashon Burton\, The New York Times described Nathaniel’s playing as “mature\, lyrical\, accurate and energetic\,” and that his performance was presented “deftly and with feeling.” \nDr. Gumbs currently serves as Director of Music at The Riverside Church in New York City. He earned his undergraduate degree from Shenandoah Conservatory in Virginia\, his Master of Music degree from Yale University\, and his Doctor of Musical Arts degree from the Eastman School of Music. Nathaniel’s principal teachers include Steven Cooksey\, David Higgs\, and Martin Jean. \nPrior to his position at The Riverside Church\, Nathaniel served as Director of Chapel Music at Yale University where he worked with students\, faculty\, and guests to coordinate music for three worshiping communities: the University Church in Battell Chapel\, the Yale Divinity School community\, and the Berkeley Divinity School community\, the latter two communities both worshiping in Marquand Chapel. He also served previously as Interim Minister of Music and Fine Arts at the historic Abyssinian Baptist Church in Harlem\, NY\, and as Director of Music and Arts and Church Organist at Friendship Missionary Baptist Church in Charlotte\, NC\, where he led several hundred volunteer musicians and staff in four choirs and other ensembles. \nNathaniel maintains a vibrant career as a concert organist\, managed by Karen McFarlane Artists\, Inc. He is also featured on various recording projects through GIA publications with Dr. James Abbington\, choral projects with award-winning conductor Dr. Jason Max Ferdinand\, and recordings of revised choral works by Margaret Bonds with NY Philharmonic’s Chorus Director\, Dr. Malcolm Merriweather. Nathaniel is a contributing composer in Pulling Out The Stops\, Volume 3\, Congregational Song Accompaniments for Organ\, published by Augsburg Fortress. Most recently\, he released his first organ solo project entitled King of Kings: Organ Music of Black Composers\, Past and Present.
URL:https://cathedralofhope.org/event/cathedral-concert-nathaniel-gumbs-organist/
LOCATION:ELPC – Sanctuary\, 116 South Highland Avenue\, Pittsburgh\, PA\, 15206\, United States
CATEGORIES:Cathedral Concerts,Church Life,Community,Concerts,Featured Events,Music,Special Events
ATTACH;FMTTYPE=image/jpeg:https://cathedralofhope.org/wp-content/uploads/2025/06/Nathaniel-Gumbs-e1751319127978.jpeg
ORGANIZER;CN="Dr. Ed Moore":MAILTO:EdM@coh.net
GEO:40.461033;-79.925503
X-APPLE-STRUCTURED-LOCATION;VALUE=URI;X-ADDRESS=ELPC – Sanctuary 116 South Highland Avenue Pittsburgh PA 15206 United States;X-APPLE-RADIUS=500;X-TITLE=116 South Highland Avenue:geo:-79.925503,40.461033
END:VEVENT
BEGIN:VEVENT
DTSTART;TZID=America/Halifax:20260604T190000
DTEND;TZID=America/Halifax:20260604T203000
DTSTAMP:20260423T052803
CREATED:20260127T194637Z
LAST-MODIFIED:20260127T195431Z
UID:10003653-1780599600-1780605000@cathedralofhope.org
SUMMARY:Chancel Choir Rehearsal
DESCRIPTION:The Chancel Choir rehearses in the Sanctuary on Thursdays\, 7–8:30 pm\, from September through early June (unless noted otherwise). Sunday morning rehearsals are at 10 am\, in preparation for the worship service. The choir provides musical leadership at our Sanctuary worship service on Sundays. \nNo audition is required\, just the desire to learn and have fun as we prepare to lead worship. The choir is open to everyone in high school and older. \nDr. Ed Moore is the director of the Chancel Choir. \nCome join us and make a joyful noise!
URL:https://cathedralofhope.org/event/chancel-choir-rehearsal-3/2026-06-04/
LOCATION:ELPC – Sanctuary\, 116 South Highland Avenue\, Pittsburgh\, PA\, 15206\, United States
CATEGORIES:Church Life,Music
ATTACH;FMTTYPE=image/jpeg:https://cathedralofhope.org/wp-content/uploads/2022/08/20181111_pittsburgh-8479.jpg
ORGANIZER;CN="Dr. Ed Moore":MAILTO:EdM@coh.net
GEO:40.461033;-79.925503
X-APPLE-STRUCTURED-LOCATION;VALUE=URI;X-ADDRESS=ELPC – Sanctuary 116 South Highland Avenue Pittsburgh PA 15206 United States;X-APPLE-RADIUS=500;X-TITLE=116 South Highland Avenue:geo:-79.925503,40.461033
END:VEVENT
END:VCALENDAR