BEGIN:VCALENDAR
VERSION:2.0
PRODID:-//East Liberty Presbyterian Church - ECPv6.15.20//NONSGML v1.0//EN
CALSCALE:GREGORIAN
METHOD:PUBLISH
X-WR-CALNAME:East Liberty Presbyterian Church
X-ORIGINAL-URL:https://cathedralofhope.org
X-WR-CALDESC:Events for East Liberty Presbyterian Church
REFRESH-INTERVAL;VALUE=DURATION:PT1H
X-Robots-Tag:noindex
X-PUBLISHED-TTL:PT1H
BEGIN:VTIMEZONE
TZID:America/New_York
BEGIN:DAYLIGHT
TZOFFSETFROM:-0500
TZOFFSETTO:-0400
TZNAME:EDT
DTSTART:20190310T070000
END:DAYLIGHT
BEGIN:STANDARD
TZOFFSETFROM:-0400
TZOFFSETTO:-0500
TZNAME:EST
DTSTART:20191103T060000
END:STANDARD
BEGIN:DAYLIGHT
TZOFFSETFROM:-0500
TZOFFSETTO:-0400
TZNAME:EDT
DTSTART:20200308T070000
END:DAYLIGHT
BEGIN:STANDARD
TZOFFSETFROM:-0400
TZOFFSETTO:-0500
TZNAME:EST
DTSTART:20201101T060000
END:STANDARD
BEGIN:DAYLIGHT
TZOFFSETFROM:-0500
TZOFFSETTO:-0400
TZNAME:EDT
DTSTART:20210314T070000
END:DAYLIGHT
BEGIN:STANDARD
TZOFFSETFROM:-0400
TZOFFSETTO:-0500
TZNAME:EST
DTSTART:20211107T060000
END:STANDARD
END:VTIMEZONE
BEGIN:VTIMEZONE
TZID:America/Halifax
BEGIN:DAYLIGHT
TZOFFSETFROM:-0400
TZOFFSETTO:-0300
TZNAME:ADT
DTSTART:20150308T060000
END:DAYLIGHT
BEGIN:STANDARD
TZOFFSETFROM:-0300
TZOFFSETTO:-0400
TZNAME:AST
DTSTART:20151101T050000
END:STANDARD
BEGIN:DAYLIGHT
TZOFFSETFROM:-0400
TZOFFSETTO:-0300
TZNAME:ADT
DTSTART:20160313T060000
END:DAYLIGHT
BEGIN:STANDARD
TZOFFSETFROM:-0300
TZOFFSETTO:-0400
TZNAME:AST
DTSTART:20161106T050000
END:STANDARD
BEGIN:DAYLIGHT
TZOFFSETFROM:-0400
TZOFFSETTO:-0300
TZNAME:ADT
DTSTART:20170312T060000
END:DAYLIGHT
BEGIN:STANDARD
TZOFFSETFROM:-0300
TZOFFSETTO:-0400
TZNAME:AST
DTSTART:20171105T050000
END:STANDARD
BEGIN:DAYLIGHT
TZOFFSETFROM:-0400
TZOFFSETTO:-0300
TZNAME:ADT
DTSTART:20180311T060000
END:DAYLIGHT
BEGIN:STANDARD
TZOFFSETFROM:-0300
TZOFFSETTO:-0400
TZNAME:AST
DTSTART:20181104T050000
END:STANDARD
BEGIN:DAYLIGHT
TZOFFSETFROM:-0400
TZOFFSETTO:-0300
TZNAME:ADT
DTSTART:20190310T060000
END:DAYLIGHT
BEGIN:STANDARD
TZOFFSETFROM:-0300
TZOFFSETTO:-0400
TZNAME:AST
DTSTART:20191103T050000
END:STANDARD
END:VTIMEZONE
BEGIN:VEVENT
DTSTART;TZID=America/New_York:20201024T140000
DTEND;TZID=America/New_York:20201024T150000
DTSTAMP:20260423T085405
CREATED:20201009T121023Z
LAST-MODIFIED:20201009T121023Z
UID:10006430-1603548000-1603551600@cathedralofhope.org
SUMMARY:PW: Walking Tour of Homewood Cemetery
DESCRIPTION:All women are invited to join Presbyterian Women on Saturday\, October 24\, 2 pm (Rain Date Saturday\, November 7)\, for a walking tour of Homewood Cemetery. Together\, we will explore ideas of the relationship between life and death as we prepare for our Bible Study lesson\, Lamenting Death. We also will learn about the famous and ordinary people buried in Homewood Cemetery.\n\nWe will walk in small groups\, masked and socially distanced.\n\nFor more information\, contact PW.ELPC@gmail.com.
URL:https://cathedralofhope.org/event/pw-walking-tour-of-homewood-cemetery/
CATEGORIES:Church Life,Presbyterian Women
END:VEVENT
BEGIN:VEVENT
DTSTART;TZID=America/New_York:20200818T120000
DTEND;TZID=America/New_York:20200818T130000
DTSTAMP:20260423T085405
CREATED:20200723T144044Z
LAST-MODIFIED:20200723T144044Z
UID:10005120-1597752000-1597755600@cathedralofhope.org
SUMMARY:New PW Bible Study & Virtual Lunch
DESCRIPTION:How can we faithfully respond to difficult situations in the world? The ancients lamented to God\, often in very explicit language. The lamenter finds strength to face the world as she remembers God\, confident in the hope that God’s reign is coming. Prayers of lament are expressed in words\, music\, or art. \nAll women are invited to join us for Reclaiming Lament (introduction and virtual lunch) on Tuesday\, August 18\, 12 pm. Our first lesson\, Heart of Lament\, will begin on Monday\, September 14\, 7 pm\, or Tuesday\, September 15\, 10 am. Lessons will then continue on the first Monday and Tuesday of every month\, along with a mid-Month virtual lunch to share laments in writing\, art\, or music. \nWe hope you will join us as we begin to explore this ancient form of prayer and protest. For more information or to ask questions\, please email PW.ELPC@gmail.com.
URL:https://cathedralofhope.org/event/new-pw-bible-study/
CATEGORIES:Featured Events,Presbyterian Women
ATTACH;FMTTYPE=image/jpeg:https://cathedralofhope.org/wp-content/uploads/2020/07/Into-the-Light.jpg
END:VEVENT
BEGIN:VEVENT
DTSTART;TZID=America/New_York:20200811T120000
DTEND;TZID=America/New_York:20200811T140000
DTSTAMP:20260423T085405
CREATED:20200729T221757Z
LAST-MODIFIED:20200729T221757Z
UID:10005122-1597147200-1597154400@cathedralofhope.org
SUMMARY:PW Bible Study Book Pick Up
DESCRIPTION:Presbyterian Women in ELPC will begin a new Bible study series\, titled Into the Light: Finding Hope Through Prayers of Lament\, in September. Study books may be picked up at ELPC’s Highland entrance on Wednesday\, August 5\, 11 am–1 pm\, or Tuesday\, August 11\, 12–2 pm. \nAll women are invited to join us for Reclaiming Lament (introduction and virtual lunch) on Tuesday\, August 18\, 12 pm. Our first lesson\, Heart of Lament\, will begin on Monday\, September 14\, 7 pm\, or Tuesday\, September 15\, 10 am. Lessons will then continue on the first Monday and Tuesday of every month\, along with a mid-Month virtual lunch to share laments in writing\, art\, or music. \nWe hope you will join us as we begin to explore this ancient form of prayer and protest. For more information or to ask questions\, please email PW.ELPC@gmail.com.
URL:https://cathedralofhope.org/event/pw-bible-study-book-pick-up/2020-08-11/
LOCATION:East Liberty Presbyterian Church\, 116 S. Highland Avenue\, Pittsburgh\, PA\, 15206\, United States
CATEGORIES:Church Life,Presbyterian Women
ATTACH;FMTTYPE=image/jpeg:https://cathedralofhope.org/wp-content/uploads/2020/07/Into-the-Light.jpg
GEO:40.4609708;-79.9253554
X-APPLE-STRUCTURED-LOCATION;VALUE=URI;X-ADDRESS=East Liberty Presbyterian Church 116 S. Highland Avenue Pittsburgh PA 15206 United States;X-APPLE-RADIUS=500;X-TITLE=116 S. Highland Avenue:geo:-79.9253554,40.4609708
END:VEVENT
BEGIN:VEVENT
DTSTART;TZID=America/New_York:20200805T110000
DTEND;TZID=America/New_York:20200805T130000
DTSTAMP:20260423T085405
CREATED:20200729T221757Z
LAST-MODIFIED:20200729T221757Z
UID:10005121-1596625200-1596632400@cathedralofhope.org
SUMMARY:PW Bible Study Book Pick Up
DESCRIPTION:Presbyterian Women in ELPC will begin a new Bible study series\, titled Into the Light: Finding Hope Through Prayers of Lament\, in September. Study books may be picked up at ELPC’s Highland entrance on Wednesday\, August 5\, 11 am–1 pm\, or Tuesday\, August 11\, 12–2 pm. \nAll women are invited to join us for Reclaiming Lament (introduction and virtual lunch) on Tuesday\, August 18\, 12 pm. Our first lesson\, Heart of Lament\, will begin on Monday\, September 14\, 7 pm\, or Tuesday\, September 15\, 10 am. Lessons will then continue on the first Monday and Tuesday of every month\, along with a mid-Month virtual lunch to share laments in writing\, art\, or music. \nWe hope you will join us as we begin to explore this ancient form of prayer and protest. For more information or to ask questions\, please email PW.ELPC@gmail.com.
URL:https://cathedralofhope.org/event/pw-bible-study-book-pick-up/2020-08-05/
LOCATION:East Liberty Presbyterian Church\, 116 S. Highland Avenue\, Pittsburgh\, PA\, 15206\, United States
CATEGORIES:Church Life,Presbyterian Women
ATTACH;FMTTYPE=image/jpeg:https://cathedralofhope.org/wp-content/uploads/2020/07/Into-the-Light.jpg
GEO:40.4609708;-79.9253554
X-APPLE-STRUCTURED-LOCATION;VALUE=URI;X-ADDRESS=East Liberty Presbyterian Church 116 S. Highland Avenue Pittsburgh PA 15206 United States;X-APPLE-RADIUS=500;X-TITLE=116 S. Highland Avenue:geo:-79.9253554,40.4609708
END:VEVENT
BEGIN:VEVENT
DTSTART;TZID=America/New_York:20200728T120000
DTEND;TZID=America/New_York:20200728T130000
DTSTAMP:20260423T085405
CREATED:20200506T175432Z
LAST-MODIFIED:20200506T175432Z
UID:10005097-1595937600-1595941200@cathedralofhope.org
SUMMARY:PW Virtual Lunch
DESCRIPTION:All women are invited to gather on Zoom. Bring your own lunch and join in a time of listening\, sharing and praying. \nIf you’d like to attend\, please email PW.ELPC@gmail.com.
URL:https://cathedralofhope.org/event/pw-virtual-lunch/2020-07-28/
CATEGORIES:Featured Events,Presbyterian Women
END:VEVENT
BEGIN:VEVENT
DTSTART;TZID=America/New_York:20200630T120000
DTEND;TZID=America/New_York:20200630T130000
DTSTAMP:20260423T085405
CREATED:20200506T175432Z
LAST-MODIFIED:20200506T175432Z
UID:10005096-1593518400-1593522000@cathedralofhope.org
SUMMARY:PW Virtual Lunch
DESCRIPTION:All women are invited to gather on Zoom. Bring your own lunch and join in a time of listening\, sharing and praying. \nIf you’d like to attend\, please email PW.ELPC@gmail.com.
URL:https://cathedralofhope.org/event/pw-virtual-lunch/2020-06-30/
CATEGORIES:Featured Events,Presbyterian Women
END:VEVENT
BEGIN:VEVENT
DTSTART;TZID=America/New_York:20200421T120000
DTEND;TZID=America/New_York:20200421T130000
DTSTAMP:20260423T085405
CREATED:20200417T135051Z
LAST-MODIFIED:20200417T135051Z
UID:10005094-1587470400-1587474000@cathedralofhope.org
SUMMARY:PW's Favorite Hymns and Virtual Lunch
DESCRIPTION:Which hymn brings you solace and comfort in this difficult time? Is it a hymn from your childhood or one you just added to your playlist on your phone? \nPresbyterian Women invites you to gather together online via Zoom to share your favorite hymns and enjoy a virtual lunch! Think about all of the cooking you’ve been doing under “stay at home” and BYOF! \nIf you’d like to participate\, please email PW.ELPC@gmail.com for details.
URL:https://cathedralofhope.org/event/pws-favorite-hymns-and-virtual-lunch/
CATEGORIES:Featured Events,Presbyterian Women
ATTACH;FMTTYPE=image/jpeg:https://cathedralofhope.org/wp-content/uploads/2020/04/PW-logo-REFLEX-1.jpg
ORGANIZER;CN="Presbyterian Women":MAILTO:PW.ELPC@gmail.com
END:VEVENT
BEGIN:VEVENT
DTSTART;TZID=America/Halifax:20180414T080000
DTEND;TZID=America/Halifax:20180414T163000
DTSTAMP:20260423T085405
CREATED:20180223T142824Z
LAST-MODIFIED:20180223T142824Z
UID:10002758-1523692800-1523723400@cathedralofhope.org
SUMMARY:World Mission Initiative Conference
DESCRIPTION:Presbyterian Women invites you to be their guests at the World Mission Initiative Conference\, All God’s Children: Justice in God’s Mission\, from Fri.–Sat.\, April 13–14\, at Pittsburgh Theological Seminary. The keynote speakers are the Rev. Mark Adams and Miriam Maldonado\, PC(USA) mission co-workers in Agua Prieta\, Mexico\, and the Rev. Brian Cross of International Justice Mission. \nYour registration has been paid for and meals are included. Walk-in registrations are available. Click here to download a flyer. \nFor more details\, visit PTS.edu/wmi-conference and see the ELPC bulletin.
URL:https://cathedralofhope.org/event/world-mission-initiative-conference/2018-04-14/
LOCATION:Pittsburgh Theological Seminary\, 616 N. Highland Avenue\, Pittsburgh\, PA\, 15206\, United States
CATEGORIES:Community,Featured Events,Mission Activities,Presbyterian Women
ATTACH;FMTTYPE=image/jpeg:https://cathedralofhope.org/wp-content/uploads/2018/02/WMI-Conference.jpg
GEO:40.467287;-79.920961
X-APPLE-STRUCTURED-LOCATION;VALUE=URI;X-ADDRESS=Pittsburgh Theological Seminary 616 N. Highland Avenue Pittsburgh PA 15206 United States;X-APPLE-RADIUS=500;X-TITLE=616 N. Highland Avenue:geo:-79.920961,40.467287
END:VEVENT
BEGIN:VEVENT
DTSTART;TZID=America/Halifax:20180413T070000
DTEND;TZID=America/Halifax:20180413T204500
DTSTAMP:20260423T085405
CREATED:20180223T142824Z
LAST-MODIFIED:20180223T142824Z
UID:10002757-1523602800-1523652300@cathedralofhope.org
SUMMARY:World Mission Initiative Conference
DESCRIPTION:Presbyterian Women invites you to be their guests at the World Mission Initiative Conference\, All God’s Children: Justice in God’s Mission\, from Fri.–Sat.\, April 13–14\, at Pittsburgh Theological Seminary. The keynote speakers are the Rev. Mark Adams and Miriam Maldonado\, PC(USA) mission co-workers in Agua Prieta\, Mexico\, and the Rev. Brian Cross of International Justice Mission. \nYour registration has been paid for and meals are included. Walk-in registrations are available. Click here to download a flyer. \nFor more details\, visit PTS.edu/wmi-conference and see the ELPC bulletin.
URL:https://cathedralofhope.org/event/world-mission-initiative-conference/2018-04-13/
LOCATION:Pittsburgh Theological Seminary\, 616 N. Highland Avenue\, Pittsburgh\, PA\, 15206\, United States
CATEGORIES:Community,Featured Events,Mission Activities,Presbyterian Women
ATTACH;FMTTYPE=image/jpeg:https://cathedralofhope.org/wp-content/uploads/2018/02/WMI-Conference.jpg
GEO:40.467287;-79.920961
X-APPLE-STRUCTURED-LOCATION;VALUE=URI;X-ADDRESS=Pittsburgh Theological Seminary 616 N. Highland Avenue Pittsburgh PA 15206 United States;X-APPLE-RADIUS=500;X-TITLE=616 N. Highland Avenue:geo:-79.920961,40.467287
END:VEVENT
BEGIN:VEVENT
DTSTART;TZID=America/Halifax:20171021T163000
DTEND;TZID=America/Halifax:20171021T183000
DTSTAMP:20260423T085405
CREATED:20170919T193438Z
LAST-MODIFIED:20170919T193438Z
UID:10003342-1508603400-1508610600@cathedralofhope.org
SUMMARY:Presbyterian Women Fall Social
DESCRIPTION:Looking for a fun way to start the fall season? Presbyterian Women has just the thing for you! All women and girls—especially mother and daughter pairs of all ages—are invited to our fall social. Our theme will be: Celebrating the Stages of Women from Diapers to Golden Years. \nThere will be prizes for the youngest baby and the oldest mother\, and more games and prizes will brighten the afternoon. One highlight will be a tableau of well-known women of the Bible in colorful costumes. The actresses will provide interesting information about how each woman witnessed to God in her time. \nTasty refreshments will be available and potluck donations of salads\, snacks\, and desserts will be most welcome. Everyone will have an opportunity to contribute to PW’s on-going mission projects\, the Western Pennsylvania Diaper Bank and Living-in-Liberty\, by donating a package of diapers\, feminine care products\, or adult incontinence products.
URL:https://cathedralofhope.org/event/presbyterian-women-fall-social/
LOCATION:ELPC – Social Hall\, 116 South Highland Avenue\, Pittsburgh\, PA\, 15206\, United States
CATEGORIES:Community,Featured Events,Presbyterian Women
GEO:40.4610063;-79.925589
X-APPLE-STRUCTURED-LOCATION;VALUE=URI;X-ADDRESS=ELPC – Social Hall 116 South Highland Avenue Pittsburgh PA 15206 United States;X-APPLE-RADIUS=500;X-TITLE=116 South Highland Avenue:geo:-79.925589,40.4610063
END:VEVENT
BEGIN:VEVENT
DTSTART;TZID=America/Halifax:20171001T121500
DTEND;TZID=America/Halifax:20171001T133000
DTSTAMP:20260423T085405
CREATED:20170925T133615Z
LAST-MODIFIED:20170925T133615Z
UID:10003382-1506860100-1506864600@cathedralofhope.org
SUMMARY:Guest Speaker: Madam Achol Majols Kur Kier
DESCRIPTION:Join the ELPC Peace Committee and Presbyterian Women to hear Madam Achol Majols Kur Kier\, who is visiting the Pittsburgh Presbytery as part of the PC(USA)’s International Peacemakers’ Program. A light lunch will be served. \nPlease RSVP to Kay Shissler at 412.681.2047.
URL:https://cathedralofhope.org/event/guest-speaker-madam-achol-majols-kur-kier/
LOCATION:ELPC – Social Hall\, 116 South Highland Avenue\, Pittsburgh\, PA\, 15206\, United States
CATEGORIES:Community,Featured Events,Presbyterian Women
GEO:40.4610063;-79.925589
X-APPLE-STRUCTURED-LOCATION;VALUE=URI;X-ADDRESS=ELPC – Social Hall 116 South Highland Avenue Pittsburgh PA 15206 United States;X-APPLE-RADIUS=500;X-TITLE=116 South Highland Avenue:geo:-79.925589,40.4610063
END:VEVENT
BEGIN:VEVENT
DTSTART;TZID=America/Halifax:20160514T163000
DTEND;TZID=America/Halifax:20160514T183000
DTSTAMP:20260423T085405
CREATED:20160506T121641Z
LAST-MODIFIED:20160506T121641Z
UID:10002992-1463243400-1463250600@cathedralofhope.org
SUMMARY:PW Spring Social Potluck
DESCRIPTION:When women support each other\, incredible things happen! Let’s get together\, meet\, network\, socialize\, and have fun as sisters in Christ in the Social Hall. Every woman in the congregation is invited\, as we are all a part of Presbyterian Women! \nWe ask that you bring a salad\, entree\, side\, or dessert that introduces you. It could be your favorite food\, a family favorite dish\, a cultural dish\, or a dish that has your name in it! Be as creative as you would like with this assignment as we celebrate who we are as women and gather for a time of fellowship with one another. \nPlease RSVP with what category of dish you will bring (salad\, entree\, side\, or dessert) to Kelli Booher by email at kjbooher@gmail.com or text/call 405.501.0711.
URL:https://cathedralofhope.org/event/pw-spring-social-potluck/
LOCATION:ELPC – Social Hall\, 116 South Highland Avenue\, Pittsburgh\, PA\, 15206\, United States
CATEGORIES:Featured Events,Presbyterian Women
GEO:40.4610063;-79.925589
X-APPLE-STRUCTURED-LOCATION;VALUE=URI;X-ADDRESS=ELPC – Social Hall 116 South Highland Avenue Pittsburgh PA 15206 United States;X-APPLE-RADIUS=500;X-TITLE=116 South Highland Avenue:geo:-79.925589,40.4610063
END:VEVENT
BEGIN:VEVENT
DTSTART;VALUE=DATE:20160408
DTEND;VALUE=DATE:20160410
DTSTAMP:20260423T085405
CREATED:20160209T213525Z
LAST-MODIFIED:20160209T213525Z
UID:10002914-1460073600-1460246399@cathedralofhope.org
SUMMARY:World Mission Initiative Conference
DESCRIPTION:Presbyterian Women invites you to attend the World Mission Initiative 2016 Conference: Recalibrating the Church for the 21st Century\, at Pittsburgh Theological Seminary on Friday and Saturday\, April 8 and 9. Your registration has been paid and meals are included. \nThe keynote speaker is Alan Hirsch. He is the founding director of Forge Mission Training Network. Known for his innovative approach to mission\, Alan is considered to be a thought-leader and key mission strategist for churches across the Western world. He is author and co-author of a number of books including The Permanent Revolution\, The Forgotten Ways\, and ReJesus: A Wild Messiah for a Missional Church. Alan will offer three keynote addresses and a workshop during the conference. \nThere are 20 different workshops to choose from when you register. You can register online at www.WorldMissionInitiative.org\, just select Individual Registration and then Church Group Participant Registration when registering. \nContact Kelli Booher at 405.501.0711 or kjbooher[at]gmail.com with any questions.
URL:https://cathedralofhope.org/event/18960/
LOCATION:Pittsburgh Theological Seminary\, 616 N. Highland Avenue\, Pittsburgh\, PA\, 15206\, United States
CATEGORIES:Church Life,Community,Presbyterian Women
ATTACH;FMTTYPE=image/jpeg:https://cathedralofhope.org/wp-content/uploads/2016/02/2016-Conference-Basic.jpg
GEO:40.467287;-79.920961
X-APPLE-STRUCTURED-LOCATION;VALUE=URI;X-ADDRESS=Pittsburgh Theological Seminary 616 N. Highland Avenue Pittsburgh PA 15206 United States;X-APPLE-RADIUS=500;X-TITLE=616 N. Highland Avenue:geo:-79.920961,40.467287
END:VEVENT
END:VCALENDAR