BEGIN:VCALENDAR
VERSION:2.0
PRODID:-//East Liberty Presbyterian Church - ECPv6.15.20//NONSGML v1.0//EN
CALSCALE:GREGORIAN
METHOD:PUBLISH
X-ORIGINAL-URL:https://cathedralofhope.org
X-WR-CALDESC:Events for East Liberty Presbyterian Church
REFRESH-INTERVAL;VALUE=DURATION:PT1H
X-Robots-Tag:noindex
X-PUBLISHED-TTL:PT1H
BEGIN:VTIMEZONE
TZID:America/New_York
BEGIN:DAYLIGHT
TZOFFSETFROM:-0500
TZOFFSETTO:-0400
TZNAME:EDT
DTSTART:20250309T070000
END:DAYLIGHT
BEGIN:STANDARD
TZOFFSETFROM:-0400
TZOFFSETTO:-0500
TZNAME:EST
DTSTART:20251102T060000
END:STANDARD
BEGIN:DAYLIGHT
TZOFFSETFROM:-0500
TZOFFSETTO:-0400
TZNAME:EDT
DTSTART:20260308T070000
END:DAYLIGHT
BEGIN:STANDARD
TZOFFSETFROM:-0400
TZOFFSETTO:-0500
TZNAME:EST
DTSTART:20261101T060000
END:STANDARD
BEGIN:DAYLIGHT
TZOFFSETFROM:-0500
TZOFFSETTO:-0400
TZNAME:EDT
DTSTART:20270314T070000
END:DAYLIGHT
BEGIN:STANDARD
TZOFFSETFROM:-0400
TZOFFSETTO:-0500
TZNAME:EST
DTSTART:20271107T060000
END:STANDARD
END:VTIMEZONE
BEGIN:VEVENT
DTSTART;TZID=America/New_York:20260301T150000
DTEND;TZID=America/New_York:20260301T163000
DTSTAMP:20260423T084301
CREATED:20260220T193356Z
LAST-MODIFIED:20260226T220137Z
UID:10006712-1772377200-1772382600@cathedralofhope.org
SUMMARY:On a Sunday – Music of Sondheim
DESCRIPTION:ELPC soloists and choir are featured in a revue of music by the 20th Century’s most influential musical theatre composers\, Stephen Sondheim. \nLIVE in the Sanctuary at 3:00 PM and streaming on the\nELPC YouTube Channel – https://www.youtube.com/EastLibertyPresbyterianChurch\nELPC Facebook Page – https://www.facebook.com/EastLibertyPresbyterian \nThe concert is free and open to all. A freewill offering will be received at the concert.  http://tiny.cc/elpcdonate \nPROGRAM – Click here for a PDF of the printed program\nPutting It Together – from Sunday in the Park with George (1984)\nEnsemble\nDr. Edward Alan Moore\, piano \nBeing Alive – from Company (1970)\nDavid Jennings-Smith \nMaria – from West Side Story (1957) – music by Leonard Bernstein\, lyrics by Stephen Sondheim\nLogan Williams \nGreen Finch and Linnet Bird – from Sweeney Todd (1979)\nDenise Sheffey-Powell \nThe Glamorous Life – from A Little Night Music (1973)\nAdrianna Cleveland \nEverybody Says Don’t – from Anyone Can Whistle (1964)\nTodd Farwell \nUptown Downtown – from Follies (1971)\nLaura Alstro \nMoments in the Woods – from Into the Woods (1986)\nGail Novak Mosites \nThe Ladies Who Lunch – from Company (1970)\nKym\, Laret\, Gail Novak Mosites\, Denise Sheffey-Powell \nSend in the Clowns – from A Little Night Music (1973)\nTodd Farwell \nThe Last Midnight – from Into the Woods (1986)\nAdrianna Cleveland \nLosing My Mind – from Follies (1971)\nKym Laret \nI Remember – from Evening Primrose (1966)\nLaura Alstro \nOld Friends – from Merrily We Roll Along (1981)\nTim Chaplin\, Adrianna Cleveland\, Logan Williams \nSorry Grateful – from Company (1970)\nTim Chaplin \nLater – from A Little Night Music (1973)\nLogan Williams \nNot While I’m Around – from Sweeney Todd (1979)\nDavid Jennings-Smith \nChildren Will Listen – from Into the Woods (1986)\nDenise Sheffey-Powell \nSunday – from Sunday in the Park with George (1984)\nEnsemble\, Chancel Choir
URL:https://cathedralofhope.org/event/on-a-sunday-music-of-sondheim/
LOCATION:ELPC – Sanctuary\, 116 South Highland Avenue\, Pittsburgh\, PA\, 15206\, United States
CATEGORIES:Church Life,Concerts,Featured Events,Music,Special Events
ATTACH;FMTTYPE=image/jpeg:https://cathedralofhope.org/wp-content/uploads/2026/02/Sondheim.jpeg
ORGANIZER;CN="Dr. Ed Moore":MAILTO:EdM@coh.net
GEO:40.461033;-79.925503
X-APPLE-STRUCTURED-LOCATION;VALUE=URI;X-ADDRESS=ELPC – Sanctuary 116 South Highland Avenue Pittsburgh PA 15206 United States;X-APPLE-RADIUS=500;X-TITLE=116 South Highland Avenue:geo:-79.925503,40.461033
END:VEVENT
END:VCALENDAR