BEGIN:VCALENDAR
VERSION:2.0
PRODID:-//East Liberty Presbyterian Church - ECPv6.15.20//NONSGML v1.0//EN
CALSCALE:GREGORIAN
METHOD:PUBLISH
X-WR-CALNAME:East Liberty Presbyterian Church
X-ORIGINAL-URL:https://cathedralofhope.org
X-WR-CALDESC:Events for East Liberty Presbyterian Church
REFRESH-INTERVAL;VALUE=DURATION:PT1H
X-Robots-Tag:noindex
X-PUBLISHED-TTL:PT1H
BEGIN:VTIMEZONE
TZID:America/New_York
BEGIN:DAYLIGHT
TZOFFSETFROM:-0500
TZOFFSETTO:-0400
TZNAME:EDT
DTSTART:20250309T070000
END:DAYLIGHT
BEGIN:STANDARD
TZOFFSETFROM:-0400
TZOFFSETTO:-0500
TZNAME:EST
DTSTART:20251102T060000
END:STANDARD
BEGIN:DAYLIGHT
TZOFFSETFROM:-0500
TZOFFSETTO:-0400
TZNAME:EDT
DTSTART:20260308T070000
END:DAYLIGHT
BEGIN:STANDARD
TZOFFSETFROM:-0400
TZOFFSETTO:-0500
TZNAME:EST
DTSTART:20261101T060000
END:STANDARD
BEGIN:DAYLIGHT
TZOFFSETFROM:-0500
TZOFFSETTO:-0400
TZNAME:EDT
DTSTART:20270314T070000
END:DAYLIGHT
BEGIN:STANDARD
TZOFFSETFROM:-0400
TZOFFSETTO:-0500
TZNAME:EST
DTSTART:20271107T060000
END:STANDARD
END:VTIMEZONE
BEGIN:VEVENT
DTSTART;TZID=America/New_York:20260607T120000
DTEND;TZID=America/New_York:20260607T200000
DTSTAMP:20260423T103634
CREATED:20260409T155739Z
LAST-MODIFIED:20260409T155739Z
UID:10007391-1780833600-1780862400@cathedralofhope.org
SUMMARY:ELPC @ Pittsburgh Pride
DESCRIPTION:Our congregation is a proud participant in LAMP – LGBTQIA+ Affirming Ministries of Pittsburgh.  We are excited to again celebrate Pride in Pittsburgh this summer.  While there are many Pride events sponsored by different groups and in different neighborhoods around the area\, the ONE Pride event LAMP will be participating this year is Pittsburgh Pride March and Festival on Sunday\, June 7.  The March will begin at noon on Liberty Avenue concluding at Allegheny Commons Park West where the Festival will take place. \nCome out and celebrate while we share God’s love with all God’s people! \nMore information will be added to this post when available\,
URL:https://cathedralofhope.org/event/elpc-pittsburgh-pride/
LOCATION:Downtown Pittsburgh\, Pittsburgh\, PA\, United States
CATEGORIES:Community,Featured Events,LGBTQIA+,Special Events
ORGANIZER;CN="Wil Forrest":MAILTO:Wil@coh.net
GEO:40.4406248;-79.9958864
END:VEVENT
END:VCALENDAR