BEGIN:VCALENDAR
VERSION:2.0
PRODID:-//East Liberty Presbyterian Church - ECPv6.15.20//NONSGML v1.0//EN
CALSCALE:GREGORIAN
METHOD:PUBLISH
X-ORIGINAL-URL:https://cathedralofhope.org
X-WR-CALDESC:Events for East Liberty Presbyterian Church
REFRESH-INTERVAL;VALUE=DURATION:PT1H
X-Robots-Tag:noindex
X-PUBLISHED-TTL:PT1H
BEGIN:VTIMEZONE
TZID:America/New_York
BEGIN:DAYLIGHT
TZOFFSETFROM:-0500
TZOFFSETTO:-0400
TZNAME:EDT
DTSTART:20240310T070000
END:DAYLIGHT
BEGIN:STANDARD
TZOFFSETFROM:-0400
TZOFFSETTO:-0500
TZNAME:EST
DTSTART:20241103T060000
END:STANDARD
BEGIN:DAYLIGHT
TZOFFSETFROM:-0500
TZOFFSETTO:-0400
TZNAME:EDT
DTSTART:20250309T070000
END:DAYLIGHT
BEGIN:STANDARD
TZOFFSETFROM:-0400
TZOFFSETTO:-0500
TZNAME:EST
DTSTART:20251102T060000
END:STANDARD
BEGIN:DAYLIGHT
TZOFFSETFROM:-0500
TZOFFSETTO:-0400
TZNAME:EDT
DTSTART:20260308T070000
END:DAYLIGHT
BEGIN:STANDARD
TZOFFSETFROM:-0400
TZOFFSETTO:-0500
TZNAME:EST
DTSTART:20261101T060000
END:STANDARD
END:VTIMEZONE
BEGIN:VEVENT
DTSTART;TZID=America/New_York:20250601T120000
DTEND;TZID=America/New_York:20250601T210000
DTSTAMP:20260424T074456
CREATED:20250506T183444Z
LAST-MODIFIED:20250527T122710Z
UID:10006454-1748779200-1748811600@cathedralofhope.org
SUMMARY:ELPC @ Pittsburgh Pride 2025
DESCRIPTION:Our congregation is a proud participant in LAMP – LGBTQIA+ Affirming Ministries of Pittsburgh.  We are excited to again celebrate Pride in Pittsburgh this summer.  While there are many Pride events sponsored by different groups and in different neighborhoods around the area\, the ONE Pride event LAMP will be participating this year is Pittsburgh Pride March and Festival on Sunday\, June 1.  The March will begin at noon on Liberty Avenue concluding at Allegheny Commons Park West where the Festival will take place. This is the link to the sign up sheet for volunteers to staff the booth on Sunday\, June 1 – we need both lay and pastoral volunteers: https://www.signupgenius.com/go/10C0E48ADAB2DA4FAC25-56672328-pride. \nCome out and celebrate while we share God’s love with all God’s people! \nRead all about it on the ELPC Pittsburgh Pride Guide 2025
URL:https://cathedralofhope.org/event/elpc-pittsburgh-pride-2025/
LOCATION:Downtown Pittsburgh\, Pittsburgh\, PA\, United States
CATEGORIES:Church Life,Community,Featured Events,LGBTQIA+,Special Events
ORGANIZER;CN="Wil Forrest":MAILTO:Wil@coh.net
GEO:40.4406248;-79.9958864
END:VEVENT
END:VCALENDAR