BEGIN:VCALENDAR
VERSION:2.0
PRODID:-//East Liberty Presbyterian Church - ECPv6.15.20//NONSGML v1.0//EN
CALSCALE:GREGORIAN
METHOD:PUBLISH
X-ORIGINAL-URL:https://cathedralofhope.org
X-WR-CALDESC:Events for East Liberty Presbyterian Church
REFRESH-INTERVAL;VALUE=DURATION:PT1H
X-Robots-Tag:noindex
X-PUBLISHED-TTL:PT1H
BEGIN:VTIMEZONE
TZID:America/Halifax
BEGIN:DAYLIGHT
TZOFFSETFROM:-0400
TZOFFSETTO:-0300
TZNAME:ADT
DTSTART:20230312T060000
END:DAYLIGHT
BEGIN:STANDARD
TZOFFSETFROM:-0300
TZOFFSETTO:-0400
TZNAME:AST
DTSTART:20231105T050000
END:STANDARD
BEGIN:DAYLIGHT
TZOFFSETFROM:-0400
TZOFFSETTO:-0300
TZNAME:ADT
DTSTART:20240310T060000
END:DAYLIGHT
BEGIN:STANDARD
TZOFFSETFROM:-0300
TZOFFSETTO:-0400
TZNAME:AST
DTSTART:20241103T050000
END:STANDARD
BEGIN:DAYLIGHT
TZOFFSETFROM:-0400
TZOFFSETTO:-0300
TZNAME:ADT
DTSTART:20250309T060000
END:DAYLIGHT
BEGIN:STANDARD
TZOFFSETFROM:-0300
TZOFFSETTO:-0400
TZNAME:AST
DTSTART:20251102T050000
END:STANDARD
END:VTIMEZONE
BEGIN:VEVENT
DTSTART;TZID=America/Halifax:20241204T190000
DTEND;TZID=America/Halifax:20241204T200000
DTSTAMP:20260425T162821
CREATED:20190425T161656Z
LAST-MODIFIED:20260325T174045Z
UID:10004498-1733338800-1733342400@cathedralofhope.org
SUMMARY:Taizé Prayer Service
DESCRIPTION:ELPC offers evening prayers with chants from Taizé every Wednesday\, 7 pm\, in the Chapel. The hour-long service includes sung prayers\, beautiful music\, a time of silence\, spoken and silent prayers\, and opportunities for individual prayer and anointing. For more information\, view our Taizé page. \nDownload this week’s bulletin. \n\nAbout ELPC’s Taizé Prayer Service\nOur Taizé prayer service is based on a style of worship developed at the Taizé community in France founded in the 1940s by the late Brother Roger. Originally a refuge during the war\, Taizé has developed into an ecumenical prayer center for visitors from all over the world. Today\, the Taizé community is made up of over a hundred resident brothers\, both Catholics and from various Protestant backgrounds/traditions. Taizé wants to be a sign of reconciliation between divided Christians and between separated peoples.
URL:https://cathedralofhope.org/event/weekly-taize-service/2024-12-04/
LOCATION:ELPC – Chapel\, 116 South Highland Avenue\, Pittsburgh\, PA\, 15206\, United States
CATEGORIES:Worship Services
ATTACH;FMTTYPE=image/jpeg:https://cathedralofhope.org/wp-content/uploads/2014/05/taize15.jpg
GEO:40.461033;-79.925503
X-APPLE-STRUCTURED-LOCATION;VALUE=URI;X-ADDRESS=ELPC – Chapel 116 South Highland Avenue Pittsburgh PA 15206 United States;X-APPLE-RADIUS=500;X-TITLE=116 South Highland Avenue:geo:-79.925503,40.461033
END:VEVENT
BEGIN:VEVENT
DTSTART;TZID=America/Halifax:20241211T190000
DTEND;TZID=America/Halifax:20241211T200000
DTSTAMP:20260425T162821
CREATED:20190425T161656Z
LAST-MODIFIED:20260325T174045Z
UID:10004499-1733943600-1733947200@cathedralofhope.org
SUMMARY:Taizé Prayer Service
DESCRIPTION:ELPC offers evening prayers with chants from Taizé every Wednesday\, 7 pm\, in the Chapel. The hour-long service includes sung prayers\, beautiful music\, a time of silence\, spoken and silent prayers\, and opportunities for individual prayer and anointing. For more information\, view our Taizé page. \nDownload this week’s bulletin. \n\nAbout ELPC’s Taizé Prayer Service\nOur Taizé prayer service is based on a style of worship developed at the Taizé community in France founded in the 1940s by the late Brother Roger. Originally a refuge during the war\, Taizé has developed into an ecumenical prayer center for visitors from all over the world. Today\, the Taizé community is made up of over a hundred resident brothers\, both Catholics and from various Protestant backgrounds/traditions. Taizé wants to be a sign of reconciliation between divided Christians and between separated peoples.
URL:https://cathedralofhope.org/event/weekly-taize-service/2024-12-11/
LOCATION:ELPC – Chapel\, 116 South Highland Avenue\, Pittsburgh\, PA\, 15206\, United States
CATEGORIES:Worship Services
ATTACH;FMTTYPE=image/jpeg:https://cathedralofhope.org/wp-content/uploads/2014/05/taize15.jpg
GEO:40.461033;-79.925503
X-APPLE-STRUCTURED-LOCATION;VALUE=URI;X-ADDRESS=ELPC – Chapel 116 South Highland Avenue Pittsburgh PA 15206 United States;X-APPLE-RADIUS=500;X-TITLE=116 South Highland Avenue:geo:-79.925503,40.461033
END:VEVENT
BEGIN:VEVENT
DTSTART;TZID=America/Halifax:20241218T190000
DTEND;TZID=America/Halifax:20241218T200000
DTSTAMP:20260425T162821
CREATED:20190425T161656Z
LAST-MODIFIED:20260325T174045Z
UID:10004500-1734548400-1734552000@cathedralofhope.org
SUMMARY:Taizé Prayer Service
DESCRIPTION:ELPC offers evening prayers with chants from Taizé every Wednesday\, 7 pm\, in the Chapel. The hour-long service includes sung prayers\, beautiful music\, a time of silence\, spoken and silent prayers\, and opportunities for individual prayer and anointing. For more information\, view our Taizé page. \nDownload this week’s bulletin. \n\nAbout ELPC’s Taizé Prayer Service\nOur Taizé prayer service is based on a style of worship developed at the Taizé community in France founded in the 1940s by the late Brother Roger. Originally a refuge during the war\, Taizé has developed into an ecumenical prayer center for visitors from all over the world. Today\, the Taizé community is made up of over a hundred resident brothers\, both Catholics and from various Protestant backgrounds/traditions. Taizé wants to be a sign of reconciliation between divided Christians and between separated peoples.
URL:https://cathedralofhope.org/event/weekly-taize-service/2024-12-18/
LOCATION:ELPC – Chapel\, 116 South Highland Avenue\, Pittsburgh\, PA\, 15206\, United States
CATEGORIES:Worship Services
ATTACH;FMTTYPE=image/jpeg:https://cathedralofhope.org/wp-content/uploads/2014/05/taize15.jpg
GEO:40.461033;-79.925503
X-APPLE-STRUCTURED-LOCATION;VALUE=URI;X-ADDRESS=ELPC – Chapel 116 South Highland Avenue Pittsburgh PA 15206 United States;X-APPLE-RADIUS=500;X-TITLE=116 South Highland Avenue:geo:-79.925503,40.461033
END:VEVENT
BEGIN:VEVENT
DTSTART;TZID=America/Halifax:20241225T190000
DTEND;TZID=America/Halifax:20241225T200000
DTSTAMP:20260425T162821
CREATED:20190425T161656Z
LAST-MODIFIED:20260325T174045Z
UID:10004501-1735153200-1735156800@cathedralofhope.org
SUMMARY:Taizé Prayer Service
DESCRIPTION:ELPC offers evening prayers with chants from Taizé every Wednesday\, 7 pm\, in the Chapel. The hour-long service includes sung prayers\, beautiful music\, a time of silence\, spoken and silent prayers\, and opportunities for individual prayer and anointing. For more information\, view our Taizé page. \nDownload this week’s bulletin. \n\nAbout ELPC’s Taizé Prayer Service\nOur Taizé prayer service is based on a style of worship developed at the Taizé community in France founded in the 1940s by the late Brother Roger. Originally a refuge during the war\, Taizé has developed into an ecumenical prayer center for visitors from all over the world. Today\, the Taizé community is made up of over a hundred resident brothers\, both Catholics and from various Protestant backgrounds/traditions. Taizé wants to be a sign of reconciliation between divided Christians and between separated peoples.
URL:https://cathedralofhope.org/event/weekly-taize-service/2024-12-25/
LOCATION:ELPC – Chapel\, 116 South Highland Avenue\, Pittsburgh\, PA\, 15206\, United States
CATEGORIES:Worship Services
ATTACH;FMTTYPE=image/jpeg:https://cathedralofhope.org/wp-content/uploads/2014/05/taize15.jpg
GEO:40.461033;-79.925503
X-APPLE-STRUCTURED-LOCATION;VALUE=URI;X-ADDRESS=ELPC – Chapel 116 South Highland Avenue Pittsburgh PA 15206 United States;X-APPLE-RADIUS=500;X-TITLE=116 South Highland Avenue:geo:-79.925503,40.461033
END:VEVENT
BEGIN:VEVENT
DTSTART;TZID=America/Halifax:20241229T084500
DTEND;TZID=America/Halifax:20241229T094500
DTSTAMP:20260425T162821
CREATED:20230906T120056Z
LAST-MODIFIED:20241120T164036Z
UID:10006274-1735461900-1735465500@cathedralofhope.org
SUMMARY:no Journey Worship today
DESCRIPTION:  \nAbout ELPC’s Journey Worship Service\nOur Journey worship service is a lively service of spirit\, hope\, and praise in which we encounter God’s word in a fresh\, compelling way. The blending of contemporary music\, Gospel songs and hymns\, introspective worship\, and interactive communal praise helps to reflect the diverse\, creative spirit that is at the heart of ELPC. The service is led by ELPC’s pastoral staff.
URL:https://cathedralofhope.org/event/journey-worship-2024-12-29/
LOCATION:ELPC – Social Hall\, 116 South Highland Avenue\, Pittsburgh\, PA\, 15206\, United States
CATEGORIES:Worship Services
ATTACH;FMTTYPE=image/jpeg:https://cathedralofhope.org/wp-content/uploads/2017/09/AF5_1256_web.jpg
GEO:40.4610063;-79.925589
X-APPLE-STRUCTURED-LOCATION;VALUE=URI;X-ADDRESS=ELPC – Social Hall 116 South Highland Avenue Pittsburgh PA 15206 United States;X-APPLE-RADIUS=500;X-TITLE=116 South Highland Avenue:geo:-79.925589,40.4610063
END:VEVENT
END:VCALENDAR