BEGIN:VCALENDAR
VERSION:2.0
PRODID:-//East Liberty Presbyterian Church - ECPv6.15.20//NONSGML v1.0//EN
CALSCALE:GREGORIAN
METHOD:PUBLISH
X-ORIGINAL-URL:https://cathedralofhope.org
X-WR-CALDESC:Events for East Liberty Presbyterian Church
REFRESH-INTERVAL;VALUE=DURATION:PT1H
X-Robots-Tag:noindex
X-PUBLISHED-TTL:PT1H
BEGIN:VTIMEZONE
TZID:America/Halifax
BEGIN:DAYLIGHT
TZOFFSETFROM:-0400
TZOFFSETTO:-0300
TZNAME:ADT
DTSTART:20240310T060000
END:DAYLIGHT
BEGIN:STANDARD
TZOFFSETFROM:-0300
TZOFFSETTO:-0400
TZNAME:AST
DTSTART:20241103T050000
END:STANDARD
BEGIN:DAYLIGHT
TZOFFSETFROM:-0400
TZOFFSETTO:-0300
TZNAME:ADT
DTSTART:20250309T060000
END:DAYLIGHT
BEGIN:STANDARD
TZOFFSETFROM:-0300
TZOFFSETTO:-0400
TZNAME:AST
DTSTART:20251102T050000
END:STANDARD
BEGIN:DAYLIGHT
TZOFFSETFROM:-0400
TZOFFSETTO:-0300
TZNAME:ADT
DTSTART:20260308T060000
END:DAYLIGHT
BEGIN:STANDARD
TZOFFSETFROM:-0300
TZOFFSETTO:-0400
TZNAME:AST
DTSTART:20261101T050000
END:STANDARD
END:VTIMEZONE
BEGIN:VEVENT
DTSTART;TZID=America/Halifax:20251219T190000
DTEND;TZID=America/Halifax:20251219T200000
DTSTAMP:20260423T230008
CREATED:20241120T140021Z
LAST-MODIFIED:20251211T192143Z
UID:10004948-1766170800-1766174400@cathedralofhope.org
SUMMARY:Blue Christmas Service
DESCRIPTION:During the holiday season\, there is an expectation to be happy and filled with festive joy. Sadly\, many people are struggling emotionally\, mentally\, physically\, and spiritually. \nThrough loss\, heartache\, sadness\, or grief\, some of us have trouble being in the holiday spirit. To offer comfort and strength\, ELPC’s Board of Deacons will host our annual Blue Christmas service on Friday\, December 19\, 7 pm\, in the Chapel. This special service offers comfort and healing in a time of darkness\, and is intended to help people hold onto the nativity message of hope. \nEveryone is welcome to join us for a meditative time of prayer\, reflection\, and singing.
URL:https://cathedralofhope.org/event/blue-christmas-service/
LOCATION:ELPC – Chapel\, 116 South Highland Avenue\, Pittsburgh\, PA\, 15206\, United States
CATEGORIES:Worship Services
ATTACH;FMTTYPE=image/jpeg:https://cathedralofhope.org/wp-content/uploads/2024/11/img_candle.jpg
GEO:40.461033;-79.925503
X-APPLE-STRUCTURED-LOCATION;VALUE=URI;X-ADDRESS=ELPC – Chapel 116 South Highland Avenue Pittsburgh PA 15206 United States;X-APPLE-RADIUS=500;X-TITLE=116 South Highland Avenue:geo:-79.925503,40.461033
END:VEVENT
END:VCALENDAR