BEGIN:VCALENDAR
VERSION:2.0
PRODID:-//East Liberty Presbyterian Church - ECPv6.15.20//NONSGML v1.0//EN
CALSCALE:GREGORIAN
METHOD:PUBLISH
X-ORIGINAL-URL:https://cathedralofhope.org
X-WR-CALDESC:Events for East Liberty Presbyterian Church
REFRESH-INTERVAL;VALUE=DURATION:PT1H
X-Robots-Tag:noindex
X-PUBLISHED-TTL:PT1H
BEGIN:VTIMEZONE
TZID:America/New_York
BEGIN:DAYLIGHT
TZOFFSETFROM:-0500
TZOFFSETTO:-0400
TZNAME:EDT
DTSTART:20250309T070000
END:DAYLIGHT
BEGIN:STANDARD
TZOFFSETFROM:-0400
TZOFFSETTO:-0500
TZNAME:EST
DTSTART:20251102T060000
END:STANDARD
BEGIN:DAYLIGHT
TZOFFSETFROM:-0500
TZOFFSETTO:-0400
TZNAME:EDT
DTSTART:20260308T070000
END:DAYLIGHT
BEGIN:STANDARD
TZOFFSETFROM:-0400
TZOFFSETTO:-0500
TZNAME:EST
DTSTART:20261101T060000
END:STANDARD
BEGIN:DAYLIGHT
TZOFFSETFROM:-0500
TZOFFSETTO:-0400
TZNAME:EDT
DTSTART:20270314T070000
END:DAYLIGHT
BEGIN:STANDARD
TZOFFSETFROM:-0400
TZOFFSETTO:-0500
TZNAME:EST
DTSTART:20271107T060000
END:STANDARD
END:VTIMEZONE
BEGIN:VEVENT
DTSTART;TZID=America/New_York:20260128T190000
DTEND;TZID=America/New_York:20260128T200000
DTSTAMP:20260423T194655
CREATED:20190425T161656Z
LAST-MODIFIED:20260129T132932Z
UID:10003597-1769626800-1769630400@cathedralofhope.org
SUMMARY:Taizé Prayer Service
DESCRIPTION:ELPC offers evening prayers with chants from Taizé every Wednesday\, 7 pm\, in the Chapel. The hour-long service includes sung prayers\, beautiful music\, a time of silence\, spoken and silent prayers\, and opportunities for individual prayer and anointing. For more information\, view our Taizé page. \nDownload this week’s bulletin. \n\nAbout ELPC’s Taizé Prayer Service\nOur Taizé prayer service is based on a style of worship developed at the Taizé community in France founded in the 1940s by the late Brother Roger. Originally a refuge during the war\, Taizé has developed into an ecumenical prayer center for visitors from all over the world. Today\, the Taizé community is made up of over a hundred resident brothers\, both Catholics and from various Protestant backgrounds/traditions. Taizé wants to be a sign of reconciliation between divided Christians and between separated peoples.
URL:https://cathedralofhope.org/event/weekly-taize-service-2026-01-28-2026-01-28/
LOCATION:PA
CATEGORIES:Worship Services
END:VEVENT
END:VCALENDAR