BEGIN:VCALENDAR
VERSION:2.0
PRODID:-//East Liberty Presbyterian Church - ECPv6.15.20//NONSGML v1.0//EN
CALSCALE:GREGORIAN
METHOD:PUBLISH
X-WR-CALNAME:East Liberty Presbyterian Church
X-ORIGINAL-URL:https://cathedralofhope.org
X-WR-CALDESC:Events for East Liberty Presbyterian Church
REFRESH-INTERVAL;VALUE=DURATION:PT1H
X-Robots-Tag:noindex
X-PUBLISHED-TTL:PT1H
BEGIN:VTIMEZONE
TZID:America/Halifax
BEGIN:DAYLIGHT
TZOFFSETFROM:-0400
TZOFFSETTO:-0300
TZNAME:ADT
DTSTART:20250309T060000
END:DAYLIGHT
BEGIN:STANDARD
TZOFFSETFROM:-0300
TZOFFSETTO:-0400
TZNAME:AST
DTSTART:20251102T050000
END:STANDARD
BEGIN:DAYLIGHT
TZOFFSETFROM:-0400
TZOFFSETTO:-0300
TZNAME:ADT
DTSTART:20260308T060000
END:DAYLIGHT
BEGIN:STANDARD
TZOFFSETFROM:-0300
TZOFFSETTO:-0400
TZNAME:AST
DTSTART:20261101T050000
END:STANDARD
BEGIN:DAYLIGHT
TZOFFSETFROM:-0400
TZOFFSETTO:-0300
TZNAME:ADT
DTSTART:20270314T060000
END:DAYLIGHT
BEGIN:STANDARD
TZOFFSETFROM:-0300
TZOFFSETTO:-0400
TZNAME:AST
DTSTART:20271107T050000
END:STANDARD
END:VTIMEZONE
BEGIN:VEVENT
DTSTART;TZID=America/Halifax:20260329T084500
DTEND;TZID=America/Halifax:20260329T094500
DTSTAMP:20260423T123748
CREATED:20260219T123040Z
LAST-MODIFIED:20260325T180150Z
UID:10002921-1774773900-1774777500@cathedralofhope.org
SUMMARY:Palm Sunday Journey Worship
DESCRIPTION:Holy Week begins with our celebration on Palm Sunday\, March 29. We will remember Jesus’ triumphant entry into Jerusalem as we wave palm branches. \n\nThis service is held in the Chapel. Join us for a lively service of spirit\, hope\, and praise in which we encounter God’s word in a fresh\, compelling way. The blending of contemporary music\, Gospel songs and hymns\, introspective worship and interactive communal praise helps to reflect the diverse\, creative spirit that is at the heart of ELPC. \nSEE DETAILS FOR THIS WEEK’S WORSHIP SERVICES HERE.
URL:https://cathedralofhope.org/event/journey-worship-palm-sunday/
LOCATION:ELPC – Chapel\, 116 South Highland Avenue\, Pittsburgh\, PA\, 15206\, United States
CATEGORIES:Worship Services
ATTACH;FMTTYPE=image/png:https://cathedralofhope.org/wp-content/uploads/2026/02/FB-Palm-Sunday-845am.png
GEO:40.461033;-79.925503
X-APPLE-STRUCTURED-LOCATION;VALUE=URI;X-ADDRESS=ELPC – Chapel 116 South Highland Avenue Pittsburgh PA 15206 United States;X-APPLE-RADIUS=500;X-TITLE=116 South Highland Avenue:geo:-79.925503,40.461033
END:VEVENT
BEGIN:VEVENT
DTSTART;TZID=America/Halifax:20260329T110000
DTEND;TZID=America/Halifax:20260329T121500
DTSTAMP:20260423T123748
CREATED:20260219T123029Z
LAST-MODIFIED:20260325T180856Z
UID:10004322-1774782000-1774786500@cathedralofhope.org
SUMMARY:Palm Sunday Sanctuary Worship
DESCRIPTION:Holy Week begins with our celebration on Palm Sunday\, March 29. We will remember Jesus’ triumphant entry into Jerusalem as we wave palm branches. \nLIVE in the Sanctuary and streaming on the ELPC YouTube Channel or ELPC Facebook Page \n\nThis service is held in the Sanctuary on the first floor\, with an organ prelude before the service. We extend a warm welcome to our Latino friends and include several prayers in our service bulletin in English and Spanish. This is ELPC’s largest service\, offering a traditional worship service with thought-provoking sermons\, and the music of our Chancel Choir and organ to reinforce the spirit of praise and reverence. Like many of the great cathedrals of Europe\, the compelling power and beauty of our historic\, gothic-style Sanctuary enhances the spiritual experience. Children are invited to the chancel steps to hear their own message with one of the pastors. The service is led by ELPC’s senior pastor or other members of the pastoral staff. Special guest pastors or speakers periodically lead the service. \nPrinted copies of the weekly bulletin and announcements are available. Alternatively\, you may download a digital version for viewing on your mobile device or tablet. \nIf you’re out of town or unable to attend our worship in person\, we hope you consider joining our faith family in spirit. Services are livestreamed each week. Make sure to subscribe to our YouTube channel or follow us on Facebook to receive a notification when streaming begins. \nSEE DETAILS FOR THIS WEEK’S WORSHIP SERVICES HERE.
URL:https://cathedralofhope.org/event/sanctuary-worship-palm-sunday/
LOCATION:ELPC – Sanctuary\, 116 South Highland Avenue\, Pittsburgh\, PA\, 15206\, United States
CATEGORIES:Worship Services
ATTACH;FMTTYPE=image/png:https://cathedralofhope.org/wp-content/uploads/2026/02/FB-Palm-Sunday-11am.png
GEO:40.461033;-79.925503
X-APPLE-STRUCTURED-LOCATION;VALUE=URI;X-ADDRESS=ELPC – Sanctuary 116 South Highland Avenue Pittsburgh PA 15206 United States;X-APPLE-RADIUS=500;X-TITLE=116 South Highland Avenue:geo:-79.925503,40.461033
END:VEVENT
END:VCALENDAR