BEGIN:VCALENDAR
VERSION:2.0
PRODID:-//East Liberty Presbyterian Church - ECPv6.15.20//NONSGML v1.0//EN
CALSCALE:GREGORIAN
METHOD:PUBLISH
X-ORIGINAL-URL:https://cathedralofhope.org
X-WR-CALDESC:Events for East Liberty Presbyterian Church
REFRESH-INTERVAL;VALUE=DURATION:PT1H
X-Robots-Tag:noindex
X-PUBLISHED-TTL:PT1H
BEGIN:VTIMEZONE
TZID:America/Halifax
BEGIN:DAYLIGHT
TZOFFSETFROM:-0400
TZOFFSETTO:-0300
TZNAME:ADT
DTSTART:20290311T060000
END:DAYLIGHT
BEGIN:STANDARD
TZOFFSETFROM:-0300
TZOFFSETTO:-0400
TZNAME:AST
DTSTART:20291104T050000
END:STANDARD
BEGIN:DAYLIGHT
TZOFFSETFROM:-0400
TZOFFSETTO:-0300
TZNAME:ADT
DTSTART:20300310T060000
END:DAYLIGHT
BEGIN:STANDARD
TZOFFSETFROM:-0300
TZOFFSETTO:-0400
TZNAME:AST
DTSTART:20301103T050000
END:STANDARD
BEGIN:DAYLIGHT
TZOFFSETFROM:-0400
TZOFFSETTO:-0300
TZNAME:ADT
DTSTART:20310309T060000
END:DAYLIGHT
BEGIN:STANDARD
TZOFFSETFROM:-0300
TZOFFSETTO:-0400
TZNAME:AST
DTSTART:20311102T050000
END:STANDARD
BEGIN:DAYLIGHT
TZOFFSETFROM:-0400
TZOFFSETTO:-0300
TZNAME:ADT
DTSTART:20320314T060000
END:DAYLIGHT
BEGIN:STANDARD
TZOFFSETFROM:-0300
TZOFFSETTO:-0400
TZNAME:AST
DTSTART:20321107T050000
END:STANDARD
END:VTIMEZONE
BEGIN:VEVENT
DTSTART;TZID=America/Halifax:20301204T190000
DTEND;TZID=America/Halifax:20301204T200000
DTSTAMP:20260425T085932
CREATED:20190425T161656Z
LAST-MODIFIED:20260325T174045Z
UID:10004804-1922641200-1922644800@cathedralofhope.org
SUMMARY:Taizé Prayer Service
DESCRIPTION:ELPC offers evening prayers with chants from Taizé every Wednesday\, 7 pm\, in the Chapel. The hour-long service includes sung prayers\, beautiful music\, a time of silence\, spoken and silent prayers\, and opportunities for individual prayer and anointing. For more information\, view our Taizé page. \nDownload this week’s bulletin. \n\nAbout ELPC’s Taizé Prayer Service\nOur Taizé prayer service is based on a style of worship developed at the Taizé community in France founded in the 1940s by the late Brother Roger. Originally a refuge during the war\, Taizé has developed into an ecumenical prayer center for visitors from all over the world. Today\, the Taizé community is made up of over a hundred resident brothers\, both Catholics and from various Protestant backgrounds/traditions. Taizé wants to be a sign of reconciliation between divided Christians and between separated peoples.
URL:https://cathedralofhope.org/event/weekly-taize-service/2030-12-04/
LOCATION:ELPC – Chapel\, 116 South Highland Avenue\, Pittsburgh\, PA\, 15206\, United States
CATEGORIES:Worship Services
ATTACH;FMTTYPE=image/jpeg:https://cathedralofhope.org/wp-content/uploads/2014/05/taize15.jpg
GEO:40.461033;-79.925503
X-APPLE-STRUCTURED-LOCATION;VALUE=URI;X-ADDRESS=ELPC – Chapel 116 South Highland Avenue Pittsburgh PA 15206 United States;X-APPLE-RADIUS=500;X-TITLE=116 South Highland Avenue:geo:-79.925503,40.461033
END:VEVENT
BEGIN:VEVENT
DTSTART;TZID=America/Halifax:20301211T190000
DTEND;TZID=America/Halifax:20301211T200000
DTSTAMP:20260425T085932
CREATED:20190425T161656Z
LAST-MODIFIED:20260325T174045Z
UID:10004805-1923246000-1923249600@cathedralofhope.org
SUMMARY:Taizé Prayer Service
DESCRIPTION:ELPC offers evening prayers with chants from Taizé every Wednesday\, 7 pm\, in the Chapel. The hour-long service includes sung prayers\, beautiful music\, a time of silence\, spoken and silent prayers\, and opportunities for individual prayer and anointing. For more information\, view our Taizé page. \nDownload this week’s bulletin. \n\nAbout ELPC’s Taizé Prayer Service\nOur Taizé prayer service is based on a style of worship developed at the Taizé community in France founded in the 1940s by the late Brother Roger. Originally a refuge during the war\, Taizé has developed into an ecumenical prayer center for visitors from all over the world. Today\, the Taizé community is made up of over a hundred resident brothers\, both Catholics and from various Protestant backgrounds/traditions. Taizé wants to be a sign of reconciliation between divided Christians and between separated peoples.
URL:https://cathedralofhope.org/event/weekly-taize-service/2030-12-11/
LOCATION:ELPC – Chapel\, 116 South Highland Avenue\, Pittsburgh\, PA\, 15206\, United States
CATEGORIES:Worship Services
ATTACH;FMTTYPE=image/jpeg:https://cathedralofhope.org/wp-content/uploads/2014/05/taize15.jpg
GEO:40.461033;-79.925503
X-APPLE-STRUCTURED-LOCATION;VALUE=URI;X-ADDRESS=ELPC – Chapel 116 South Highland Avenue Pittsburgh PA 15206 United States;X-APPLE-RADIUS=500;X-TITLE=116 South Highland Avenue:geo:-79.925503,40.461033
END:VEVENT
BEGIN:VEVENT
DTSTART;TZID=America/Halifax:20301218T190000
DTEND;TZID=America/Halifax:20301218T200000
DTSTAMP:20260425T085932
CREATED:20190425T161656Z
LAST-MODIFIED:20260325T174045Z
UID:10004806-1923850800-1923854400@cathedralofhope.org
SUMMARY:Taizé Prayer Service
DESCRIPTION:ELPC offers evening prayers with chants from Taizé every Wednesday\, 7 pm\, in the Chapel. The hour-long service includes sung prayers\, beautiful music\, a time of silence\, spoken and silent prayers\, and opportunities for individual prayer and anointing. For more information\, view our Taizé page. \nDownload this week’s bulletin. \n\nAbout ELPC’s Taizé Prayer Service\nOur Taizé prayer service is based on a style of worship developed at the Taizé community in France founded in the 1940s by the late Brother Roger. Originally a refuge during the war\, Taizé has developed into an ecumenical prayer center for visitors from all over the world. Today\, the Taizé community is made up of over a hundred resident brothers\, both Catholics and from various Protestant backgrounds/traditions. Taizé wants to be a sign of reconciliation between divided Christians and between separated peoples.
URL:https://cathedralofhope.org/event/weekly-taize-service/2030-12-18/
LOCATION:ELPC – Chapel\, 116 South Highland Avenue\, Pittsburgh\, PA\, 15206\, United States
CATEGORIES:Worship Services
ATTACH;FMTTYPE=image/jpeg:https://cathedralofhope.org/wp-content/uploads/2014/05/taize15.jpg
GEO:40.461033;-79.925503
X-APPLE-STRUCTURED-LOCATION;VALUE=URI;X-ADDRESS=ELPC – Chapel 116 South Highland Avenue Pittsburgh PA 15206 United States;X-APPLE-RADIUS=500;X-TITLE=116 South Highland Avenue:geo:-79.925503,40.461033
END:VEVENT
BEGIN:VEVENT
DTSTART;TZID=America/Halifax:20301225T190000
DTEND;TZID=America/Halifax:20301225T200000
DTSTAMP:20260425T085932
CREATED:20190425T161656Z
LAST-MODIFIED:20260325T174045Z
UID:10004807-1924455600-1924459200@cathedralofhope.org
SUMMARY:Taizé Prayer Service
DESCRIPTION:ELPC offers evening prayers with chants from Taizé every Wednesday\, 7 pm\, in the Chapel. The hour-long service includes sung prayers\, beautiful music\, a time of silence\, spoken and silent prayers\, and opportunities for individual prayer and anointing. For more information\, view our Taizé page. \nDownload this week’s bulletin. \n\nAbout ELPC’s Taizé Prayer Service\nOur Taizé prayer service is based on a style of worship developed at the Taizé community in France founded in the 1940s by the late Brother Roger. Originally a refuge during the war\, Taizé has developed into an ecumenical prayer center for visitors from all over the world. Today\, the Taizé community is made up of over a hundred resident brothers\, both Catholics and from various Protestant backgrounds/traditions. Taizé wants to be a sign of reconciliation between divided Christians and between separated peoples.
URL:https://cathedralofhope.org/event/weekly-taize-service/2030-12-25/
LOCATION:ELPC – Chapel\, 116 South Highland Avenue\, Pittsburgh\, PA\, 15206\, United States
CATEGORIES:Worship Services
ATTACH;FMTTYPE=image/jpeg:https://cathedralofhope.org/wp-content/uploads/2014/05/taize15.jpg
GEO:40.461033;-79.925503
X-APPLE-STRUCTURED-LOCATION;VALUE=URI;X-ADDRESS=ELPC – Chapel 116 South Highland Avenue Pittsburgh PA 15206 United States;X-APPLE-RADIUS=500;X-TITLE=116 South Highland Avenue:geo:-79.925503,40.461033
END:VEVENT
BEGIN:VEVENT
DTSTART;TZID=America/Halifax:20310101T190000
DTEND;TZID=America/Halifax:20310101T200000
DTSTAMP:20260425T085932
CREATED:20190425T161656Z
LAST-MODIFIED:20260325T174045Z
UID:10004808-1925060400-1925064000@cathedralofhope.org
SUMMARY:Taizé Prayer Service
DESCRIPTION:ELPC offers evening prayers with chants from Taizé every Wednesday\, 7 pm\, in the Chapel. The hour-long service includes sung prayers\, beautiful music\, a time of silence\, spoken and silent prayers\, and opportunities for individual prayer and anointing. For more information\, view our Taizé page. \nDownload this week’s bulletin. \n\nAbout ELPC’s Taizé Prayer Service\nOur Taizé prayer service is based on a style of worship developed at the Taizé community in France founded in the 1940s by the late Brother Roger. Originally a refuge during the war\, Taizé has developed into an ecumenical prayer center for visitors from all over the world. Today\, the Taizé community is made up of over a hundred resident brothers\, both Catholics and from various Protestant backgrounds/traditions. Taizé wants to be a sign of reconciliation between divided Christians and between separated peoples.
URL:https://cathedralofhope.org/event/weekly-taize-service/2031-01-01/
LOCATION:ELPC – Chapel\, 116 South Highland Avenue\, Pittsburgh\, PA\, 15206\, United States
CATEGORIES:Worship Services
ATTACH;FMTTYPE=image/jpeg:https://cathedralofhope.org/wp-content/uploads/2014/05/taize15.jpg
GEO:40.461033;-79.925503
X-APPLE-STRUCTURED-LOCATION;VALUE=URI;X-ADDRESS=ELPC – Chapel 116 South Highland Avenue Pittsburgh PA 15206 United States;X-APPLE-RADIUS=500;X-TITLE=116 South Highland Avenue:geo:-79.925503,40.461033
END:VEVENT
BEGIN:VEVENT
DTSTART;TZID=America/Halifax:20310108T190000
DTEND;TZID=America/Halifax:20310108T200000
DTSTAMP:20260425T085932
CREATED:20190425T161656Z
LAST-MODIFIED:20260325T174045Z
UID:10004809-1925665200-1925668800@cathedralofhope.org
SUMMARY:Taizé Prayer Service
DESCRIPTION:ELPC offers evening prayers with chants from Taizé every Wednesday\, 7 pm\, in the Chapel. The hour-long service includes sung prayers\, beautiful music\, a time of silence\, spoken and silent prayers\, and opportunities for individual prayer and anointing. For more information\, view our Taizé page. \nDownload this week’s bulletin. \n\nAbout ELPC’s Taizé Prayer Service\nOur Taizé prayer service is based on a style of worship developed at the Taizé community in France founded in the 1940s by the late Brother Roger. Originally a refuge during the war\, Taizé has developed into an ecumenical prayer center for visitors from all over the world. Today\, the Taizé community is made up of over a hundred resident brothers\, both Catholics and from various Protestant backgrounds/traditions. Taizé wants to be a sign of reconciliation between divided Christians and between separated peoples.
URL:https://cathedralofhope.org/event/weekly-taize-service/2031-01-08/
LOCATION:ELPC – Chapel\, 116 South Highland Avenue\, Pittsburgh\, PA\, 15206\, United States
CATEGORIES:Worship Services
ATTACH;FMTTYPE=image/jpeg:https://cathedralofhope.org/wp-content/uploads/2014/05/taize15.jpg
GEO:40.461033;-79.925503
X-APPLE-STRUCTURED-LOCATION;VALUE=URI;X-ADDRESS=ELPC – Chapel 116 South Highland Avenue Pittsburgh PA 15206 United States;X-APPLE-RADIUS=500;X-TITLE=116 South Highland Avenue:geo:-79.925503,40.461033
END:VEVENT
BEGIN:VEVENT
DTSTART;TZID=America/Halifax:20310115T190000
DTEND;TZID=America/Halifax:20310115T200000
DTSTAMP:20260425T085932
CREATED:20190425T161656Z
LAST-MODIFIED:20260325T174045Z
UID:10004810-1926270000-1926273600@cathedralofhope.org
SUMMARY:Taizé Prayer Service
DESCRIPTION:ELPC offers evening prayers with chants from Taizé every Wednesday\, 7 pm\, in the Chapel. The hour-long service includes sung prayers\, beautiful music\, a time of silence\, spoken and silent prayers\, and opportunities for individual prayer and anointing. For more information\, view our Taizé page. \nDownload this week’s bulletin. \n\nAbout ELPC’s Taizé Prayer Service\nOur Taizé prayer service is based on a style of worship developed at the Taizé community in France founded in the 1940s by the late Brother Roger. Originally a refuge during the war\, Taizé has developed into an ecumenical prayer center for visitors from all over the world. Today\, the Taizé community is made up of over a hundred resident brothers\, both Catholics and from various Protestant backgrounds/traditions. Taizé wants to be a sign of reconciliation between divided Christians and between separated peoples.
URL:https://cathedralofhope.org/event/weekly-taize-service/2031-01-15/
LOCATION:ELPC – Chapel\, 116 South Highland Avenue\, Pittsburgh\, PA\, 15206\, United States
CATEGORIES:Worship Services
ATTACH;FMTTYPE=image/jpeg:https://cathedralofhope.org/wp-content/uploads/2014/05/taize15.jpg
GEO:40.461033;-79.925503
X-APPLE-STRUCTURED-LOCATION;VALUE=URI;X-ADDRESS=ELPC – Chapel 116 South Highland Avenue Pittsburgh PA 15206 United States;X-APPLE-RADIUS=500;X-TITLE=116 South Highland Avenue:geo:-79.925503,40.461033
END:VEVENT
BEGIN:VEVENT
DTSTART;TZID=America/Halifax:20310122T190000
DTEND;TZID=America/Halifax:20310122T200000
DTSTAMP:20260425T085932
CREATED:20190425T161656Z
LAST-MODIFIED:20260325T174045Z
UID:10004811-1926874800-1926878400@cathedralofhope.org
SUMMARY:Taizé Prayer Service
DESCRIPTION:ELPC offers evening prayers with chants from Taizé every Wednesday\, 7 pm\, in the Chapel. The hour-long service includes sung prayers\, beautiful music\, a time of silence\, spoken and silent prayers\, and opportunities for individual prayer and anointing. For more information\, view our Taizé page. \nDownload this week’s bulletin. \n\nAbout ELPC’s Taizé Prayer Service\nOur Taizé prayer service is based on a style of worship developed at the Taizé community in France founded in the 1940s by the late Brother Roger. Originally a refuge during the war\, Taizé has developed into an ecumenical prayer center for visitors from all over the world. Today\, the Taizé community is made up of over a hundred resident brothers\, both Catholics and from various Protestant backgrounds/traditions. Taizé wants to be a sign of reconciliation between divided Christians and between separated peoples.
URL:https://cathedralofhope.org/event/weekly-taize-service/2031-01-22/
LOCATION:ELPC – Chapel\, 116 South Highland Avenue\, Pittsburgh\, PA\, 15206\, United States
CATEGORIES:Worship Services
ATTACH;FMTTYPE=image/jpeg:https://cathedralofhope.org/wp-content/uploads/2014/05/taize15.jpg
GEO:40.461033;-79.925503
X-APPLE-STRUCTURED-LOCATION;VALUE=URI;X-ADDRESS=ELPC – Chapel 116 South Highland Avenue Pittsburgh PA 15206 United States;X-APPLE-RADIUS=500;X-TITLE=116 South Highland Avenue:geo:-79.925503,40.461033
END:VEVENT
BEGIN:VEVENT
DTSTART;TZID=America/Halifax:20310129T190000
DTEND;TZID=America/Halifax:20310129T200000
DTSTAMP:20260425T085932
CREATED:20190425T161656Z
LAST-MODIFIED:20260325T174045Z
UID:10004812-1927479600-1927483200@cathedralofhope.org
SUMMARY:Taizé Prayer Service
DESCRIPTION:ELPC offers evening prayers with chants from Taizé every Wednesday\, 7 pm\, in the Chapel. The hour-long service includes sung prayers\, beautiful music\, a time of silence\, spoken and silent prayers\, and opportunities for individual prayer and anointing. For more information\, view our Taizé page. \nDownload this week’s bulletin. \n\nAbout ELPC’s Taizé Prayer Service\nOur Taizé prayer service is based on a style of worship developed at the Taizé community in France founded in the 1940s by the late Brother Roger. Originally a refuge during the war\, Taizé has developed into an ecumenical prayer center for visitors from all over the world. Today\, the Taizé community is made up of over a hundred resident brothers\, both Catholics and from various Protestant backgrounds/traditions. Taizé wants to be a sign of reconciliation between divided Christians and between separated peoples.
URL:https://cathedralofhope.org/event/weekly-taize-service/2031-01-29/
LOCATION:ELPC – Chapel\, 116 South Highland Avenue\, Pittsburgh\, PA\, 15206\, United States
CATEGORIES:Worship Services
ATTACH;FMTTYPE=image/jpeg:https://cathedralofhope.org/wp-content/uploads/2014/05/taize15.jpg
GEO:40.461033;-79.925503
X-APPLE-STRUCTURED-LOCATION;VALUE=URI;X-ADDRESS=ELPC – Chapel 116 South Highland Avenue Pittsburgh PA 15206 United States;X-APPLE-RADIUS=500;X-TITLE=116 South Highland Avenue:geo:-79.925503,40.461033
END:VEVENT
BEGIN:VEVENT
DTSTART;TZID=America/Halifax:20310205T190000
DTEND;TZID=America/Halifax:20310205T200000
DTSTAMP:20260425T085932
CREATED:20190425T161656Z
LAST-MODIFIED:20260325T174045Z
UID:10004813-1928084400-1928088000@cathedralofhope.org
SUMMARY:Taizé Prayer Service
DESCRIPTION:ELPC offers evening prayers with chants from Taizé every Wednesday\, 7 pm\, in the Chapel. The hour-long service includes sung prayers\, beautiful music\, a time of silence\, spoken and silent prayers\, and opportunities for individual prayer and anointing. For more information\, view our Taizé page. \nDownload this week’s bulletin. \n\nAbout ELPC’s Taizé Prayer Service\nOur Taizé prayer service is based on a style of worship developed at the Taizé community in France founded in the 1940s by the late Brother Roger. Originally a refuge during the war\, Taizé has developed into an ecumenical prayer center for visitors from all over the world. Today\, the Taizé community is made up of over a hundred resident brothers\, both Catholics and from various Protestant backgrounds/traditions. Taizé wants to be a sign of reconciliation between divided Christians and between separated peoples.
URL:https://cathedralofhope.org/event/weekly-taize-service/2031-02-05/
LOCATION:ELPC – Chapel\, 116 South Highland Avenue\, Pittsburgh\, PA\, 15206\, United States
CATEGORIES:Worship Services
ATTACH;FMTTYPE=image/jpeg:https://cathedralofhope.org/wp-content/uploads/2014/05/taize15.jpg
GEO:40.461033;-79.925503
X-APPLE-STRUCTURED-LOCATION;VALUE=URI;X-ADDRESS=ELPC – Chapel 116 South Highland Avenue Pittsburgh PA 15206 United States;X-APPLE-RADIUS=500;X-TITLE=116 South Highland Avenue:geo:-79.925503,40.461033
END:VEVENT
BEGIN:VEVENT
DTSTART;TZID=America/Halifax:20310212T190000
DTEND;TZID=America/Halifax:20310212T200000
DTSTAMP:20260425T085932
CREATED:20190425T161656Z
LAST-MODIFIED:20260325T174045Z
UID:10004814-1928689200-1928692800@cathedralofhope.org
SUMMARY:Taizé Prayer Service
DESCRIPTION:ELPC offers evening prayers with chants from Taizé every Wednesday\, 7 pm\, in the Chapel. The hour-long service includes sung prayers\, beautiful music\, a time of silence\, spoken and silent prayers\, and opportunities for individual prayer and anointing. For more information\, view our Taizé page. \nDownload this week’s bulletin. \n\nAbout ELPC’s Taizé Prayer Service\nOur Taizé prayer service is based on a style of worship developed at the Taizé community in France founded in the 1940s by the late Brother Roger. Originally a refuge during the war\, Taizé has developed into an ecumenical prayer center for visitors from all over the world. Today\, the Taizé community is made up of over a hundred resident brothers\, both Catholics and from various Protestant backgrounds/traditions. Taizé wants to be a sign of reconciliation between divided Christians and between separated peoples.
URL:https://cathedralofhope.org/event/weekly-taize-service/2031-02-12/
LOCATION:ELPC – Chapel\, 116 South Highland Avenue\, Pittsburgh\, PA\, 15206\, United States
CATEGORIES:Worship Services
ATTACH;FMTTYPE=image/jpeg:https://cathedralofhope.org/wp-content/uploads/2014/05/taize15.jpg
GEO:40.461033;-79.925503
X-APPLE-STRUCTURED-LOCATION;VALUE=URI;X-ADDRESS=ELPC – Chapel 116 South Highland Avenue Pittsburgh PA 15206 United States;X-APPLE-RADIUS=500;X-TITLE=116 South Highland Avenue:geo:-79.925503,40.461033
END:VEVENT
BEGIN:VEVENT
DTSTART;TZID=America/Halifax:20310219T190000
DTEND;TZID=America/Halifax:20310219T200000
DTSTAMP:20260425T085932
CREATED:20190425T161656Z
LAST-MODIFIED:20260325T174045Z
UID:10004815-1929294000-1929297600@cathedralofhope.org
SUMMARY:Taizé Prayer Service
DESCRIPTION:ELPC offers evening prayers with chants from Taizé every Wednesday\, 7 pm\, in the Chapel. The hour-long service includes sung prayers\, beautiful music\, a time of silence\, spoken and silent prayers\, and opportunities for individual prayer and anointing. For more information\, view our Taizé page. \nDownload this week’s bulletin. \n\nAbout ELPC’s Taizé Prayer Service\nOur Taizé prayer service is based on a style of worship developed at the Taizé community in France founded in the 1940s by the late Brother Roger. Originally a refuge during the war\, Taizé has developed into an ecumenical prayer center for visitors from all over the world. Today\, the Taizé community is made up of over a hundred resident brothers\, both Catholics and from various Protestant backgrounds/traditions. Taizé wants to be a sign of reconciliation between divided Christians and between separated peoples.
URL:https://cathedralofhope.org/event/weekly-taize-service/2031-02-19/
LOCATION:ELPC – Chapel\, 116 South Highland Avenue\, Pittsburgh\, PA\, 15206\, United States
CATEGORIES:Worship Services
ATTACH;FMTTYPE=image/jpeg:https://cathedralofhope.org/wp-content/uploads/2014/05/taize15.jpg
GEO:40.461033;-79.925503
X-APPLE-STRUCTURED-LOCATION;VALUE=URI;X-ADDRESS=ELPC – Chapel 116 South Highland Avenue Pittsburgh PA 15206 United States;X-APPLE-RADIUS=500;X-TITLE=116 South Highland Avenue:geo:-79.925503,40.461033
END:VEVENT
BEGIN:VEVENT
DTSTART;TZID=America/Halifax:20310226T190000
DTEND;TZID=America/Halifax:20310226T200000
DTSTAMP:20260425T085932
CREATED:20190425T161656Z
LAST-MODIFIED:20260325T174045Z
UID:10004816-1929898800-1929902400@cathedralofhope.org
SUMMARY:Taizé Prayer Service
DESCRIPTION:ELPC offers evening prayers with chants from Taizé every Wednesday\, 7 pm\, in the Chapel. The hour-long service includes sung prayers\, beautiful music\, a time of silence\, spoken and silent prayers\, and opportunities for individual prayer and anointing. For more information\, view our Taizé page. \nDownload this week’s bulletin. \n\nAbout ELPC’s Taizé Prayer Service\nOur Taizé prayer service is based on a style of worship developed at the Taizé community in France founded in the 1940s by the late Brother Roger. Originally a refuge during the war\, Taizé has developed into an ecumenical prayer center for visitors from all over the world. Today\, the Taizé community is made up of over a hundred resident brothers\, both Catholics and from various Protestant backgrounds/traditions. Taizé wants to be a sign of reconciliation between divided Christians and between separated peoples.
URL:https://cathedralofhope.org/event/weekly-taize-service/2031-02-26/
LOCATION:ELPC – Chapel\, 116 South Highland Avenue\, Pittsburgh\, PA\, 15206\, United States
CATEGORIES:Worship Services
ATTACH;FMTTYPE=image/jpeg:https://cathedralofhope.org/wp-content/uploads/2014/05/taize15.jpg
GEO:40.461033;-79.925503
X-APPLE-STRUCTURED-LOCATION;VALUE=URI;X-ADDRESS=ELPC – Chapel 116 South Highland Avenue Pittsburgh PA 15206 United States;X-APPLE-RADIUS=500;X-TITLE=116 South Highland Avenue:geo:-79.925503,40.461033
END:VEVENT
BEGIN:VEVENT
DTSTART;TZID=America/Halifax:20310305T190000
DTEND;TZID=America/Halifax:20310305T200000
DTSTAMP:20260425T085932
CREATED:20190425T161656Z
LAST-MODIFIED:20260325T174045Z
UID:10004817-1930503600-1930507200@cathedralofhope.org
SUMMARY:Taizé Prayer Service
DESCRIPTION:ELPC offers evening prayers with chants from Taizé every Wednesday\, 7 pm\, in the Chapel. The hour-long service includes sung prayers\, beautiful music\, a time of silence\, spoken and silent prayers\, and opportunities for individual prayer and anointing. For more information\, view our Taizé page. \nDownload this week’s bulletin. \n\nAbout ELPC’s Taizé Prayer Service\nOur Taizé prayer service is based on a style of worship developed at the Taizé community in France founded in the 1940s by the late Brother Roger. Originally a refuge during the war\, Taizé has developed into an ecumenical prayer center for visitors from all over the world. Today\, the Taizé community is made up of over a hundred resident brothers\, both Catholics and from various Protestant backgrounds/traditions. Taizé wants to be a sign of reconciliation between divided Christians and between separated peoples.
URL:https://cathedralofhope.org/event/weekly-taize-service/2031-03-05/
LOCATION:ELPC – Chapel\, 116 South Highland Avenue\, Pittsburgh\, PA\, 15206\, United States
CATEGORIES:Worship Services
ATTACH;FMTTYPE=image/jpeg:https://cathedralofhope.org/wp-content/uploads/2014/05/taize15.jpg
GEO:40.461033;-79.925503
X-APPLE-STRUCTURED-LOCATION;VALUE=URI;X-ADDRESS=ELPC – Chapel 116 South Highland Avenue Pittsburgh PA 15206 United States;X-APPLE-RADIUS=500;X-TITLE=116 South Highland Avenue:geo:-79.925503,40.461033
END:VEVENT
BEGIN:VEVENT
DTSTART;TZID=America/Halifax:20310312T190000
DTEND;TZID=America/Halifax:20310312T200000
DTSTAMP:20260425T085932
CREATED:20190425T161656Z
LAST-MODIFIED:20260325T174045Z
UID:10004818-1931108400-1931112000@cathedralofhope.org
SUMMARY:Taizé Prayer Service
DESCRIPTION:ELPC offers evening prayers with chants from Taizé every Wednesday\, 7 pm\, in the Chapel. The hour-long service includes sung prayers\, beautiful music\, a time of silence\, spoken and silent prayers\, and opportunities for individual prayer and anointing. For more information\, view our Taizé page. \nDownload this week’s bulletin. \n\nAbout ELPC’s Taizé Prayer Service\nOur Taizé prayer service is based on a style of worship developed at the Taizé community in France founded in the 1940s by the late Brother Roger. Originally a refuge during the war\, Taizé has developed into an ecumenical prayer center for visitors from all over the world. Today\, the Taizé community is made up of over a hundred resident brothers\, both Catholics and from various Protestant backgrounds/traditions. Taizé wants to be a sign of reconciliation between divided Christians and between separated peoples.
URL:https://cathedralofhope.org/event/weekly-taize-service/2031-03-12/
LOCATION:ELPC – Chapel\, 116 South Highland Avenue\, Pittsburgh\, PA\, 15206\, United States
CATEGORIES:Worship Services
ATTACH;FMTTYPE=image/jpeg:https://cathedralofhope.org/wp-content/uploads/2014/05/taize15.jpg
GEO:40.461033;-79.925503
X-APPLE-STRUCTURED-LOCATION;VALUE=URI;X-ADDRESS=ELPC – Chapel 116 South Highland Avenue Pittsburgh PA 15206 United States;X-APPLE-RADIUS=500;X-TITLE=116 South Highland Avenue:geo:-79.925503,40.461033
END:VEVENT
BEGIN:VEVENT
DTSTART;TZID=America/Halifax:20310319T190000
DTEND;TZID=America/Halifax:20310319T200000
DTSTAMP:20260425T085932
CREATED:20190425T161656Z
LAST-MODIFIED:20260325T174045Z
UID:10004819-1931713200-1931716800@cathedralofhope.org
SUMMARY:Taizé Prayer Service
DESCRIPTION:ELPC offers evening prayers with chants from Taizé every Wednesday\, 7 pm\, in the Chapel. The hour-long service includes sung prayers\, beautiful music\, a time of silence\, spoken and silent prayers\, and opportunities for individual prayer and anointing. For more information\, view our Taizé page. \nDownload this week’s bulletin. \n\nAbout ELPC’s Taizé Prayer Service\nOur Taizé prayer service is based on a style of worship developed at the Taizé community in France founded in the 1940s by the late Brother Roger. Originally a refuge during the war\, Taizé has developed into an ecumenical prayer center for visitors from all over the world. Today\, the Taizé community is made up of over a hundred resident brothers\, both Catholics and from various Protestant backgrounds/traditions. Taizé wants to be a sign of reconciliation between divided Christians and between separated peoples.
URL:https://cathedralofhope.org/event/weekly-taize-service/2031-03-19/
LOCATION:ELPC – Chapel\, 116 South Highland Avenue\, Pittsburgh\, PA\, 15206\, United States
CATEGORIES:Worship Services
ATTACH;FMTTYPE=image/jpeg:https://cathedralofhope.org/wp-content/uploads/2014/05/taize15.jpg
GEO:40.461033;-79.925503
X-APPLE-STRUCTURED-LOCATION;VALUE=URI;X-ADDRESS=ELPC – Chapel 116 South Highland Avenue Pittsburgh PA 15206 United States;X-APPLE-RADIUS=500;X-TITLE=116 South Highland Avenue:geo:-79.925503,40.461033
END:VEVENT
END:VCALENDAR