BEGIN:VCALENDAR
VERSION:2.0
PRODID:-//East Liberty Presbyterian Church - ECPv6.15.20//NONSGML v1.0//EN
CALSCALE:GREGORIAN
METHOD:PUBLISH
X-ORIGINAL-URL:https://cathedralofhope.org
X-WR-CALDESC:Events for East Liberty Presbyterian Church
REFRESH-INTERVAL;VALUE=DURATION:PT1H
X-Robots-Tag:noindex
X-PUBLISHED-TTL:PT1H
BEGIN:VTIMEZONE
TZID:America/New_York
BEGIN:DAYLIGHT
TZOFFSETFROM:-0500
TZOFFSETTO:-0400
TZNAME:EDT
DTSTART:20230312T070000
END:DAYLIGHT
BEGIN:STANDARD
TZOFFSETFROM:-0400
TZOFFSETTO:-0500
TZNAME:EST
DTSTART:20231105T060000
END:STANDARD
BEGIN:DAYLIGHT
TZOFFSETFROM:-0500
TZOFFSETTO:-0400
TZNAME:EDT
DTSTART:20240310T070000
END:DAYLIGHT
BEGIN:STANDARD
TZOFFSETFROM:-0400
TZOFFSETTO:-0500
TZNAME:EST
DTSTART:20241103T060000
END:STANDARD
BEGIN:DAYLIGHT
TZOFFSETFROM:-0500
TZOFFSETTO:-0400
TZNAME:EDT
DTSTART:20250309T070000
END:DAYLIGHT
BEGIN:STANDARD
TZOFFSETFROM:-0400
TZOFFSETTO:-0500
TZNAME:EST
DTSTART:20251102T060000
END:STANDARD
END:VTIMEZONE
BEGIN:VEVENT
DTSTART;TZID=America/New_York:20241215T120000
DTEND;TZID=America/New_York:20241215T130000
DTSTAMP:20260424T182028
CREATED:20240829T131605Z
LAST-MODIFIED:20241209T170343Z
UID:10004227-1734264000-1734267600@cathedralofhope.org
SUMMARY:Jam with the YAMs!
DESCRIPTION:If you’re 18–40 years old\, join our members of our Young Adult Ministry (YAMs) after worship on Sunday\, December 15\, for pizza and bowling in ELPC’s 1930s duck pin bowling alley. Old friends and new visitors are equally welcome to attend! \nContact Sara Hackett to RSVP or ask questions.
URL:https://cathedralofhope.org/event/jam-with-the-yams-2024-12-15/
LOCATION:Garth Overlook Room\, 116 South Highland Ave\, Pittsburgh\, PA\, 15206\, United States
CATEGORIES:Featured Events,Young Adult
ATTACH;FMTTYPE=image/png:https://cathedralofhope.org/wp-content/uploads/2024/08/img_strike-slice.png
ORGANIZER;CN="Sara Hackett":MAILTO:SaraH@coh.net
END:VEVENT
END:VCALENDAR