BEGIN:VCALENDAR
VERSION:2.0
PRODID:-//East Liberty Presbyterian Church - ECPv6.15.20//NONSGML v1.0//EN
CALSCALE:GREGORIAN
METHOD:PUBLISH
X-WR-CALNAME:East Liberty Presbyterian Church
X-ORIGINAL-URL:https://cathedralofhope.org
X-WR-CALDESC:Events for East Liberty Presbyterian Church
REFRESH-INTERVAL;VALUE=DURATION:PT1H
X-Robots-Tag:noindex
X-PUBLISHED-TTL:PT1H
BEGIN:VTIMEZONE
TZID:America/New_York
BEGIN:DAYLIGHT
TZOFFSETFROM:-0500
TZOFFSETTO:-0400
TZNAME:EDT
DTSTART:20230312T070000
END:DAYLIGHT
BEGIN:STANDARD
TZOFFSETFROM:-0400
TZOFFSETTO:-0500
TZNAME:EST
DTSTART:20231105T060000
END:STANDARD
BEGIN:DAYLIGHT
TZOFFSETFROM:-0500
TZOFFSETTO:-0400
TZNAME:EDT
DTSTART:20240310T070000
END:DAYLIGHT
BEGIN:STANDARD
TZOFFSETFROM:-0400
TZOFFSETTO:-0500
TZNAME:EST
DTSTART:20241103T060000
END:STANDARD
BEGIN:DAYLIGHT
TZOFFSETFROM:-0500
TZOFFSETTO:-0400
TZNAME:EDT
DTSTART:20250309T070000
END:DAYLIGHT
BEGIN:STANDARD
TZOFFSETFROM:-0400
TZOFFSETTO:-0500
TZNAME:EST
DTSTART:20251102T060000
END:STANDARD
END:VTIMEZONE
BEGIN:VEVENT
DTSTART;TZID=America/New_York:20241013T120000
DTEND;TZID=America/New_York:20241013T130000
DTSTAMP:20260425T093055
CREATED:20240829T131605Z
LAST-MODIFIED:20240930T140144Z
UID:10003606-1728820800-1728824400@cathedralofhope.org
SUMMARY:Jam with the YAMs!
DESCRIPTION:Are you 18–40? Do you love bagels? Then join us for Jam with the YAMs (Young Adult Ministry). We will gather in the Harambe Room for bagels\, coffee\, and fellowship. Hope to see you there! \nIn November\, we will return to our regular third Sunday schedule. \nContact Sara Hackett with any questions.
URL:https://cathedralofhope.org/event/jam-with-the-yams-2024-10-20/
LOCATION:Garth Overlook Room\, 116 South Highland Ave\, Pittsburgh\, PA\, 15206\, United States
CATEGORIES:Featured Events,Young Adult
ATTACH;FMTTYPE=image/png:https://cathedralofhope.org/wp-content/uploads/2024/08/Jam-with-YAMs.png
ORGANIZER;CN="Sara Hackett":MAILTO:SaraH@coh.net
END:VEVENT
END:VCALENDAR