BEGIN:VCALENDAR
VERSION:2.0
PRODID:-//East Liberty Presbyterian Church - ECPv6.15.20//NONSGML v1.0//EN
CALSCALE:GREGORIAN
METHOD:PUBLISH
X-WR-CALNAME:East Liberty Presbyterian Church
X-ORIGINAL-URL:https://cathedralofhope.org
X-WR-CALDESC:Events for East Liberty Presbyterian Church
REFRESH-INTERVAL;VALUE=DURATION:PT1H
X-Robots-Tag:noindex
X-PUBLISHED-TTL:PT1H
BEGIN:VTIMEZONE
TZID:America/New_York
BEGIN:DAYLIGHT
TZOFFSETFROM:-0500
TZOFFSETTO:-0400
TZNAME:EDT
DTSTART:20250309T070000
END:DAYLIGHT
BEGIN:STANDARD
TZOFFSETFROM:-0400
TZOFFSETTO:-0500
TZNAME:EST
DTSTART:20251102T060000
END:STANDARD
BEGIN:DAYLIGHT
TZOFFSETFROM:-0500
TZOFFSETTO:-0400
TZNAME:EDT
DTSTART:20260308T070000
END:DAYLIGHT
BEGIN:STANDARD
TZOFFSETFROM:-0400
TZOFFSETTO:-0500
TZNAME:EST
DTSTART:20261101T060000
END:STANDARD
BEGIN:DAYLIGHT
TZOFFSETFROM:-0500
TZOFFSETTO:-0400
TZNAME:EDT
DTSTART:20270314T070000
END:DAYLIGHT
BEGIN:STANDARD
TZOFFSETFROM:-0400
TZOFFSETTO:-0500
TZNAME:EST
DTSTART:20271107T060000
END:STANDARD
END:VTIMEZONE
BEGIN:VTIMEZONE
TZID:America/Halifax
BEGIN:DAYLIGHT
TZOFFSETFROM:-0400
TZOFFSETTO:-0300
TZNAME:ADT
DTSTART:20250309T060000
END:DAYLIGHT
BEGIN:STANDARD
TZOFFSETFROM:-0300
TZOFFSETTO:-0400
TZNAME:AST
DTSTART:20251102T050000
END:STANDARD
BEGIN:DAYLIGHT
TZOFFSETFROM:-0400
TZOFFSETTO:-0300
TZNAME:ADT
DTSTART:20260308T060000
END:DAYLIGHT
BEGIN:STANDARD
TZOFFSETFROM:-0300
TZOFFSETTO:-0400
TZNAME:AST
DTSTART:20261101T050000
END:STANDARD
BEGIN:DAYLIGHT
TZOFFSETFROM:-0400
TZOFFSETTO:-0300
TZNAME:ADT
DTSTART:20270314T060000
END:DAYLIGHT
BEGIN:STANDARD
TZOFFSETFROM:-0300
TZOFFSETTO:-0400
TZNAME:AST
DTSTART:20271107T050000
END:STANDARD
END:VTIMEZONE
BEGIN:VEVENT
DTSTART;TZID=America/New_York:20260316T180000
DTEND;TZID=America/New_York:20260316T193000
DTSTAMP:20260425T074758
CREATED:20250828T194740Z
LAST-MODIFIED:20251210T212242Z
UID:10003583-1773684000-1773689400@cathedralofhope.org
SUMMARY:Young Adult Happy Hour
DESCRIPTION:Join other young adults from East Liberty Presbyterian Church at our monthly Happy Hour on Monday\, September 15th at Pastor BJ’s house in East Liberty. We will enjoy conversation\, appetizers\, and drinks (both alcoholic and non-alcoholic drinks available) on the Third Monday of every month from 6:00-7:30pm. \nELPC’s Young Adult Ministry welcomes all adults post-high school through their 20s and 30s. \nReach out to Sara Hackett at SaraH@coh.net if you have any questions including about allergies\, accessibility or transportation. \nRSVP online to receive exact address and details
URL:https://cathedralofhope.org/event/young-adult-happy-hour-2026-02-16/2026-03-16/
CATEGORIES:Young Adult
ATTACH;FMTTYPE=image/png:https://cathedralofhope.org/wp-content/uploads/2025/08/Copy-of-Happy-e1756410201895.png
END:VEVENT
BEGIN:VEVENT
DTSTART;TZID=America/Halifax:20260412T120000
DTEND;TZID=America/Halifax:20260412T140000
DTSTAMP:20260425T074758
CREATED:20241010T111557Z
LAST-MODIFIED:20260326T202133Z
UID:10001980-1775995200-1776002400@cathedralofhope.org
SUMMARY:Inquirers' Class
DESCRIPTION:Interested in learning more about what God is doing at ELPC? Maybe you’re feeling the nudge to become an official member or friend of the church? The next Inquirer’s Class will take place on Sunday\, April 12\, 12 pm. Lunch will be provided. \nClick here to learn more about becoming an ELPC member or friend. \nTo register\, please complete the form below. If you have questions\, contact Jen King at JenK@coh.net or 412.441.3800 x222. \n\n\n\n                \n                        \n                            Inquirers' Class Registration\n                             \n                        \n                        CompanyThis field is for validation purposes and should be left unchanged.Your Name(Required)\n                            \n                            \n                                                    \n                                                    First\n                                                \n                            \n                            \n                                                    \n                                                    Last\n                                                \n                            \n                        Preferred pronouns\n			\n					\n					He/him\n			\n			\n					\n					She/her\n			\n			\n					\n					They/them\n			\n			\n					\n					He/THEY\n			\n			\n					\n					She/THEY\n			\n			\n					\n					Other\n			Email(Required)\n                            \n                        PhoneList names of other family members or friends who will attend.Do you have any dietary restrictions?
URL:https://cathedralofhope.org/event/inquirers-class/
LOCATION:ELPC – McKelvy Room (114)\, 116 South Highland Avenue\, Pittsburgh\, PA\, 15206\, United States
CATEGORIES:Community,Featured Events,Young Adult
ATTACH;FMTTYPE=image/jpeg:https://cathedralofhope.org/wp-content/uploads/2024/10/2026-02-01.jpeg
GEO:40.439677;-79.9899243
X-APPLE-STRUCTURED-LOCATION;VALUE=URI;X-ADDRESS=ELPC – McKelvy Room (114) 116 South Highland Avenue Pittsburgh PA 15206 United States;X-APPLE-RADIUS=500;X-TITLE=116 South Highland Avenue:geo:-79.9899243,40.439677
END:VEVENT
BEGIN:VEVENT
DTSTART;TZID=America/New_York:20260420T180000
DTEND;TZID=America/New_York:20260420T193000
DTSTAMP:20260425T074758
CREATED:20260409T201318Z
LAST-MODIFIED:20260409T201318Z
UID:10003584-1776708000-1776713400@cathedralofhope.org
SUMMARY:Young Adult Happy Hour
DESCRIPTION:Join other young adults from East Liberty Presbyterian Church at our monthly Happy Hour on Monday\, April 20 Geeg and Dan Eash’s home in Plum. We will enjoy conversation\, appetizers\, and drinks (both alcoholic and non-alcoholic drinks available) on the Third Monday of every month from 6:00-7:30pm. \nELPC’s Young Adult Ministry welcomes all adults post-high school through their 20s and 30s. \nReach out to Sara Hackett at SaraH@coh.net if you have any questions including about allergies\, accessibility or transportation. \nRSVP online to receive exact address and details
URL:https://cathedralofhope.org/event/young-adult-happy-hour-2026-02-16-2/
CATEGORIES:Young Adult
ATTACH;FMTTYPE=image/png:https://cathedralofhope.org/wp-content/uploads/2025/08/Copy-of-Happy-e1756410201895.png
END:VEVENT
BEGIN:VEVENT
DTSTART;TZID=America/New_York:20260518T180000
DTEND;TZID=America/New_York:20260518T193000
DTSTAMP:20260425T074758
CREATED:20260409T203016Z
LAST-MODIFIED:20260409T203016Z
UID:10007393-1779127200-1779132600@cathedralofhope.org
SUMMARY:Young Adult Happy Hour
DESCRIPTION:Join other young adults from East Liberty Presbyterian Church at our monthly Happy Hour on Monday\, May 18  Susan Wadsworth Booth and Doug Booth in Wilkinsburg. We will enjoy conversation\, appetizers\, and drinks (both alcoholic and non-alcoholic drinks available) on the Third Monday of every month from 6:00-7:30pm. \nELPC’s Young Adult Ministry welcomes all adults post-high school through their 20s and 30s. \nReach out to Sara Hackett at SaraH@coh.net if you have any questions including about allergies\, accessibility or transportation. \nRSVP online to receive exact address and details
URL:https://cathedralofhope.org/event/young-adult-happy-hour-2/
CATEGORIES:Young Adult
ATTACH;FMTTYPE=image/png:https://cathedralofhope.org/wp-content/uploads/2025/08/Copy-of-Happy-e1756410201895.png
END:VEVENT
END:VCALENDAR