BEGIN:VCALENDAR
VERSION:2.0
PRODID:-//East Liberty Presbyterian Church - ECPv6.15.20//NONSGML v1.0//EN
CALSCALE:GREGORIAN
METHOD:PUBLISH
X-ORIGINAL-URL:https://cathedralofhope.org
X-WR-CALDESC:Events for East Liberty Presbyterian Church
REFRESH-INTERVAL;VALUE=DURATION:PT1H
X-Robots-Tag:noindex
X-PUBLISHED-TTL:PT1H
BEGIN:VTIMEZONE
TZID:America/Halifax
BEGIN:DAYLIGHT
TZOFFSETFROM:-0400
TZOFFSETTO:-0300
TZNAME:ADT
DTSTART:20130310T060000
END:DAYLIGHT
BEGIN:STANDARD
TZOFFSETFROM:-0300
TZOFFSETTO:-0400
TZNAME:AST
DTSTART:20131103T050000
END:STANDARD
BEGIN:DAYLIGHT
TZOFFSETFROM:-0400
TZOFFSETTO:-0300
TZNAME:ADT
DTSTART:20140309T060000
END:DAYLIGHT
BEGIN:STANDARD
TZOFFSETFROM:-0300
TZOFFSETTO:-0400
TZNAME:AST
DTSTART:20141102T050000
END:STANDARD
BEGIN:DAYLIGHT
TZOFFSETFROM:-0400
TZOFFSETTO:-0300
TZNAME:ADT
DTSTART:20150308T060000
END:DAYLIGHT
BEGIN:STANDARD
TZOFFSETFROM:-0300
TZOFFSETTO:-0400
TZNAME:AST
DTSTART:20151101T050000
END:STANDARD
END:VTIMEZONE
BEGIN:VEVENT
DTSTART;TZID=America/Halifax:20140801T190000
DTEND;TZID=America/Halifax:20140801T230000
DTSTAMP:20260425T070305
CREATED:20140520T000530Z
LAST-MODIFIED:20140520T000530Z
UID:10000780-1406919600-1406934000@cathedralofhope.org
SUMMARY:First Friday @ Gateway Clipper
DESCRIPTION:Spend a summer evening on the three rivers with friends.  We will set sail on the Gateway Clipper and return to Station Square for some fellowship and refreshments.  Bring money to sail and snack.  Learn more at http://www.gatewayclipper.com/.   This is a TRAIL event and all folks in their 20s and 30s are encouraged to attend.
URL:https://cathedralofhope.org/event/first-friday-gateway-clipper/
LOCATION:Gateway Clipper\, 350 West Station Square Drive\, Pittsburgh\, PA\, 15219\, United States
CATEGORIES:Church Life,Community,Young Adult
GEO:40.4332991;-80.0042611
X-APPLE-STRUCTURED-LOCATION;VALUE=URI;X-ADDRESS=Gateway Clipper 350 West Station Square Drive Pittsburgh PA 15219 United States;X-APPLE-RADIUS=500;X-TITLE=350 West Station Square Drive:geo:-80.0042611,40.4332991
END:VEVENT
BEGIN:VEVENT
DTSTART;TZID=America/Halifax:20140723T200000
DTEND;TZID=America/Halifax:20140723T230000
DTSTAMP:20260425T070305
CREATED:20140520T000021Z
LAST-MODIFIED:20140520T000021Z
UID:10000779-1406145600-1406156400@cathedralofhope.org
SUMMARY:Cinema in the Park
DESCRIPTION:Gather at Flagstaff Hill early or come at 8pm from the church and we will share a fun summer Pittsburgh tradition – a free outdoor movie in Schenley Park.   Learn more at www.pittsburghpa.gov/citiparks/cinema-schenley.
URL:https://cathedralofhope.org/event/cinema-park/
LOCATION:PA
CATEGORIES:Church Life,Young Adult
END:VEVENT
BEGIN:VEVENT
DTSTART;TZID=America/Halifax:20140712T000000
DTEND;TZID=America/Halifax:20140712T160000
DTSTAMP:20260425T070305
CREATED:20140519T235642Z
LAST-MODIFIED:20140519T235642Z
UID:10000778-1405123200-1405180800@cathedralofhope.org
SUMMARY:Progressive Lunch and Discussion
DESCRIPTION:Back by popular demand\, we will again rotate locations for different courses of our one unified meal and at each location someone will host a discussion topic for the group.  Please consider hosting a course at your place: appetizers\, salad\, main course or dessert OR if you can host a discussion topic for the group at one of the four locations.  Please RSVP to Wil by July 1 with the following information:  For hosting a course: your address and preferred meal course OR for discussion topic: your discussion topic & the course in which you’d prefer to discuss the topic.  The church van will leave from ELPC providing a ride for all.
URL:https://cathedralofhope.org/event/progressive-lunch-discussion/
LOCATION:PA
CATEGORIES:Church Life,Young Adult
END:VEVENT
BEGIN:VEVENT
DTSTART;TZID=America/Halifax:20140704T190000
DTEND;TZID=America/Halifax:20140704T230000
DTSTAMP:20260425T070305
CREATED:20140519T235306Z
LAST-MODIFIED:20140519T235306Z
UID:10000777-1404500400-1404514800@cathedralofhope.org
SUMMARY:First Friday @ Fireworks
DESCRIPTION:As a group we will head downtown to a choice location to experience the fireworks display and celebrate Independence Day together.  We will travel all together in one van and return to ELPC afterward.  This is a TRAIL event and all in their 20s and 30s are encouraged to attend.
URL:https://cathedralofhope.org/event/first-friday-fireworks/
LOCATION:Downtown Pittsburgh\, Pittsburgh\, PA\, United States
CATEGORIES:Church Life,Community,Young Adult
GEO:40.4406248;-79.9958864
END:VEVENT
BEGIN:VEVENT
DTSTART;TZID=America/Halifax:20140625T180000
DTEND;TZID=America/Halifax:20140625T200000
DTSTAMP:20260425T070305
CREATED:20140510T164605Z
LAST-MODIFIED:20140510T164605Z
UID:10002398-1403719200-1403726400@cathedralofhope.org
SUMMARY:Appe-Taize
DESCRIPTION:Relax and refresh after a long summer day as the young adults (20/30s) first gather for fellowship and appetizers\, but then we will join the Taize worship service. Come for the food and stay for the worship!
URL:https://cathedralofhope.org/event/appe-taize/
LOCATION:ELPC – Second Floor Parlor\, 116 S Highland Avenue\, Pittsburgh\, PA\, 15206\, United States
CATEGORIES:Church Life,Young Adult
GEO:40.461033;-79.925503
X-APPLE-STRUCTURED-LOCATION;VALUE=URI;X-ADDRESS=ELPC – Second Floor Parlor 116 S Highland Avenue Pittsburgh PA 15206 United States;X-APPLE-RADIUS=500;X-TITLE=116 S Highland Avenue:geo:-79.925503,40.461033
END:VEVENT
BEGIN:VEVENT
DTSTART;TZID=America/Halifax:20140615T110000
DTEND;TZID=America/Halifax:20140615T150000
DTSTAMP:20260425T070305
CREATED:20140509T003659Z
LAST-MODIFIED:20140509T003659Z
UID:10002345-1402830000-1402844400@cathedralofhope.org
SUMMARY:Pittsburgh Pridefest
DESCRIPTION:Each year ELPC members\, both LGBTQ and allies\, participate in the annual Pittsburgh Pride Festival in June to celebrate and support our LGBTQ sisters and brothers. On this date we will march in the parade at noon and will also host an information table for Pridefest participants to learn about ELPC and its ministries. See the bulletin board in the Highland hallway for more information or sign up in advance with Wil Forrest for a ride from ELPC after the 10am service.
URL:https://cathedralofhope.org/event/pittsburgh-pridefest/
LOCATION:Downtown Pittsburgh\, Pittsburgh\, PA\, United States
CATEGORIES:Church Life,Community,Featured Events,LGBTQIA+,Mission Activities,Special Events,Young Adult
GEO:40.4406248;-79.9958864
END:VEVENT
BEGIN:VEVENT
DTSTART;TZID=America/Halifax:20140606T190000
DTEND;TZID=America/Halifax:20140606T220000
DTSTAMP:20260425T070305
CREATED:20140510T154521Z
LAST-MODIFIED:20140510T154521Z
UID:10002390-1402081200-1402092000@cathedralofhope.org
SUMMARY:First Friday @ Garfield Community Farm
DESCRIPTION:We will spend an evening serving on a reclaimed urban garden lot with local ministry partner Garfield Community Farms.  Meet in ELPC lobby to travel together at 6:45pm or meet at the farm at 7pm.  Dress to work in the dirt.  Learn more at http://www.garfieldfarm.com/.
URL:https://cathedralofhope.org/event/first-friday-garfield-community-farm/
LOCATION:Garfield Community Farm\, Corner of Wicklow and Cornwall Streets\, Pittsburgh\, PA\, 15224\, United States
CATEGORIES:Community,Mission Activities,Young Adult
GEO:40.4694043;-79.934605
X-APPLE-STRUCTURED-LOCATION;VALUE=URI;X-ADDRESS=Garfield Community Farm Corner of Wicklow and Cornwall Streets Pittsburgh PA 15224 United States;X-APPLE-RADIUS=500;X-TITLE=Corner of Wicklow and Cornwall Streets:geo:-79.934605,40.4694043
END:VEVENT
BEGIN:VEVENT
DTSTART;TZID=America/Halifax:20140518T084500
DTEND;TZID=America/Halifax:20140518T094500
DTSTAMP:20260425T070305
CREATED:20140510T153731Z
LAST-MODIFIED:20140510T153731Z
UID:10002388-1400402700-1400406300@cathedralofhope.org
SUMMARY:Young Adult Christian Education Class
DESCRIPTION:We will conclude our spring theme of testimony as Kathy Glass leads us in examining “turning points” through Scripture\, personal testimony and group discussion.  Bring your Bible. Café Justo served and childcare available in the nursery.
URL:https://cathedralofhope.org/event/11054/
LOCATION:ELPC – Room 244\, 116 S Highland Avenue\, Pittsburgh\, PA\, 15206\, United States
CATEGORIES:Educational & Spiritual Life,Young Adult
GEO:40.461033;-79.925503
X-APPLE-STRUCTURED-LOCATION;VALUE=URI;X-ADDRESS=ELPC – Room 244 116 S Highland Avenue Pittsburgh PA 15206 United States;X-APPLE-RADIUS=500;X-TITLE=116 S Highland Avenue:geo:-79.925503,40.461033
END:VEVENT
BEGIN:VEVENT
DTSTART;TZID=America/Halifax:20140502T190000
DTEND;TZID=America/Halifax:20140502T220000
DTSTAMP:20260425T070305
CREATED:20140422T212313Z
LAST-MODIFIED:20140422T212313Z
UID:10000017-1399057200-1399068000@cathedralofhope.org
SUMMARY:First Friday @ Prayer Walk
DESCRIPTION:We will begin and end at ELPC\, but spend the rest of our time doing a prayer walk all over the city. While we will ride together to experience\, learn about and pray over different parts of our hometown\, we will also do some recreational and contemplative walking too. Come ready to walk and pray! This is a TRAIL event and\, as such\, all folks in their 20s and 30s are welcome.
URL:https://cathedralofhope.org/event/first-friday-prayer-walk/
LOCATION:PA
CATEGORIES:Community,Young Adult
END:VEVENT
BEGIN:VEVENT
DTSTART;TZID=America/Halifax:20140426T120000
DTEND;TZID=America/Halifax:20140427T140000
DTSTAMP:20260425T070305
CREATED:20140422T195652Z
LAST-MODIFIED:20140422T195652Z
UID:10000014-1398513600-1398607200@cathedralofhope.org
SUMMARY:Real Live Camping
DESCRIPTION:This is the real thing…no cabins\, no kitchen. The young adults will head out to the woods\, pitch out tents and spend the evening gathered around the fire. Bring a tent\, a sleeping bag\, a campfire story and your sense of adventure. Camping spot and food supplied. Please RSVP to Wil by Friday\, April 18.
URL:https://cathedralofhope.org/event/real-live-camping/
LOCATION:PA
CATEGORIES:Young Adult
END:VEVENT
END:VCALENDAR