BEGIN:VCALENDAR
VERSION:2.0
PRODID:-//East Liberty Presbyterian Church - ECPv6.15.20//NONSGML v1.0//EN
CALSCALE:GREGORIAN
METHOD:PUBLISH
X-ORIGINAL-URL:https://cathedralofhope.org
X-WR-CALDESC:Events for East Liberty Presbyterian Church
REFRESH-INTERVAL;VALUE=DURATION:PT1H
X-Robots-Tag:noindex
X-PUBLISHED-TTL:PT1H
BEGIN:VTIMEZONE
TZID:America/New_York
BEGIN:DAYLIGHT
TZOFFSETFROM:-0500
TZOFFSETTO:-0400
TZNAME:EDT
DTSTART:20190310T070000
END:DAYLIGHT
BEGIN:STANDARD
TZOFFSETFROM:-0400
TZOFFSETTO:-0500
TZNAME:EST
DTSTART:20191103T060000
END:STANDARD
BEGIN:DAYLIGHT
TZOFFSETFROM:-0500
TZOFFSETTO:-0400
TZNAME:EDT
DTSTART:20200308T070000
END:DAYLIGHT
BEGIN:STANDARD
TZOFFSETFROM:-0400
TZOFFSETTO:-0500
TZNAME:EST
DTSTART:20201101T060000
END:STANDARD
BEGIN:DAYLIGHT
TZOFFSETFROM:-0500
TZOFFSETTO:-0400
TZNAME:EDT
DTSTART:20210314T070000
END:DAYLIGHT
BEGIN:STANDARD
TZOFFSETFROM:-0400
TZOFFSETTO:-0500
TZNAME:EST
DTSTART:20211107T060000
END:STANDARD
BEGIN:DAYLIGHT
TZOFFSETFROM:-0500
TZOFFSETTO:-0400
TZNAME:EDT
DTSTART:20220313T070000
END:DAYLIGHT
BEGIN:STANDARD
TZOFFSETFROM:-0400
TZOFFSETTO:-0500
TZNAME:EST
DTSTART:20221106T060000
END:STANDARD
END:VTIMEZONE
BEGIN:VEVENT
DTSTART;TZID=America/New_York:20210622T180000
DTEND;TZID=America/New_York:20210622T193000
DTSTAMP:20260423T173305
CREATED:20210601T144447Z
LAST-MODIFIED:20210601T155228Z
UID:10003501-1624384800-1624390200@cathedralofhope.org
SUMMARY:YAM Spiritual Fermentation
DESCRIPTION:Let us join together with Pastor BJ at a local brewery for our last Spiritual Fermentation gathering! As we enjoy the process of brewing and look back at the contemplative practices we have discussed\, we invite you to share an everyday ordinary activity\, an interest\, hobby\, or passion of yours that you currently engage in and/or would like to further explore as a space to connect with\, notice\, and be in with God. Contemplate the development of a plan for how you will actually engage in and do this activity as an embodied practice. \nRSVP to Kelli Booher at by Friday\, June 18.
URL:https://cathedralofhope.org/event/yam-spiritual-fermentation/
CATEGORIES:Featured Events,Young Adult
ORGANIZER;CN="Kelli Booher":MAILTO:KelliB@coh.net
END:VEVENT
BEGIN:VEVENT
DTSTART;TZID=America/New_York:20210522T100000
DTEND;TZID=America/New_York:20210522T140000
DTSTAMP:20260423T173305
CREATED:20210426T102011Z
LAST-MODIFIED:20210504T124944Z
UID:10006810-1621677600-1621692000@cathedralofhope.org
SUMMARY:YAM Outdoor Detective Adventure
DESCRIPTION:CluedUpp is an exciting\, outdoor detective adventure—and it’s coming to Pittsburgh on May 22! \n\n“Can your team of detectives scramble across town\, solve the clues and crack the case in time?” We think we can! \n\n\nRSVP is needed\, so please contact Kelli Booher by Monday\, May 17.
URL:https://cathedralofhope.org/event/yam-outdoor-detective-adventure/
CATEGORIES:Featured Events,Young Adult
ORGANIZER;CN="Kelli Booher":MAILTO:KelliB@coh.net
END:VEVENT
BEGIN:VEVENT
DTSTART;TZID=America/New_York:20210511T180000
DTEND;TZID=America/New_York:20210511T193000
DTSTAMP:20260423T173305
CREATED:20210426T101700Z
LAST-MODIFIED:20210426T101700Z
UID:10006809-1620756000-1620761400@cathedralofhope.org
SUMMARY:YAM Summer Planning Happy Hour
DESCRIPTION:Calling all young adults. Grab your dinner and a drink\, let’s catch up and plan for a fun YAM summer! 
URL:https://cathedralofhope.org/event/yam-summer-planning-happy-hour/
CATEGORIES:Young Adult
ORGANIZER;CN="Kelli Booher":MAILTO:KelliB@coh.net
END:VEVENT
BEGIN:VEVENT
DTSTART;TZID=America/New_York:20210502T133000
DTEND;TZID=America/New_York:20210502T153000
DTSTAMP:20260423T173305
CREATED:20210406T010547Z
LAST-MODIFIED:20210428T190737Z
UID:10006802-1619962200-1619969400@cathedralofhope.org
SUMMARY:Earth Day Photo Scavenger Hunt
DESCRIPTION:Join us Sunday\, May 2\, for a fun-for-all-ages photo scavenger hunt that can be done in Highland Park or your yard and neighborhood. The Children and Family Ministry Team and staff will be at Lake Point Shelter in Highland Park from 1:30–3:30 pm\, with hands-on Earth Day activities for all ages! \nThe photo scavenger hunt will be happening in real time via Flipgrid\, so you may join in the fun no matter where you are. And if you can’t join us Sunday afternoon\, the photo sharing will remain open all week. \nPlease register by emailing Sara Hackett at SaraH@coh.net. \nDownload Instructions
URL:https://cathedralofhope.org/event/earth-day-photo-scavenger-hunt/
CATEGORIES:Children & Youth,Featured Events,LGBTQIA+,Young Adult
ATTACH;FMTTYPE=image/png:https://cathedralofhope.org/wp-content/uploads/2021/04/earthdayhunt.png
ORGANIZER;CN="Sara Hackett":MAILTO:SaraH@coh.net
END:VEVENT
BEGIN:VEVENT
DTSTART;TZID=America/New_York:20210408T183000
DTEND;TZID=America/New_York:20210408T200000
DTSTAMP:20260423T173305
CREATED:20210331T181010Z
LAST-MODIFIED:20210331T181010Z
UID:10006791-1617906600-1617912000@cathedralofhope.org
SUMMARY:YAMs | Exploring Our Ecological Identity
DESCRIPTION:“Developing a profound sense of oneself in relationship to natural and social ecosystems is necessary grounding for the difficult work of environmental advocacy.” \nThrough hands-on activities\, we will discuss and learn how to construct our ecological identity: using the direct experience of nature as a framework for our personal decisions\, professional choices\, political action\, and spiritual inquiry. We will be guided by Mitchel Thomashow’s book\, Ecological Identity: Becoming a Reflective Environmentalist. Reading is not required to participate. \nRSVP to Kelli Booher.
URL:https://cathedralofhope.org/event/yams-exploring-our-ecological-identity/
LOCATION:ELPC – Online\, 116 South Highland Avenue\, Pittsburgh\, PA\, 15206\, United States
CATEGORIES:Featured Events,Young Adult
ORGANIZER;CN="Kelli Booher":MAILTO:KelliB@coh.net
END:VEVENT
BEGIN:VEVENT
DTSTART;TZID=America/New_York:20210319T190000
DTEND;TZID=America/New_York:20210319T210000
DTSTAMP:20260423T173305
CREATED:20210302T185620Z
LAST-MODIFIED:20210302T185620Z
UID:10003550-1616180400-1616187600@cathedralofhope.org
SUMMARY:YAM | Tiny Campfire
DESCRIPTION:Gather around your screens and join us for storytelling\, games\, and s’mores. No mosquito repellent needed. \nRSVP to Kelli Booher for this online camping experience and to receive your camping kit.
URL:https://cathedralofhope.org/event/yam-tiny-campfire/
LOCATION:ELPC – Online\, 116 South Highland Avenue\, Pittsburgh\, PA\, 15206\, United States
CATEGORIES:Featured Events,Young Adult
ORGANIZER;CN="Kelli Booher":MAILTO:KelliB@coh.net
END:VEVENT
BEGIN:VEVENT
DTSTART;TZID=America/New_York:20210222T190000
DTEND;TZID=America/New_York:20210222T210000
DTSTAMP:20260423T173305
CREATED:20210120T154039Z
LAST-MODIFIED:20210211T141946Z
UID:10003497-1614020400-1614027600@cathedralofhope.org
SUMMARY:YAM Craft Night
DESCRIPTION:Take a break from the week and get creative. Each of our craft nights require no previous craft experience. It’s a time to relax\, socialize\, and make something. \nSupplies and materials will be provided\, so please RSVP to Kelli by Thursday\, February 18. More details will be sent via email or text.
URL:https://cathedralofhope.org/event/yam-craft-night/
CATEGORIES:Young Adult
ATTACH;FMTTYPE=image/png:https://cathedralofhope.org/wp-content/uploads/2020/12/YAM-virtual-event.png
ORGANIZER;CN="Kelli Booher":MAILTO:KelliB@coh.net
END:VEVENT
BEGIN:VEVENT
DTSTART;TZID=America/New_York:20210219T190000
DTEND;TZID=America/New_York:20210219T210000
DTSTAMP:20260423T173305
CREATED:20210120T154131Z
LAST-MODIFIED:20210120T154131Z
UID:10003499-1613761200-1613768400@cathedralofhope.org
SUMMARY:YAM Bingo Night
DESCRIPTION:Play Bingo from the comfort of your own home! Get your virtual daubers ready to have some fun and win some prizes! You will be emailed a link to get your cards\, so be on the look out for more details on how to participate.
URL:https://cathedralofhope.org/event/yam-bingo-night/
CATEGORIES:Young Adult
ORGANIZER;CN="Kelli Booher":MAILTO:KelliB@coh.net
END:VEVENT
BEGIN:VEVENT
DTSTART;TZID=America/New_York:20210202T190000
DTEND;TZID=America/New_York:20210202T203000
DTSTAMP:20260423T173305
CREATED:20210120T153846Z
LAST-MODIFIED:20210126T191359Z
UID:10006690-1612292400-1612297800@cathedralofhope.org
SUMMARY:Historically Speaking: Four Hundred Souls
DESCRIPTION:Join us as we virtually attend Historically Speaking: Four Hundred Souls – A Conversation with Ibram Kendi and Keisha N. Blain\, presented by the Smithsonian National Museum of African American History & Culture. \nFollowing the event\, young adults can join a 30-minute Zoom call to discuss among ourselves. \nThe event is free\, but registration is recommended\, so please RSVP to Kelli as soon as possible or at tiny.cc/four-hundred-souls.
URL:https://cathedralofhope.org/event/historically-speaking-four-hundred-souls/
CATEGORIES:Young Adult
ATTACH;FMTTYPE=image/jpeg:https://cathedralofhope.org/wp-content/uploads/2021/01/img_four-hundred-souls.jpg
ORGANIZER;CN="Kelli Booher":MAILTO:KelliB@coh.net
END:VEVENT
BEGIN:VEVENT
DTSTART;TZID=America/New_York:20210118T130000
DTEND;TZID=America/New_York:20210118T150000
DTSTAMP:20260423T173305
CREATED:20201229T155217Z
LAST-MODIFIED:20201229T155217Z
UID:10003378-1610974800-1610982000@cathedralofhope.org
SUMMARY:Virtual 29th Annual MLK Celebration
DESCRIPTION:Peoria\, Illinois\, Public Employees for Community Concerns’ 29th annual MLK Celebration is virtual this year. Hear Dr. Bernice King speak from 1–2 pm\, and then YAMs may join our Zoom discussion from 2–3 pm. \nTicket cost will be covered by Young Adult Ministry. Please RSVP to Kelli Booher at KelliB@coh.net to attend.
URL:https://cathedralofhope.org/event/virtual-29th-annual-mlk-celebration/
CATEGORIES:Young Adult
END:VEVENT
BEGIN:VEVENT
DTSTART;TZID=America/New_York:20210113T200000
DTEND;TZID=America/New_York:20210113T210000
DTSTAMP:20260423T173305
CREATED:20201020T194524Z
LAST-MODIFIED:20201229T155108Z
UID:10006446-1610568000-1610571600@cathedralofhope.org
SUMMARY:YAM  | Do the Write Thing
DESCRIPTION:One Wednesday every month\, we take a different approach to “writing\,” whether it is reflecting\, drawing\, meditation\, visual art\, social justice\, or communicating to others. Whether you write\, type\, voice text\, use communication symbols\, or draw\, please join us! \nQuestions? Contact Kelli Booher at KelliB@coh.net.
URL:https://cathedralofhope.org/event/yam-instagram-takeover-do-the-write-thing/
CATEGORIES:Featured Events,Young Adult
ORGANIZER;CN="Kelli Booher":MAILTO:KelliB@coh.net
END:VEVENT
BEGIN:VEVENT
DTSTART;TZID=America/New_York:20210108T190000
DTEND;TZID=America/New_York:20210108T210000
DTSTAMP:20260423T173305
CREATED:20201229T154658Z
LAST-MODIFIED:20201229T155011Z
UID:10006580-1610132400-1610139600@cathedralofhope.org
SUMMARY:YAM's Virtual Game Night
DESCRIPTION:This Game Night will begin with trivia followed by other games on the Jack Box platform. Everyone can play along on their own mobile devices by using a browser. Two devices do make it easier but you also can go between Zoom and browser. Grab your snacks and settle in for a night of fun! \nQuestions? Contact Kelli Booher at KelliB@coh.net.
URL:https://cathedralofhope.org/event/yams-virtual-game-night/
CATEGORIES:Featured Events,Young Adult
ATTACH;FMTTYPE=image/png:https://cathedralofhope.org/wp-content/uploads/2020/12/YAM-virtual-event.png
END:VEVENT
BEGIN:VEVENT
DTSTART;TZID=America/New_York:20201231T150000
DTEND;TZID=America/New_York:20201231T160000
DTSTAMP:20260423T173305
CREATED:20201121T184205Z
LAST-MODIFIED:20201121T184205Z
UID:10003343-1609426800-1609430400@cathedralofhope.org
SUMMARY:YAM | New Year’s Eve "Early" Party
DESCRIPTION:Let us gather together (six feet apart)\, bringing our items that reflect this past year and place them in the YAM 2020 Time Capsule. If you are participating in the t-shirt making event\, wear your shirt! Let’s ring in the New Year…early! \nThis event is tentatively scheduled to be held in the Second Floor Parlor at ELPC. \nTo ask questions\, email Kelli Booher at KelliB@coh.net.
URL:https://cathedralofhope.org/event/yam-new-years-eve-early-party/
LOCATION:ELPC – Second Floor Parlor\, 116 S Highland Avenue\, Pittsburgh\, PA\, 15206\, United States
CATEGORIES:Young Adult
ORGANIZER;CN="Kelli Booher":MAILTO:KelliB@coh.net
GEO:40.461033;-79.925503
X-APPLE-STRUCTURED-LOCATION;VALUE=URI;X-ADDRESS=ELPC – Second Floor Parlor 116 S Highland Avenue Pittsburgh PA 15206 United States;X-APPLE-RADIUS=500;X-TITLE=116 S Highland Avenue:geo:-79.925503,40.461033
END:VEVENT
BEGIN:VEVENT
DTSTART;TZID=America/New_York:20201224T223000
DTEND;TZID=America/New_York:20201225T003000
DTSTAMP:20260423T173305
CREATED:20201121T184032Z
LAST-MODIFIED:20201215T165251Z
UID:10003341-1608849000-1608856200@cathedralofhope.org
SUMMARY:YAM | Christmas Eve Candlelight Service
DESCRIPTION:ELPC will have prerecorded Christmas Eve services available at 5 pm and 8 pm\, but YAMs also will gather and lead a Virtual YAM Candlelight Service. If you would like to help\, please contact Kelli Booher at KelliB@coh.net.
URL:https://cathedralofhope.org/event/yam-christmas-eve-candlelight-service/
CATEGORIES:Featured Events,Young Adult
ORGANIZER;CN="Kelli Booher":MAILTO:KelliB@coh.net
END:VEVENT
BEGIN:VEVENT
DTSTART;TZID=America/New_York:20201213T123000
DTEND;TZID=America/New_York:20201213T140000
DTSTAMP:20260423T173305
CREATED:20201121T183948Z
LAST-MODIFIED:20201121T184042Z
UID:10003340-1607862600-1607868000@cathedralofhope.org
SUMMARY:YAM | Sunday Social Lunch
DESCRIPTION:Log on to enjoy your lunch\, socialize\, and find out about YAM’s New Year’s Eve plans! We’ll discuss what to collect for the time capsule and provide information about a t-shirt making event. \nTo ask questions\, email Kelli Booher at KelliB@coh.net.
URL:https://cathedralofhope.org/event/yam-sunday-social-lunch/
CATEGORIES:Young Adult
ORGANIZER;CN="Kelli Booher":MAILTO:KelliB@coh.net
END:VEVENT
BEGIN:VEVENT
DTSTART;TZID=America/New_York:20201213T100000
DTEND;TZID=America/New_York:20201213T120000
DTSTAMP:20260423T173305
CREATED:20201118T151242Z
LAST-MODIFIED:20201204T142834Z
UID:10006476-1607853600-1607860800@cathedralofhope.org
SUMMARY:Advent Gift Box Pick-Up
DESCRIPTION:The Faith Formation board is offering a gift to every family at ELPC—of every age and configuration! Since we won’t get to celebrate this special season together\, we are bringing Advent materials to you\, so that we might pray\, anticipate\, and celebrate together. \nYour gift will include: materials for an Advent wreath\, a devotional book\, some items for “Advent Actions\,” crafts\, treats\, and a “Christmas Pageant Scavenger Hunt” so that EVERYONE can participate in our Zoom Christmas Pageant this year! \nStop by the church to pick up your box by Sunday\, December 13. \nIf you need to pick up your box during the week or need it delivered\, contact Megan Leisher or call 412.441.3800 x122.
URL:https://cathedralofhope.org/event/advent-box-pick-up/2020-12-13/
CATEGORIES:Children & Youth,Educational & Spiritual Life,Featured Events,Young Adult
ATTACH;FMTTYPE=image/png:https://cathedralofhope.org/wp-content/uploads/2020/11/Advent-box.png
END:VEVENT
BEGIN:VEVENT
DTSTART;TZID=America/New_York:20201213T100000
DTEND;TZID=America/New_York:20201213T110000
DTSTAMP:20260423T173305
CREATED:20201121T180332Z
LAST-MODIFIED:20201121T180652Z
UID:10006480-1607853600-1607857200@cathedralofhope.org
SUMMARY:Christmas Pageant: Can You Hear What I Hear?
DESCRIPTION:While we can’t gather in the Sanctuary together\, we will still be sharing the story of the Jesus’ birth through our annual Christmas Pageant on Sunday\, December 13\, 10 am. \nOur pageant is titled Can You Hear What I Hear? Middle-Schoolers will serve as narrators. Kids from infancy-grade 5 will dress in costumes and act out the story for us—some through pre-recorded vignettes and others live on Zoom. \nThis year\, you are invited to help us tell the story of Jesus’ birth! Persons of all ages are invited to collect any of these items and participate in the pageant when prompted: bell; flashlight; bathrobe (to be a Shepherd); halo\, wings\, or white/sparkling shirt (to be an Angel); wooden blocks/spoons or soup cans (to make the sound of donkey hooves); and a sign that expresses “JOY!” (maybe it reads “Christ is born!” or “Glory to God!” or “God is with us!” or “Rejoice!”). \nContact Megan Leisher to receive the Zoom links. And please contact Sara Hackett if you would like to participate\, so that we can include everyone!
URL:https://cathedralofhope.org/event/christmas-pageant-can-you-hear-what-i-hear/
CATEGORIES:Children & Youth,Educational & Spiritual Life,Featured Events,Young Adult
ATTACH;FMTTYPE=image/jpeg:https://cathedralofhope.org/wp-content/uploads/2020/11/20191214_101209-web.jpg
END:VEVENT
BEGIN:VEVENT
DTSTART;TZID=America/New_York:20201129T123000
DTEND;TZID=America/New_York:20201129T143000
DTSTAMP:20260423T173305
CREATED:20201118T151242Z
LAST-MODIFIED:20201204T142834Z
UID:10006475-1606653000-1606660200@cathedralofhope.org
SUMMARY:Advent Gift Box Pick-Up
DESCRIPTION:The Faith Formation board is offering a gift to every family at ELPC—of every age and configuration! Since we won’t get to celebrate this special season together\, we are bringing Advent materials to you\, so that we might pray\, anticipate\, and celebrate together. \nYour gift will include: materials for an Advent wreath\, a devotional book\, some items for “Advent Actions\,” crafts\, treats\, and a “Christmas Pageant Scavenger Hunt” so that EVERYONE can participate in our Zoom Christmas Pageant this year! \nStop by the church to pick up your box by Sunday\, December 13. \nIf you need to pick up your box during the week or need it delivered\, contact Megan Leisher or call 412.441.3800 x122.
URL:https://cathedralofhope.org/event/advent-box-pick-up/2020-11-29/
CATEGORIES:Children & Youth,Educational & Spiritual Life,Featured Events,Young Adult
ATTACH;FMTTYPE=image/png:https://cathedralofhope.org/wp-content/uploads/2020/11/Advent-box.png
END:VEVENT
BEGIN:VEVENT
DTSTART;TZID=America/New_York:20201127T190000
DTEND;TZID=America/New_York:20201127T203000
DTSTAMP:20260423T173305
CREATED:20201020T194941Z
LAST-MODIFIED:20201103T143244Z
UID:10003293-1606503600-1606509000@cathedralofhope.org
SUMMARY:YAM  | Virtual Craft Night
DESCRIPTION:Surprise craft night! RSVP to Kelli so that your crafting kit can be prepared for pick up or delivery. (Kits may be picked up/delivered with Friendsgiving meals.) \nTo ask questions\, email Kelli Booher at KelliB@coh.net.
URL:https://cathedralofhope.org/event/yam-virtual-craft-night/
CATEGORIES:Young Adult
ORGANIZER;CN="Kelli Booher":MAILTO:KelliB@coh.net
END:VEVENT
BEGIN:VEVENT
DTSTART;VALUE=DATE:20201126
DTEND;VALUE=DATE:20201127
DTSTAMP:20260423T173305
CREATED:20201020T194851Z
LAST-MODIFIED:20201103T143158Z
UID:10003291-1606348800-1606435199@cathedralofhope.org
SUMMARY:YAMS by YAMs
DESCRIPTION:For those of us who may not be gathering with others on Thanksgiving\, but want to give thanks for others in our community\, we have a safe and fun way to do so for everyone! Contact Kelli to sign up or for more details. \nTo ask questions\, email Kelli Booher at KelliB@coh.net.
URL:https://cathedralofhope.org/event/yam-yams-by-yams/
CATEGORIES:Young Adult
ORGANIZER;CN="Kelli Booher":MAILTO:KelliB@coh.net
END:VEVENT
BEGIN:VEVENT
DTSTART;TZID=America/New_York:20201122T173000
DTEND;TZID=America/New_York:20201122T193000
DTSTAMP:20260423T173305
CREATED:20201020T194743Z
LAST-MODIFIED:20201103T143147Z
UID:10003289-1606066200-1606073400@cathedralofhope.org
SUMMARY:YAM  | Friendsgiving & Game Night
DESCRIPTION:While we can’t gather in person for our annual Friendsgiving Dinner\, we will gather virtually to enjoy a Friendsgiving meal and game night. Meals will be $10 (assistance is available if needed) and will be available for pickup or delivery. \nContact Kelli Booher at KelliB@coh.net by Wednesday\, November 11\, for further details.
URL:https://cathedralofhope.org/event/yam-friendsgiving-game-night/
CATEGORIES:Young Adult
ORGANIZER;CN="Kelli Booher":MAILTO:KelliB@coh.net
END:VEVENT
BEGIN:VEVENT
DTSTART;TZID=America/New_York:20201122T123000
DTEND;TZID=America/New_York:20201122T143000
DTSTAMP:20260423T173305
CREATED:20201118T151242Z
LAST-MODIFIED:20201204T142834Z
UID:10006474-1606048200-1606055400@cathedralofhope.org
SUMMARY:Advent Gift Box Pick-Up
DESCRIPTION:The Faith Formation board is offering a gift to every family at ELPC—of every age and configuration! Since we won’t get to celebrate this special season together\, we are bringing Advent materials to you\, so that we might pray\, anticipate\, and celebrate together. \nYour gift will include: materials for an Advent wreath\, a devotional book\, some items for “Advent Actions\,” crafts\, treats\, and a “Christmas Pageant Scavenger Hunt” so that EVERYONE can participate in our Zoom Christmas Pageant this year! \nStop by the church to pick up your box by Sunday\, December 13. \nIf you need to pick up your box during the week or need it delivered\, contact Megan Leisher or call 412.441.3800 x122.
URL:https://cathedralofhope.org/event/advent-box-pick-up/2020-11-22/
CATEGORIES:Children & Youth,Educational & Spiritual Life,Featured Events,Young Adult
ATTACH;FMTTYPE=image/png:https://cathedralofhope.org/wp-content/uploads/2020/11/Advent-box.png
END:VEVENT
BEGIN:VEVENT
DTSTART;TZID=America/New_York:20201121T100000
DTEND;TZID=America/New_York:20201121T120000
DTSTAMP:20260423T173305
CREATED:20201118T151242Z
LAST-MODIFIED:20201204T142834Z
UID:10006473-1605952800-1605960000@cathedralofhope.org
SUMMARY:Advent Gift Box Pick-Up
DESCRIPTION:The Faith Formation board is offering a gift to every family at ELPC—of every age and configuration! Since we won’t get to celebrate this special season together\, we are bringing Advent materials to you\, so that we might pray\, anticipate\, and celebrate together. \nYour gift will include: materials for an Advent wreath\, a devotional book\, some items for “Advent Actions\,” crafts\, treats\, and a “Christmas Pageant Scavenger Hunt” so that EVERYONE can participate in our Zoom Christmas Pageant this year! \nStop by the church to pick up your box by Sunday\, December 13. \nIf you need to pick up your box during the week or need it delivered\, contact Megan Leisher or call 412.441.3800 x122.
URL:https://cathedralofhope.org/event/advent-box-pick-up/2020-11-21/
CATEGORIES:Children & Youth,Educational & Spiritual Life,Featured Events,Young Adult
ATTACH;FMTTYPE=image/png:https://cathedralofhope.org/wp-content/uploads/2020/11/Advent-box.png
END:VEVENT
BEGIN:VEVENT
DTSTART;TZID=America/New_York:20201114T190000
DTEND;TZID=America/New_York:20201114T210000
DTSTAMP:20260423T173305
CREATED:20201020T194953Z
LAST-MODIFIED:20201103T143138Z
UID:10006447-1605380400-1605387600@cathedralofhope.org
SUMMARY:YAM  | Movie Night
DESCRIPTION:You’re invited to a Netflix Party! Netflix Party synchronizes video playback and adds group chat to Netflix shows and movies (not available on phone). We will vote on three different movies a week before the party. \nTo ask questions or if you do not have a Netflix subscription\, contact Kelli Booher at KelliB@coh.net.
URL:https://cathedralofhope.org/event/yam-movie-night/
CATEGORIES:Young Adult
ORGANIZER;CN="Kelli Booher":MAILTO:KelliB@coh.net
END:VEVENT
BEGIN:VEVENT
DTSTART;TZID=America/New_York:20201102T180000
DTEND;TZID=America/New_York:20201102T191500
DTSTAMP:20260423T173305
CREATED:20201020T194253Z
LAST-MODIFIED:20201027T170455Z
UID:10006445-1604340000-1604344500@cathedralofhope.org
SUMMARY:YAM  | Present for the Future
DESCRIPTION:“When two or three are gathered in my name\, I am there in their midst.”—Matthew 18:20. \nJoin us anytime on Instagram at @elpcyoungadults to be present with other Young Adult Ministry members in the presence of God as we share and hold each other’s hopes and concerns in prayer. \nTo ask questions\, email Kelli Booher at KelliB@coh.net.
URL:https://cathedralofhope.org/event/yam-instagram-takeover-present-for-the-future/2020-11-02/2/
CATEGORIES:Young Adult
ORGANIZER;CN="Kelli Booher":MAILTO:KelliB@coh.net
END:VEVENT
BEGIN:VEVENT
DTSTART;TZID=America/New_York:20201102T120000
DTEND;TZID=America/New_York:20201102T131500
DTSTAMP:20260423T173305
CREATED:20201020T194253Z
LAST-MODIFIED:20201027T170455Z
UID:10006444-1604318400-1604322900@cathedralofhope.org
SUMMARY:YAM  | Present for the Future
DESCRIPTION:“When two or three are gathered in my name\, I am there in their midst.”—Matthew 18:20. \nJoin us anytime on Instagram at @elpcyoungadults to be present with other Young Adult Ministry members in the presence of God as we share and hold each other’s hopes and concerns in prayer. \nTo ask questions\, email Kelli Booher at KelliB@coh.net.
URL:https://cathedralofhope.org/event/yam-instagram-takeover-present-for-the-future/2020-11-02/1/
CATEGORIES:Young Adult
ORGANIZER;CN="Kelli Booher":MAILTO:KelliB@coh.net
END:VEVENT
BEGIN:VEVENT
DTSTART;TZID=America/New_York:20201025T173000
DTEND;TZID=America/New_York:20201025T190000
DTSTAMP:20260423T173305
CREATED:20200922T134347Z
LAST-MODIFIED:20201007T123103Z
UID:10006412-1603647000-1603652400@cathedralofhope.org
SUMMARY:YAMs are Cooking Yaka Mein
DESCRIPTION:Let’s get together on Zoom as Nate Morley teaches us how to cook “yaka mein”—a New Orleans noodle dish. \nFor the list of ingredients and Zoom link\, please RSVP with Nate.
URL:https://cathedralofhope.org/event/yams-are-cooking-yaka-mein/
CATEGORIES:Featured Events,Young Adult
ORGANIZER;CN="Nate Morley":MAILTO:nathaniel_morley@verizon.net
END:VEVENT
BEGIN:VEVENT
DTSTART;TZID=America/New_York:20200912T100000
DTEND;TZID=America/New_York:20200912T130000
DTSTAMP:20260423T173305
CREATED:20200824T143009Z
LAST-MODIFIED:20200908T140136Z
UID:10005129-1599904800-1599915600@cathedralofhope.org
SUMMARY:YAM African Healing Garden Workday
DESCRIPTION:All young adults are invited to join us at the African Healing Garden (located at 160 Meadow St.) for a workday. Some folks will work in the garden and others will work to lay pavement around the garden (there will be a professional on hand to give us instructions). \nEverything is outside and there is plenty of space to work at a distance. Masks are required. Please RSVP to Sara Hackett via email SaraH@coh.net or phone 412.673.2926. \nVisit @AfricanHealingGarden on Facebook to learn more about the garden.
URL:https://cathedralofhope.org/event/yam-african-healing-garden-workday/
CATEGORIES:Featured Events,Young Adult
ATTACH;FMTTYPE=image/jpeg:https://cathedralofhope.org/wp-content/uploads/2020/08/image001.jpg
END:VEVENT
BEGIN:VEVENT
DTSTART;TZID=America/New_York:20200906T190000
DTEND;TZID=America/New_York:20200906T203000
DTSTAMP:20260423T173305
CREATED:20200824T142628Z
LAST-MODIFIED:20200824T142628Z
UID:10005128-1599418800-1599424200@cathedralofhope.org
SUMMARY:YAM Zoom Dinner & Dessert Meeting
DESCRIPTION:Sit down with some new and old friends over dinner on Zoom! We will spend part of our time catching up with one another\, part dreaming up what the YAM group can be this fall/winter\, and part learning about the African Healing Garden from Betty Lane\, who started the garden. Located in Larimer\, the garden is a place that folks can go to heal. It was inspired by friendship\, community\, hurt\, loss\, and hope for the future—and it has something important to offer to its neighbors and to us today. I hope you will come hear its story. \nContact Sara Hackett at SaraH@coh.net or 412.441.3800 x120 for the Zoom meeting ID.
URL:https://cathedralofhope.org/event/yam-zoom-dinner-dessert-meeting/
CATEGORIES:Featured Events,Young Adult
END:VEVENT
BEGIN:VEVENT
DTSTART;TZID=America/New_York:20200625T193000
DTEND;TZID=America/New_York:20200625T203000
DTSTAMP:20260423T173305
CREATED:20200602T193737Z
LAST-MODIFIED:20200602T193737Z
UID:10005113-1593113400-1593117000@cathedralofhope.org
SUMMARY:Things You Love Club - for High School and Young Adults
DESCRIPTION:Share something that you love\, brought you joy\, or reminded you of God’s faithfulness.  You could share a song\, a quilt your grandma made\, a meme\, or a tomato plant … because the things we love help us tell our stories … and our stories are sacred. The Things You Love Club is for high school students and young adults. Zoom ID# 871-4795-0937. Contact Sara Hackett @ SaraH@coh.net or 412-673-2926 with questions. \n 
URL:https://cathedralofhope.org/event/things-you-love-club-for-high-school-and-young-adults/2020-06-25/
CATEGORIES:Children & Youth,Featured Events,Young Adult
ATTACH;FMTTYPE=image/png:https://cathedralofhope.org/wp-content/uploads/2020/06/things-you-love-club-1.png
END:VEVENT
END:VCALENDAR