BEGIN:VCALENDAR
VERSION:2.0
PRODID:-//East Liberty Presbyterian Church - ECPv6.15.20//NONSGML v1.0//EN
CALSCALE:GREGORIAN
METHOD:PUBLISH
X-WR-CALNAME:East Liberty Presbyterian Church
X-ORIGINAL-URL:https://cathedralofhope.org
X-WR-CALDESC:Events for East Liberty Presbyterian Church
REFRESH-INTERVAL;VALUE=DURATION:PT1H
X-Robots-Tag:noindex
X-PUBLISHED-TTL:PT1H
BEGIN:VTIMEZONE
TZID:America/New_York
BEGIN:DAYLIGHT
TZOFFSETFROM:-0500
TZOFFSETTO:-0400
TZNAME:EDT
DTSTART:20250309T070000
END:DAYLIGHT
BEGIN:STANDARD
TZOFFSETFROM:-0400
TZOFFSETTO:-0500
TZNAME:EST
DTSTART:20251102T060000
END:STANDARD
BEGIN:DAYLIGHT
TZOFFSETFROM:-0500
TZOFFSETTO:-0400
TZNAME:EDT
DTSTART:20260308T070000
END:DAYLIGHT
BEGIN:STANDARD
TZOFFSETFROM:-0400
TZOFFSETTO:-0500
TZNAME:EST
DTSTART:20261101T060000
END:STANDARD
BEGIN:DAYLIGHT
TZOFFSETFROM:-0500
TZOFFSETTO:-0400
TZNAME:EDT
DTSTART:20270314T070000
END:DAYLIGHT
BEGIN:STANDARD
TZOFFSETFROM:-0400
TZOFFSETTO:-0500
TZNAME:EST
DTSTART:20271107T060000
END:STANDARD
END:VTIMEZONE
BEGIN:VEVENT
DTSTART;TZID=America/New_York:20260429T173000
DTEND;TZID=America/New_York:20260429T190000
DTSTAMP:20260423T051318
CREATED:20260326T142833Z
LAST-MODIFIED:20260326T201738Z
UID:10007379-1777483800-1777489200@cathedralofhope.org
SUMMARY:Listening for God's Heartbeat
DESCRIPTION:Listening for God’s Heartbeat.\nFacilitated by Rev. Jeff Eddings (bio below)\nWednesday’s\, 5:30-6:30pm (light dinner @6:30pm)\nApril 29\, May 6\, 13\, and 20 \nDrawing upon\, John Philip Newell’s Book Listening for the Heartbeat of God: Celtic Daily Prayer\, we will explore the rich stream of Celtic spirituality to help us practice listening for God in our lives. We will explore different movements of listening — for goodness\, within creation\, for God in all things\, with our imagination\, and in action. \nYou may purchase the book and read along but it is not required. Each week we will reflect on a chapter and a contemplative practice such as reimagining the Jesus Prayer\, walking attentively in creation\, gathering the graces\, and engaging the imagination. \nRev. Jeff Eddings\, currently serves as the Spiritual Formation and Coaching Associate for the 1001 New Worshiping Communities Initiative in the PC(USA). He oversees a network of 100 coaches and pastored Hot Metal Bridge Faith Community in Pittsburgh from 2004 to 2019. The Ignatian motto of ‘finding God in all things’ is one he seeks to live by. \nPlease register by completing the form below. You only need to register once for the entire series. (This sign-up form is listed under each date occurrence for convenience of folks joining mid-way through the series- which you are welcome to do!) \n\n\n                \n                        \n                            2026-04 Listening for God's Heartbeat\n                            Wed evening classes April 29- May 20 \n                        \n        \n        	Step 1 of 2\n        	 \n            \n                50%\n            \n                        \n					Contact DetailsName(Required)\n                            \n                            \n                                                    First\n                                                    \n                                                \n                            \n                            \n                                                            Last\n                                                            \n                                                        \n                            \n                        Email(Required)\n                                \n                                    Enter Email\n                                    \n                                \n                                \n                                    Confirm Email\n                                    \n                                \n                                \n                            Phone(Required)Preferred Pronouns(Required)\n			\n					\n					He/Him\n			\n			\n					\n					She/Her\n			\n			\n					\n					They/Them\n			\n			\n					\n					He/THEY\n			\n			\n					\n					She/THEY\n			\n			\n					\n					Other\n			Please tell us what pronoun to use when addressing you.Do you have any dietary restrictions?(Required)\n								\n								None\n							\n								\n								Vegetarian\n							\n								\n								Vegan\n							\n								\n								Non-dairy\n							\n								\n								Gluten-free\n							\n								\n								Allergies (specify in next question)\n							Select AllWe will provide a light dinner and do our best to accommodate.Any other allergies or special needs we should be aware of?Address    \n                    \n                         \n                                        Street Address\n                                        \n                                   \n                                        Address Line 2\n                                        \n                                    \n                                    City\n                                    \n                                 \n                                        State / Province / Region\n                                        \n                                      \n                                    ZIP / Postal Code\n                                    \n                                \n                    \n                \n                    \n                    \n                          \n                    \n                \n                \n                    \n                        Event DetailsHow did you hear about this event?Announcement at worshipEmail/newsletterSocial MediaGoogleWord of MouthFrom a Friend/Family MemberOtherOther:What church/organization are you a part of (if not ELPC)?e.g. RCC\, St. Mary's
URL:https://cathedralofhope.org/event/listening-for-gods-heartbeat/2026-04-29/
LOCATION:ELPC – Good Samaritan Room\, 116 S. Highland Avenue\, Pittsburgh\, PA\, 15206\, United States
CATEGORIES:Educational & Spiritual Life,Featured Events
ATTACH;FMTTYPE=image/jpeg:https://cathedralofhope.org/wp-content/uploads/2026/03/img_heartbeat-retreat.jpg
GEO:40.4609708;-79.9253554
X-APPLE-STRUCTURED-LOCATION;VALUE=URI;X-ADDRESS=ELPC – Good Samaritan Room 116 S. Highland Avenue Pittsburgh PA 15206 United States;X-APPLE-RADIUS=500;X-TITLE=116 S. Highland Avenue:geo:-79.9253554,40.4609708
END:VEVENT
BEGIN:VEVENT
DTSTART;TZID=America/New_York:20260506T173000
DTEND;TZID=America/New_York:20260506T190000
DTSTAMP:20260423T051318
CREATED:20260326T142833Z
LAST-MODIFIED:20260326T201738Z
UID:10007380-1778088600-1778094000@cathedralofhope.org
SUMMARY:Listening for God's Heartbeat
DESCRIPTION:Listening for God’s Heartbeat.\nFacilitated by Rev. Jeff Eddings (bio below)\nWednesday’s\, 5:30-6:30pm (light dinner @6:30pm)\nApril 29\, May 6\, 13\, and 20 \nDrawing upon\, John Philip Newell’s Book Listening for the Heartbeat of God: Celtic Daily Prayer\, we will explore the rich stream of Celtic spirituality to help us practice listening for God in our lives. We will explore different movements of listening — for goodness\, within creation\, for God in all things\, with our imagination\, and in action. \nYou may purchase the book and read along but it is not required. Each week we will reflect on a chapter and a contemplative practice such as reimagining the Jesus Prayer\, walking attentively in creation\, gathering the graces\, and engaging the imagination. \nRev. Jeff Eddings\, currently serves as the Spiritual Formation and Coaching Associate for the 1001 New Worshiping Communities Initiative in the PC(USA). He oversees a network of 100 coaches and pastored Hot Metal Bridge Faith Community in Pittsburgh from 2004 to 2019. The Ignatian motto of ‘finding God in all things’ is one he seeks to live by. \nPlease register by completing the form below. You only need to register once for the entire series. (This sign-up form is listed under each date occurrence for convenience of folks joining mid-way through the series- which you are welcome to do!) \n\n                \n                        \n                            2026-04 Listening for God's Heartbeat\n                            Wed evening classes April 29- May 20 \n                        \n        \n        	Step 1 of 2\n        	 \n            \n                50%\n            \n                        \n					Contact DetailsName(Required)\n                            \n                            \n                                                    First\n                                                    \n                                                \n                            \n                            \n                                                            Last\n                                                            \n                                                        \n                            \n                        Email(Required)\n                                \n                                    Enter Email\n                                    \n                                \n                                \n                                    Confirm Email\n                                    \n                                \n                                \n                            Phone(Required)Preferred Pronouns(Required)\n			\n					\n					He/Him\n			\n			\n					\n					She/Her\n			\n			\n					\n					They/Them\n			\n			\n					\n					He/THEY\n			\n			\n					\n					She/THEY\n			\n			\n					\n					Other\n			Please tell us what pronoun to use when addressing you.Do you have any dietary restrictions?(Required)\n								\n								None\n							\n								\n								Vegetarian\n							\n								\n								Vegan\n							\n								\n								Non-dairy\n							\n								\n								Gluten-free\n							\n								\n								Allergies (specify in next question)\n							Select AllWe will provide a light dinner and do our best to accommodate.Any other allergies or special needs we should be aware of?Address    \n                    \n                         \n                                        Street Address\n                                        \n                                   \n                                        Address Line 2\n                                        \n                                    \n                                    City\n                                    \n                                 \n                                        State / Province / Region\n                                        \n                                      \n                                    ZIP / Postal Code\n                                    \n                                \n                    \n                \n                    \n                    \n                          \n                    \n                \n                \n                    \n                        Event DetailsHow did you hear about this event?Announcement at worshipEmail/newsletterSocial MediaGoogleWord of MouthFrom a Friend/Family MemberOtherOther:What church/organization are you a part of (if not ELPC)?e.g. RCC\, St. Mary's
URL:https://cathedralofhope.org/event/listening-for-gods-heartbeat/2026-05-06/
LOCATION:ELPC – Good Samaritan Room\, 116 S. Highland Avenue\, Pittsburgh\, PA\, 15206\, United States
CATEGORIES:Educational & Spiritual Life,Featured Events
ATTACH;FMTTYPE=image/jpeg:https://cathedralofhope.org/wp-content/uploads/2026/03/img_heartbeat-retreat.jpg
GEO:40.4609708;-79.9253554
X-APPLE-STRUCTURED-LOCATION;VALUE=URI;X-ADDRESS=ELPC – Good Samaritan Room 116 S. Highland Avenue Pittsburgh PA 15206 United States;X-APPLE-RADIUS=500;X-TITLE=116 S. Highland Avenue:geo:-79.9253554,40.4609708
END:VEVENT
BEGIN:VEVENT
DTSTART;TZID=America/New_York:20260513T173000
DTEND;TZID=America/New_York:20260513T190000
DTSTAMP:20260423T051318
CREATED:20260326T142833Z
LAST-MODIFIED:20260326T201738Z
UID:10007381-1778693400-1778698800@cathedralofhope.org
SUMMARY:Listening for God's Heartbeat
DESCRIPTION:Listening for God’s Heartbeat.\nFacilitated by Rev. Jeff Eddings (bio below)\nWednesday’s\, 5:30-6:30pm (light dinner @6:30pm)\nApril 29\, May 6\, 13\, and 20 \nDrawing upon\, John Philip Newell’s Book Listening for the Heartbeat of God: Celtic Daily Prayer\, we will explore the rich stream of Celtic spirituality to help us practice listening for God in our lives. We will explore different movements of listening — for goodness\, within creation\, for God in all things\, with our imagination\, and in action. \nYou may purchase the book and read along but it is not required. Each week we will reflect on a chapter and a contemplative practice such as reimagining the Jesus Prayer\, walking attentively in creation\, gathering the graces\, and engaging the imagination. \nRev. Jeff Eddings\, currently serves as the Spiritual Formation and Coaching Associate for the 1001 New Worshiping Communities Initiative in the PC(USA). He oversees a network of 100 coaches and pastored Hot Metal Bridge Faith Community in Pittsburgh from 2004 to 2019. The Ignatian motto of ‘finding God in all things’ is one he seeks to live by. \nPlease register by completing the form below. You only need to register once for the entire series. (This sign-up form is listed under each date occurrence for convenience of folks joining mid-way through the series- which you are welcome to do!) \n\n                \n                        \n                            2026-04 Listening for God's Heartbeat\n                            Wed evening classes April 29- May 20 \n                        \n        \n        	Step 1 of 2\n        	 \n            \n                50%\n            \n                        \n					Contact DetailsName(Required)\n                            \n                            \n                                                    First\n                                                    \n                                                \n                            \n                            \n                                                            Last\n                                                            \n                                                        \n                            \n                        Email(Required)\n                                \n                                    Enter Email\n                                    \n                                \n                                \n                                    Confirm Email\n                                    \n                                \n                                \n                            Phone(Required)Preferred Pronouns(Required)\n			\n					\n					He/Him\n			\n			\n					\n					She/Her\n			\n			\n					\n					They/Them\n			\n			\n					\n					He/THEY\n			\n			\n					\n					She/THEY\n			\n			\n					\n					Other\n			Please tell us what pronoun to use when addressing you.Do you have any dietary restrictions?(Required)\n								\n								None\n							\n								\n								Vegetarian\n							\n								\n								Vegan\n							\n								\n								Non-dairy\n							\n								\n								Gluten-free\n							\n								\n								Allergies (specify in next question)\n							Select AllWe will provide a light dinner and do our best to accommodate.Any other allergies or special needs we should be aware of?Address    \n                    \n                         \n                                        Street Address\n                                        \n                                   \n                                        Address Line 2\n                                        \n                                    \n                                    City\n                                    \n                                 \n                                        State / Province / Region\n                                        \n                                      \n                                    ZIP / Postal Code\n                                    \n                                \n                    \n                \n                    \n                    \n                          \n                    \n                \n                \n                    \n                        Event DetailsHow did you hear about this event?Announcement at worshipEmail/newsletterSocial MediaGoogleWord of MouthFrom a Friend/Family MemberOtherOther:What church/organization are you a part of (if not ELPC)?e.g. RCC\, St. Mary's
URL:https://cathedralofhope.org/event/listening-for-gods-heartbeat/2026-05-13/
LOCATION:ELPC – Good Samaritan Room\, 116 S. Highland Avenue\, Pittsburgh\, PA\, 15206\, United States
CATEGORIES:Educational & Spiritual Life,Featured Events
ATTACH;FMTTYPE=image/jpeg:https://cathedralofhope.org/wp-content/uploads/2026/03/img_heartbeat-retreat.jpg
GEO:40.4609708;-79.9253554
X-APPLE-STRUCTURED-LOCATION;VALUE=URI;X-ADDRESS=ELPC – Good Samaritan Room 116 S. Highland Avenue Pittsburgh PA 15206 United States;X-APPLE-RADIUS=500;X-TITLE=116 S. Highland Avenue:geo:-79.9253554,40.4609708
END:VEVENT
BEGIN:VEVENT
DTSTART;TZID=America/New_York:20260520T173000
DTEND;TZID=America/New_York:20260520T190000
DTSTAMP:20260423T051318
CREATED:20260326T142833Z
LAST-MODIFIED:20260326T201738Z
UID:10007382-1779298200-1779303600@cathedralofhope.org
SUMMARY:Listening for God's Heartbeat
DESCRIPTION:Listening for God’s Heartbeat.\nFacilitated by Rev. Jeff Eddings (bio below)\nWednesday’s\, 5:30-6:30pm (light dinner @6:30pm)\nApril 29\, May 6\, 13\, and 20 \nDrawing upon\, John Philip Newell’s Book Listening for the Heartbeat of God: Celtic Daily Prayer\, we will explore the rich stream of Celtic spirituality to help us practice listening for God in our lives. We will explore different movements of listening — for goodness\, within creation\, for God in all things\, with our imagination\, and in action. \nYou may purchase the book and read along but it is not required. Each week we will reflect on a chapter and a contemplative practice such as reimagining the Jesus Prayer\, walking attentively in creation\, gathering the graces\, and engaging the imagination. \nRev. Jeff Eddings\, currently serves as the Spiritual Formation and Coaching Associate for the 1001 New Worshiping Communities Initiative in the PC(USA). He oversees a network of 100 coaches and pastored Hot Metal Bridge Faith Community in Pittsburgh from 2004 to 2019. The Ignatian motto of ‘finding God in all things’ is one he seeks to live by. \nPlease register by completing the form below. You only need to register once for the entire series. (This sign-up form is listed under each date occurrence for convenience of folks joining mid-way through the series- which you are welcome to do!) \n\n                \n                        \n                            2026-04 Listening for God's Heartbeat\n                            Wed evening classes April 29- May 20 \n                        \n        \n        	Step 1 of 2\n        	 \n            \n                50%\n            \n                        \n					Contact DetailsName(Required)\n                            \n                            \n                                                    First\n                                                    \n                                                \n                            \n                            \n                                                            Last\n                                                            \n                                                        \n                            \n                        Email(Required)\n                                \n                                    Enter Email\n                                    \n                                \n                                \n                                    Confirm Email\n                                    \n                                \n                                \n                            Phone(Required)Preferred Pronouns(Required)\n			\n					\n					He/Him\n			\n			\n					\n					She/Her\n			\n			\n					\n					They/Them\n			\n			\n					\n					He/THEY\n			\n			\n					\n					She/THEY\n			\n			\n					\n					Other\n			Please tell us what pronoun to use when addressing you.Do you have any dietary restrictions?(Required)\n								\n								None\n							\n								\n								Vegetarian\n							\n								\n								Vegan\n							\n								\n								Non-dairy\n							\n								\n								Gluten-free\n							\n								\n								Allergies (specify in next question)\n							Select AllWe will provide a light dinner and do our best to accommodate.Any other allergies or special needs we should be aware of?Address    \n                    \n                         \n                                        Street Address\n                                        \n                                   \n                                        Address Line 2\n                                        \n                                    \n                                    City\n                                    \n                                 \n                                        State / Province / Region\n                                        \n                                      \n                                    ZIP / Postal Code\n                                    \n                                \n                    \n                \n                    \n                    \n                          \n                    \n                \n                \n                    \n                        Event DetailsHow did you hear about this event?Announcement at worshipEmail/newsletterSocial MediaGoogleWord of MouthFrom a Friend/Family MemberOtherOther:What church/organization are you a part of (if not ELPC)?e.g. RCC\, St. Mary's
URL:https://cathedralofhope.org/event/listening-for-gods-heartbeat/2026-05-20/
LOCATION:ELPC – Good Samaritan Room\, 116 S. Highland Avenue\, Pittsburgh\, PA\, 15206\, United States
CATEGORIES:Educational & Spiritual Life,Featured Events
ATTACH;FMTTYPE=image/jpeg:https://cathedralofhope.org/wp-content/uploads/2026/03/img_heartbeat-retreat.jpg
GEO:40.4609708;-79.9253554
X-APPLE-STRUCTURED-LOCATION;VALUE=URI;X-ADDRESS=ELPC – Good Samaritan Room 116 S. Highland Avenue Pittsburgh PA 15206 United States;X-APPLE-RADIUS=500;X-TITLE=116 S. Highland Avenue:geo:-79.9253554,40.4609708
END:VEVENT
END:VCALENDAR