BEGIN:VCALENDAR
VERSION:2.0
PRODID:-//East Liberty Presbyterian Church - ECPv6.15.20//NONSGML v1.0//EN
CALSCALE:GREGORIAN
METHOD:PUBLISH
X-WR-CALNAME:East Liberty Presbyterian Church
X-ORIGINAL-URL:https://cathedralofhope.org
X-WR-CALDESC:Events for East Liberty Presbyterian Church
REFRESH-INTERVAL;VALUE=DURATION:PT1H
X-Robots-Tag:noindex
X-PUBLISHED-TTL:PT1H
BEGIN:VTIMEZONE
TZID:America/Halifax
BEGIN:DAYLIGHT
TZOFFSETFROM:-0400
TZOFFSETTO:-0300
TZNAME:ADT
DTSTART:20150308T060000
END:DAYLIGHT
BEGIN:STANDARD
TZOFFSETFROM:-0300
TZOFFSETTO:-0400
TZNAME:AST
DTSTART:20151101T050000
END:STANDARD
BEGIN:DAYLIGHT
TZOFFSETFROM:-0400
TZOFFSETTO:-0300
TZNAME:ADT
DTSTART:20160313T060000
END:DAYLIGHT
BEGIN:STANDARD
TZOFFSETFROM:-0300
TZOFFSETTO:-0400
TZNAME:AST
DTSTART:20161106T050000
END:STANDARD
BEGIN:DAYLIGHT
TZOFFSETFROM:-0400
TZOFFSETTO:-0300
TZNAME:ADT
DTSTART:20170312T060000
END:DAYLIGHT
BEGIN:STANDARD
TZOFFSETFROM:-0300
TZOFFSETTO:-0400
TZNAME:AST
DTSTART:20171105T050000
END:STANDARD
END:VTIMEZONE
BEGIN:VEVENT
DTSTART;TZID=America/Halifax:20160407T190000
DTEND;TZID=America/Halifax:20160407T200000
DTSTAMP:20260423T120759
CREATED:20160308T202852Z
LAST-MODIFIED:20160308T202852Z
UID:10002934-1460055600-1460059200@cathedralofhope.org
SUMMARY:Interactive Music-Making Workshops - Join the CEEMI Band!
DESCRIPTION:CEEMI is an innovative piece of technology that turns any WiFi compatible device – a smartphone\, tablet\, desktop or laptop computer – into a collaborative electronic musical instrument on the fly. It was specially designed for the performance of music by groups of people without prior musical training. \nThe CEEMI Band will create music together in a series of free weekly collaborative creative music workshops happening this spring and culminating in a public performance. Members of the CEEMI Band will create new music together in a safe and fun environment\, through the combined usage of CEEMI\, simple games and other creative strategies accessible to all. It will be led by Gil Teixeira\, CEEMI’s creator and sound programmer\,  and is aimed at teens and young adults regardless of their musical background or skills. The only requirement is that CEEMI Band members must bring along their own smartphone or tablet to every session. \nThere will be a public performance on a day\, time and place as yet to be determined. \nPlease register HERE. \nGIL TEIXEIRA BIO\nGil Teixeira is a musician\, sound artist and creative leader that has developed in recent years a keen interest in the exploration of technology in collaborative music making contexts. He is a founding member of the instrumental post-rock band La La La Ressonance\, creator of CEEMI (a Collaborative Experiential Electronic Music Instrument) and has led creative projects in the USA\, Portugal\, Norway\, UK and Tanzania. He’s currently based in Pittsburgh\, PA.
URL:https://cathedralofhope.org/event/19110/2016-04-07/
LOCATION:East Liberty Presbyterian Church\, 116 S. Highland Avenue\, Pittsburgh\, PA\, 15206\, United States
CATEGORIES:Hope Academy,Hope Academy Teaching Artists,Music,Young Adult
ATTACH;FMTTYPE=image/jpeg:https://cathedralofhope.org/wp-content/uploads/2016/03/CEEMI-workshop-photo.jpg
ORGANIZER;CN="GIL TEIXEIRA":MAILTO:playceemi@gmail.com
GEO:40.4609708;-79.9253554
X-APPLE-STRUCTURED-LOCATION;VALUE=URI;X-ADDRESS=East Liberty Presbyterian Church 116 S. Highland Avenue Pittsburgh PA 15206 United States;X-APPLE-RADIUS=500;X-TITLE=116 S. Highland Avenue:geo:-79.9253554,40.4609708
END:VEVENT
END:VCALENDAR