BEGIN:VCALENDAR
VERSION:2.0
PRODID:-//East Liberty Presbyterian Church - ECPv6.15.20//NONSGML v1.0//EN
CALSCALE:GREGORIAN
METHOD:PUBLISH
X-ORIGINAL-URL:https://cathedralofhope.org
X-WR-CALDESC:Events for East Liberty Presbyterian Church
REFRESH-INTERVAL;VALUE=DURATION:PT1H
X-Robots-Tag:noindex
X-PUBLISHED-TTL:PT1H
BEGIN:VTIMEZONE
TZID:America/Halifax
BEGIN:DAYLIGHT
TZOFFSETFROM:-0400
TZOFFSETTO:-0300
TZNAME:ADT
DTSTART:20140309T060000
END:DAYLIGHT
BEGIN:STANDARD
TZOFFSETFROM:-0300
TZOFFSETTO:-0400
TZNAME:AST
DTSTART:20141102T050000
END:STANDARD
BEGIN:DAYLIGHT
TZOFFSETFROM:-0400
TZOFFSETTO:-0300
TZNAME:ADT
DTSTART:20150308T060000
END:DAYLIGHT
BEGIN:STANDARD
TZOFFSETFROM:-0300
TZOFFSETTO:-0400
TZNAME:AST
DTSTART:20151101T050000
END:STANDARD
BEGIN:DAYLIGHT
TZOFFSETFROM:-0400
TZOFFSETTO:-0300
TZNAME:ADT
DTSTART:20160313T060000
END:DAYLIGHT
BEGIN:STANDARD
TZOFFSETFROM:-0300
TZOFFSETTO:-0400
TZNAME:AST
DTSTART:20161106T050000
END:STANDARD
END:VTIMEZONE
BEGIN:VEVENT
DTSTART;TZID=America/Halifax:20151011T140000
DTEND;TZID=America/Halifax:20151011T170000
DTSTAMP:20260423T174225
CREATED:20151008T172522Z
LAST-MODIFIED:20151008T172522Z
UID:10002782-1444572000-1444582800@cathedralofhope.org
SUMMARY:HAT Co Field Trip and Performance - Day of the Girl Pittsburgh Celebration
DESCRIPTION:Celebrate International Day of the Girl on October 11 at the Day of the Girl Pittsburgh celebration! This fourth annual event offers families\, youth organizations and groups\, and individuals who serve\, support\, and advocate for girls and young women an opportunity to celebrate together. The event features music\, activities\, food\, and fun prizes. \nMimi O’Malley and Zoe Zielinski will be performing two original songs and a new cover at 2:30 pm.
URL:https://cathedralofhope.org/event/hat-co-field-trip-and-performance-day-of-the-girl-pittsburgh-celebration/
CATEGORIES:Hope Academy
ATTACH;FMTTYPE=image/jpeg:https://cathedralofhope.org/wp-content/uploads/2015/10/DOTG-PGH-Full-Color-300x300.jpg
END:VEVENT
END:VCALENDAR