BEGIN:VCALENDAR
VERSION:2.0
PRODID:-//East Liberty Presbyterian Church - ECPv6.15.20//NONSGML v1.0//EN
CALSCALE:GREGORIAN
METHOD:PUBLISH
X-ORIGINAL-URL:https://cathedralofhope.org
X-WR-CALDESC:Events for East Liberty Presbyterian Church
REFRESH-INTERVAL;VALUE=DURATION:PT1H
X-Robots-Tag:noindex
X-PUBLISHED-TTL:PT1H
BEGIN:VTIMEZONE
TZID:America/New_York
BEGIN:DAYLIGHT
TZOFFSETFROM:-0500
TZOFFSETTO:-0400
TZNAME:EDT
DTSTART:20180311T070000
END:DAYLIGHT
BEGIN:STANDARD
TZOFFSETFROM:-0400
TZOFFSETTO:-0500
TZNAME:EST
DTSTART:20181104T060000
END:STANDARD
BEGIN:DAYLIGHT
TZOFFSETFROM:-0500
TZOFFSETTO:-0400
TZNAME:EDT
DTSTART:20190310T070000
END:DAYLIGHT
BEGIN:STANDARD
TZOFFSETFROM:-0400
TZOFFSETTO:-0500
TZNAME:EST
DTSTART:20191103T060000
END:STANDARD
BEGIN:DAYLIGHT
TZOFFSETFROM:-0500
TZOFFSETTO:-0400
TZNAME:EDT
DTSTART:20200308T070000
END:DAYLIGHT
BEGIN:STANDARD
TZOFFSETFROM:-0400
TZOFFSETTO:-0500
TZNAME:EST
DTSTART:20201101T060000
END:STANDARD
END:VTIMEZONE
BEGIN:VTIMEZONE
TZID:America/Halifax
BEGIN:DAYLIGHT
TZOFFSETFROM:-0400
TZOFFSETTO:-0300
TZNAME:ADT
DTSTART:20170312T060000
END:DAYLIGHT
BEGIN:STANDARD
TZOFFSETFROM:-0300
TZOFFSETTO:-0400
TZNAME:AST
DTSTART:20171105T050000
END:STANDARD
BEGIN:DAYLIGHT
TZOFFSETFROM:-0400
TZOFFSETTO:-0300
TZNAME:ADT
DTSTART:20180311T060000
END:DAYLIGHT
BEGIN:STANDARD
TZOFFSETFROM:-0300
TZOFFSETTO:-0400
TZNAME:AST
DTSTART:20181104T050000
END:STANDARD
BEGIN:DAYLIGHT
TZOFFSETFROM:-0400
TZOFFSETTO:-0300
TZNAME:ADT
DTSTART:20190310T060000
END:DAYLIGHT
BEGIN:STANDARD
TZOFFSETFROM:-0300
TZOFFSETTO:-0400
TZNAME:AST
DTSTART:20191103T050000
END:STANDARD
BEGIN:DAYLIGHT
TZOFFSETFROM:-0400
TZOFFSETTO:-0300
TZNAME:ADT
DTSTART:20200308T060000
END:DAYLIGHT
BEGIN:STANDARD
TZOFFSETFROM:-0300
TZOFFSETTO:-0400
TZNAME:AST
DTSTART:20201101T050000
END:STANDARD
END:VTIMEZONE
BEGIN:VEVENT
DTSTART;TZID=America/New_York:20190601T080000
DTEND;TZID=America/New_York:20190601T180000
DTSTAMP:20260423T211359
CREATED:20190508T142122Z
LAST-MODIFIED:20190508T142122Z
UID:10004836-1559376000-1559412000@cathedralofhope.org
SUMMARY:Day Retreat @ Raccoon Creek State Park
DESCRIPTION:Let’s kickoff summer by spending the day on retreat at Raccoon Creek State Park! We will enjoy hiking\, swimming\, kayaking/canoeing\, cooking out\, and enjoying fellowship together. We will leave ELPC at 8 am\, spend the day at the park\, leave by 4 pm\, and stop for dinner on the way back to ELPC. Breakfast\, lunch\, and snacks will be provided\, but plan to pay for dinner. \nPlease RSVP by Wednesday\, May 29\, to Kelli Booher at KelliB@coh.net or 412.441.3800 x114.
URL:https://cathedralofhope.org/event/day-retreat-raccoon-state-park/
LOCATION:Raccoon State Park\, 3000 PA-18\, Hookstown\, PA\, 15050\, United States
CATEGORIES:Young Adult
ATTACH;FMTTYPE=image/jpeg:https://cathedralofhope.org/wp-content/uploads/2019/05/img_raccoon-state-park.jpg
ORGANIZER;CN="Kelli Booher":MAILTO:KelliB@coh.net
END:VEVENT
BEGIN:VEVENT
DTSTART;TZID=America/Halifax:20190509T173000
DTEND;TZID=America/Halifax:20190509T193000
DTSTAMP:20260423T211359
CREATED:20190423T151509Z
LAST-MODIFIED:20190423T151509Z
UID:10004318-1557423000-1557430200@cathedralofhope.org
SUMMARY:REspond | Women’s Center & Shelter
DESCRIPTION:The Women’s Center & Shelter of Greater Pittsburgh provides many services and programs—all with the goal of creating a positive\, safe\, and welcoming environment to victims of domestic abuse. One of their programs provides children with a wide array of nurturing activities. Let’s respond to a call to serve with the Children’s Program! \nThere are multiple ways to help\, so if you are interested\, contact Kelli Booher at KelliB@coh.net or 412.441.3800 x114.
URL:https://cathedralofhope.org/event/respond-womens-center-shelter/
CATEGORIES:Young Adult
ORGANIZER;CN="Kelli Booher":MAILTO:KelliB@coh.net
END:VEVENT
BEGIN:VEVENT
DTSTART;TZID=America/Halifax:20190503T190000
DTEND;TZID=America/Halifax:20190503T210000
DTSTAMP:20260423T211359
CREATED:20190423T150358Z
LAST-MODIFIED:20190423T150358Z
UID:10004316-1556910000-1556917200@cathedralofhope.org
SUMMARY:REfocus | First Friday @ Unblurred
DESCRIPTION:We will join our TRAIL friends to experience First Friday Unblurred in Garfield on Penn Ave.\, blocks 4800–5500. We will walk and bask in Penn Ave.’s creative energy—experiencing a mix of photography\, dance\, painting\, sculpture\, music\, and spoken word performances. \nWe will leave the ELPC lobby at 6:45 pm.
URL:https://cathedralofhope.org/event/refocus-first-friday-unblurred/
CATEGORIES:Young Adult
ATTACH;FMTTYPE=image/jpeg:https://cathedralofhope.org/wp-content/uploads/2019/04/IMG_6584.jpg
ORGANIZER;CN="Kelli Booher":MAILTO:KelliB@coh.net
END:VEVENT
BEGIN:VEVENT
DTSTART;TZID=America/Halifax:20190417T174500
DTEND;TZID=America/Halifax:20190417T200000
DTSTAMP:20260423T211359
CREATED:20190329T131833Z
LAST-MODIFIED:20190329T131833Z
UID:10004304-1555523100-1555531200@cathedralofhope.org
SUMMARY:REligious | Dinner and Taizé Prayer Service
DESCRIPTION:We will meet together for a meal and to discuss what it means to be religious. What is religion? Do you consider yourself to be religious? Then we will all attend the Taizé prayer service in the Chapel\, 7 pm. \nChildcare is available by request. \nPlease RSVP to KelliB@coh.net or 412.441.3800 x114.
URL:https://cathedralofhope.org/event/religious-dinner-and-taize-prayer-service/
LOCATION:ELPC – Chapel\, 116 South Highland Avenue\, Pittsburgh\, PA\, 15206\, United States
CATEGORIES:Young Adult
ATTACH;FMTTYPE=image/jpeg:https://cathedralofhope.org/wp-content/uploads/2019/03/DSC1308_web.jpg
ORGANIZER;CN="Kelli Booher":MAILTO:KelliB@coh.net
GEO:40.461033;-79.925503
X-APPLE-STRUCTURED-LOCATION;VALUE=URI;X-ADDRESS=ELPC – Chapel 116 South Highland Avenue Pittsburgh PA 15206 United States;X-APPLE-RADIUS=500;X-TITLE=116 South Highland Avenue:geo:-79.925503,40.461033
END:VEVENT
BEGIN:VEVENT
DTSTART;TZID=America/Halifax:20190414T190000
DTEND;TZID=America/Halifax:20190414T210000
DTSTAMP:20260423T211359
CREATED:20190329T131231Z
LAST-MODIFIED:20190329T131231Z
UID:10004303-1555268400-1555275600@cathedralofhope.org
SUMMARY:REvive | Pub Talks with Sanctuary Faith Community
DESCRIPTION:Sanctuary Faith Community’s Pub Talk series welcomes a variety of speakers\, artists\, and musicians exploring the intersections of faith\, culture\, art\, politics\, and justice. They seek to draw on the best of public house history—a place to share a drink\, build community\, and discuss pressing issues of the day. \nAt April’s Pub Talk\, we will learn from Leeann Younger\, church planter and pastor of City View Church in the North Side of Pittsburgh. Leeann will speak on You are what you practice: Breaking free from “slaveholder religion” as we explore the intersection of faith\, practice\, and white supremacy. \nGather at ELPC at 6:15 pm\, and we’ll drive over to Full Pint Wild Side Pub in Lawrenceville.
URL:https://cathedralofhope.org/event/revive-pub-talks-with-sanctuary-faith-community/
LOCATION:Full Pint\, 5310 Butler St\, Pittsburgh\, PA\, 15201\, United States
CATEGORIES:Young Adult
ATTACH;FMTTYPE=image/jpeg:https://cathedralofhope.org/wp-content/uploads/2019/03/TonyNorman2.jpg
ORGANIZER;CN="Kelli Booher":MAILTO:KelliB@coh.net
END:VEVENT
BEGIN:VEVENT
DTSTART;TZID=America/Halifax:20190405T190000
DTEND;TZID=America/Halifax:20190405T210000
DTSTAMP:20260423T211359
CREATED:20190329T130256Z
LAST-MODIFIED:20190329T130256Z
UID:10004302-1554490800-1554498000@cathedralofhope.org
SUMMARY:REcess | First Friday Game Night
DESCRIPTION:We will join with young adults from Pittsburgh Friends Meeting House for game night and a snack-style potluck! Feel free to bring a game to play and a snack food to share with others. \nContact Kelli Booher at KelliB@coh.net or 412.441.3800 x114 if you need a ride.
URL:https://cathedralofhope.org/event/recess-first-friday-game-night/
LOCATION:Quaker Meeting House\, 4836 Ellsworth Ave\, Pittsburgh\, PA\, 15213\, United States
CATEGORIES:Young Adult
ATTACH;FMTTYPE=image/jpeg:https://cathedralofhope.org/wp-content/uploads/2019/03/20161104_202311.jpg
ORGANIZER;CN="Kelli Booher":MAILTO:KelliB@coh.net
GEO:40.449205;-79.9458627
X-APPLE-STRUCTURED-LOCATION;VALUE=URI;X-ADDRESS=Quaker Meeting House 4836 Ellsworth Ave Pittsburgh PA 15213 United States;X-APPLE-RADIUS=500;X-TITLE=4836 Ellsworth Ave:geo:-79.9458627,40.449205
END:VEVENT
BEGIN:VEVENT
DTSTART;TZID=America/Halifax:20190330T140000
DTEND;TZID=America/Halifax:20190330T170000
DTSTAMP:20260423T211359
CREATED:20190220T171318Z
LAST-MODIFIED:20190220T171318Z
UID:10004242-1553954400-1553965200@cathedralofhope.org
SUMMARY:REuse\, REcycle\, REduce
DESCRIPTION:Let’s learn different ways we can reuse\, recycle\, and reduce waste on a tour of Construction Junction and the Pittsburgh Center for Creative Reuse. We will tour both places\, create our own creative re-purposed project\, and shop! \nThe cost is $10/person\, which includes both tours\, supplies for the craft activity\, and a free bulk bag to shop and fill at PCCR. We will leave from ELPC at 1:45 pm.
URL:https://cathedralofhope.org/event/reuse-recycle-reduce/
LOCATION:Pittsburgh Center for Creative Reuse\, 214 N. Lexington St.\, Pittsburgh\, PA\, 15208\, United States
CATEGORIES:Young Adult
ORGANIZER;CN="Kelli Booher":MAILTO:KelliB@coh.net
END:VEVENT
BEGIN:VEVENT
DTSTART;TZID=America/Halifax:20190301T190000
DTEND;TZID=America/Halifax:20190301T210000
DTSTAMP:20260423T211359
CREATED:20190220T171057Z
LAST-MODIFIED:20190220T171057Z
UID:10004240-1551466800-1551474000@cathedralofhope.org
SUMMARY:First Friday: RElocate
DESCRIPTION:Jolina’s Mediterranean Cuisine is named for the daughter of owners Randa and Antoine Ghassa\, who relocated to Pittsburgh from Syria eight years ago. The couple used to have a vast restaurant in Hims\, Syria\, where they served many of the dishes that are on the menu now. Let’s travel out to Brookline for dinner! \nRSVP to KelliB@coh.net or 412.441.3800 x114 and let me know if you need a ride.
URL:https://cathedralofhope.org/event/first-friday-relocate/
LOCATION:Jolina’s Mediterranean Cuisine\, 1011 Brookline Blvd\, Pittbsburgh\, PA\, 15226\, United States
CATEGORIES:Young Adult
ATTACH;FMTTYPE=image/jpeg:https://cathedralofhope.org/wp-content/uploads/2019/02/IMG_4758.jpg
ORGANIZER;CN="Kelli Booher":MAILTO:KelliB@coh.net
END:VEVENT
BEGIN:VEVENT
DTSTART;TZID=America/Halifax:20190225T180000
DTEND;TZID=America/Halifax:20190225T200000
DTSTAMP:20260423T211359
CREATED:20190122T145444Z
LAST-MODIFIED:20190122T145444Z
UID:10003753-1551117600-1551124800@cathedralofhope.org
SUMMARY:REmember | Sewing Project
DESCRIPTION:Did you know that ELPC has a sewing group and a sewing room? They are always making something with a mission. \nWe will have our own night in the sewing room to help them out with one of their projects. Don’t think you can sew? You would be surprised at all the skills involved in sewing. Cut\, count\, pin\, sew\, or learn a new skill all for good works! \nChildcare will be available. To RSVP or ask questions\, contact Kelli Booher at KelliB@coh.net or 412.441.3800 x114.
URL:https://cathedralofhope.org/event/remember-sewing-project/
LOCATION:ELPC – Sewing Room (Room 78)\, 116 S. Highland Ave\, Pittsburgh\, Pennsylvania\, 15206
CATEGORIES:Young Adult
ORGANIZER;CN="Kelli Booher":MAILTO:KelliB@coh.net
GEO:40.4609708;-79.9253554
X-APPLE-STRUCTURED-LOCATION;VALUE=URI;X-ADDRESS=ELPC – Sewing Room (Room 78) 116 S. Highland Ave Pittsburgh Pennsylvania 15206;X-APPLE-RADIUS=500;X-TITLE=116 S. Highland Ave:geo:-79.9253554,40.4609708
END:VEVENT
BEGIN:VEVENT
DTSTART;TZID=America/Halifax:20190215T180000
DTEND;TZID=America/Halifax:20190217T140000
DTSTAMP:20260423T211359
CREATED:20190122T145238Z
LAST-MODIFIED:20190122T145238Z
UID:10002906-1550253600-1550412000@cathedralofhope.org
SUMMARY:RElax | Retreat at Crestfield Camp
DESCRIPTION:Treat yourself to a small getaway in Slippery Rock\, where we will retreat to Crestfield Camp from Friday evening through Sunday afternoon. One of the greatest challenges for us as young adults and in our culture is taking time to cease from all activities and relax. We will explore\, discuss\, and practice how we are called to take time to relax and rest. The cost is $50 (partial and full scholarships are available). \nQuestions? Contact Kelli Booher at KelliB@coh.net or 412.441.3800 x114. \nRSVP Online\nOops! We could not locate your form.
URL:https://cathedralofhope.org/event/relax-retreat-at-crestfield-camp/
LOCATION:Camp Crestfield & Conference Center\, 195 Taggart Road\, Slippery Rock\, PA\, 16057\, United States
CATEGORIES:Young Adult
ATTACH;FMTTYPE=image/jpeg:https://cathedralofhope.org/wp-content/uploads/2019/01/YAM-Feb-2019.jpg
ORGANIZER;CN="Kelli Booher":MAILTO:KelliB@coh.net
GEO:41.0639506;-80.0564468
X-APPLE-STRUCTURED-LOCATION;VALUE=URI;X-ADDRESS=Camp Crestfield & Conference Center 195 Taggart Road Slippery Rock PA 16057 United States;X-APPLE-RADIUS=500;X-TITLE=195 Taggart Road:geo:-80.0564468,41.0639506
END:VEVENT
BEGIN:VEVENT
DTSTART;TZID=America/Halifax:20190201T190000
DTEND;TZID=America/Halifax:20190201T220000
DTSTAMP:20260423T211359
CREATED:20190122T144840Z
LAST-MODIFIED:20190122T144840Z
UID:10002905-1549047600-1549058400@cathedralofhope.org
SUMMARY:REverb | KBox Karaoke Night
DESCRIPTION:Let’s sing our hearts out together in our own reserved karaoke room at KBox in Oakland! \nRSVP to KelliB@coh.net or 412.441.3800 x114 so we can reserve the room we need and transportation if needed.
URL:https://cathedralofhope.org/event/reverb-kbox-karaoke-night/
LOCATION:KBox Karaoke House\, 214 S Craig Street\, Pittsburgh\, PA\, 15213\, United States
CATEGORIES:Young Adult
ATTACH;FMTTYPE=image/jpeg:https://cathedralofhope.org/wp-content/uploads/2019/01/IMG_4678.jpg
ORGANIZER;CN="Kelli Booher":MAILTO:KelliB@coh.net
GEO:40.4459049;-79.9490739
X-APPLE-STRUCTURED-LOCATION;VALUE=URI;X-ADDRESS=KBox Karaoke House 214 S Craig Street Pittsburgh PA 15213 United States;X-APPLE-RADIUS=500;X-TITLE=214 S Craig Street:geo:-79.9490739,40.4459049
END:VEVENT
BEGIN:VEVENT
DTSTART;TZID=America/Halifax:20190127T120000
DTEND;TZID=America/Halifax:20190127T150000
DTSTAMP:20260423T211359
CREATED:20181220T172114Z
LAST-MODIFIED:20181220T172114Z
UID:10003751-1548590400-1548601200@cathedralofhope.org
SUMMARY:“REflect” Stained Glass and Mosaic Class
DESCRIPTION:Learn\, create\, and reflect! Following Sanctuary worship\, we’ll join a church tour to learn about the stained glass windows in our church. Afterward\, we’ll gather in the Maker’s Space to create glass mosaics with instruction by artist Debbie from Mosaic Glass Creations and Songbird Artistry. \nPlease RSVP to this event by contacting Kelli Booher at 412.441.3800 x114.
URL:https://cathedralofhope.org/event/reflect-stained-glass-and-mosaic-class/
LOCATION:ELPC – Makers Space (Room 209)\, 116 S Highland Avenue\, Pittsburgh\, PA\, 15206\, United States
CATEGORIES:Young Adult
ATTACH;FMTTYPE=image/jpeg:https://cathedralofhope.org/wp-content/uploads/2018/12/Glass-Mosaic-Class.jpg
ORGANIZER;CN="Kelli Booher":MAILTO:KelliB@coh.net
END:VEVENT
BEGIN:VEVENT
DTSTART;TZID=America/Halifax:20190115T190000
DTEND;TZID=America/Halifax:20190115T200000
DTSTAMP:20260423T211359
CREATED:20181220T172008Z
LAST-MODIFIED:20181220T172008Z
UID:10003749-1547578800-1547582400@cathedralofhope.org
SUMMARY:“REjoice” Ringing in the New Year
DESCRIPTION:What better way to ring in the New Year than to literally ring in the New Year? Ever wondered what it’s like to play the handbells? Always wanted to play a musical instrument\, but didn’t think you could? Want to get together with some fun people and try your hand at something new? \nJoin us as Dr. Ed Moore leads an introductory handbell lesson in Room 318. Absolutely no experience is required.
URL:https://cathedralofhope.org/event/rejoice-ringing-in-the-new-year/
LOCATION:Room 318\, 116 S. Highland Ave\, Pittsburgh\, PA\, 15206\, United States
CATEGORIES:Young Adult
ORGANIZER;CN="Kelli Booher":MAILTO:KelliB@coh.net
END:VEVENT
BEGIN:VEVENT
DTSTART;TZID=America/Halifax:20190104T190000
DTEND;TZID=America/Halifax:20190104T210000
DTSTAMP:20260423T211359
CREATED:20181220T171602Z
LAST-MODIFIED:20181220T171602Z
UID:10003744-1546628400-1546635600@cathedralofhope.org
SUMMARY:"REcipe" First Friday Potluck
DESCRIPTION:Yinz come to S’liberty to enjoy a Pittsburgh potluck dinner! Bring popular ‘Burgh fare\, such as pierogies\, salad with fries\, brats\, pretzel Jello salad\, or burnt almond torte; contribute to the cookie table; or get creative with the theme! Our evening will be filled with food\, friends\, and games—all with Pittsburgh flair. \nPlease RSVP with what you are bringing by calling or leaving a message at 412.441.3800 x114.
URL:https://cathedralofhope.org/event/recipe-first-friday-potluck/
CATEGORIES:Young Adult
ATTACH;FMTTYPE=image/jpeg:https://cathedralofhope.org/wp-content/uploads/2018/12/YAM-January-2019.jpg
ORGANIZER;CN="Kelli Booher":MAILTO:KelliB@coh.net
END:VEVENT
BEGIN:VEVENT
DTSTART;TZID=America/Halifax:20181214T193000
DTEND;TZID=America/Halifax:20181214T220000
DTSTAMP:20260423T211359
CREATED:20180819T024329Z
LAST-MODIFIED:20180819T024329Z
UID:10002812-1544815800-1544824800@cathedralofhope.org
SUMMARY:ELPC Christmas Concert
DESCRIPTION:All young adults are invited to ELPC for the Christmas in East Liberty concert. Afterward\, we will walk over to BRGR for fellowship and a cookie exchange. Please bring a dozen cookies (self-baked\, someone-else-baked\, store bought) to exchange. Containers for you to take them home will be provided. \nPlease RSVP if you will be participating in the fellowship or cookie exchange by contacting Kelli Booher at KelliB@coh.net or 405.501.0711.
URL:https://cathedralofhope.org/event/elpc-christmas-concert/
LOCATION:ELPC – Sanctuary\, 116 South Highland Avenue\, Pittsburgh\, PA\, 15206\, United States
CATEGORIES:Young Adult
ATTACH;FMTTYPE=image/jpeg:https://cathedralofhope.org/wp-content/uploads/2018/04/IMG_4494.jpg
ORGANIZER;CN="Kelli Booher":MAILTO:KelliB@coh.net
GEO:40.461033;-79.925503
X-APPLE-STRUCTURED-LOCATION;VALUE=URI;X-ADDRESS=ELPC – Sanctuary 116 South Highland Avenue Pittsburgh PA 15206 United States;X-APPLE-RADIUS=500;X-TITLE=116 South Highland Avenue:geo:-79.925503,40.461033
END:VEVENT
BEGIN:VEVENT
DTSTART;TZID=America/Halifax:20181207T190000
DTEND;TZID=America/Halifax:20181207T230000
DTSTAMP:20260423T211359
CREATED:20180819T024023Z
LAST-MODIFIED:20180819T024023Z
UID:10002811-1544209200-1544223600@cathedralofhope.org
SUMMARY:First Friday @ Shadracks
DESCRIPTION:We will meet at ELPC\, 7 pm\, and drive north to Butler for the “world’s largest drive-through\, fully synchronized LED Christmas light-and-music show of its kind.” Along the way there will be road trip snacks and sing-a-longs (including requests and dedications). \nYou will not want to miss this classic holiday event! RSVP now to save your seat in the van by contacting Kelli Booher at KelliB@coh.net or 405.501.0711. \nSee http://shadrackchristmas.com/pittsburgh-pa/ for more information.
URL:https://cathedralofhope.org/event/first-friday-shadracks-2/
LOCATION:East Liberty Presbyterian Church\, 116 S. Highland Avenue\, Pittsburgh\, PA\, 15206\, United States
CATEGORIES:Community,Young Adult
ATTACH;FMTTYPE=image/jpeg:https://cathedralofhope.org/wp-content/uploads/2018/08/pic-2.jpg
ORGANIZER;CN="Kelli Booher":MAILTO:KelliB@coh.net
GEO:40.4609708;-79.9253554
X-APPLE-STRUCTURED-LOCATION;VALUE=URI;X-ADDRESS=East Liberty Presbyterian Church 116 S. Highland Avenue Pittsburgh PA 15206 United States;X-APPLE-RADIUS=500;X-TITLE=116 S. Highland Avenue:geo:-79.9253554,40.4609708
END:VEVENT
END:VCALENDAR