BEGIN:VCALENDAR
VERSION:2.0
PRODID:-//East Liberty Presbyterian Church - ECPv6.15.20//NONSGML v1.0//EN
CALSCALE:GREGORIAN
METHOD:PUBLISH
X-WR-CALNAME:East Liberty Presbyterian Church
X-ORIGINAL-URL:https://cathedralofhope.org
X-WR-CALDESC:Events for East Liberty Presbyterian Church
REFRESH-INTERVAL;VALUE=DURATION:PT1H
X-Robots-Tag:noindex
X-PUBLISHED-TTL:PT1H
BEGIN:VTIMEZONE
TZID:America/Halifax
BEGIN:DAYLIGHT
TZOFFSETFROM:-0400
TZOFFSETTO:-0300
TZNAME:ADT
DTSTART:20130310T060000
END:DAYLIGHT
BEGIN:STANDARD
TZOFFSETFROM:-0300
TZOFFSETTO:-0400
TZNAME:AST
DTSTART:20131103T050000
END:STANDARD
BEGIN:DAYLIGHT
TZOFFSETFROM:-0400
TZOFFSETTO:-0300
TZNAME:ADT
DTSTART:20140309T060000
END:DAYLIGHT
BEGIN:STANDARD
TZOFFSETFROM:-0300
TZOFFSETTO:-0400
TZNAME:AST
DTSTART:20141102T050000
END:STANDARD
BEGIN:DAYLIGHT
TZOFFSETFROM:-0400
TZOFFSETTO:-0300
TZNAME:ADT
DTSTART:20150308T060000
END:DAYLIGHT
BEGIN:STANDARD
TZOFFSETFROM:-0300
TZOFFSETTO:-0400
TZNAME:AST
DTSTART:20151101T050000
END:STANDARD
END:VTIMEZONE
BEGIN:VEVENT
DTSTART;TZID=America/Halifax:20141117T180000
DTEND;TZID=America/Halifax:20141117T203000
DTSTAMP:20260423T151753
CREATED:20141106T193328Z
LAST-MODIFIED:20141106T193328Z
UID:10002534-1416247200-1416256200@cathedralofhope.org
SUMMARY:Poverty Simulation
DESCRIPTION:Do you have what it takes to survive a month in poverty?\nSeveral area organizations are joining forces to launch Circles East Liberty—which will use a nationally recognized\, proven model to help families move out of poverty. Circles is not a budgeting class\, but a relationally driven program that benefits from the long-term relationships of “Circles Allies.” Circles Allies are community members who want to be in a supportive\, intentional\, befriending relationship with an individual or family working to get out of poverty. \nTo kick-off Circles East Liberty we are hosting a Poverty Simulation – a unique and powerful tool that deepens understanding of poverty. Developed by the Missouri Association for Community Action\, participants role-play a member of a low-income household and discover the difficulty and stressors of trying to meet a families basic needs when expenses are more than income. Please join us! \nWhen?: Monday\, November 17th\, 2014\nWhere?: East Liberty Presbyterian Church\, 116 South Highland Ave Pittsburgh\, PA 15206\nWhat time?: 6:00-8:30pm (light refreshments will be served)\nHow?: To register please call Akirah Robinson at (412) 254-3038 or email circles@eastliberty.org or fill out this online form. \nAdditionally\, we will be orienting volunteers who are interested in “mentoring” our families. This orientation will occur on November 24th from 7-8:30 at 6022 Broad St\, Pittsburgh\, PA 15206. If this piques your interest\, sign up here and join us! Coming to orientation does not commit you to participating\, but will be a great way for you to learn more about what we’ve been up to lately.
URL:https://cathedralofhope.org/event/poverty-simulation/
LOCATION:East Liberty Presbyterian Church\, 116 S. Highland Avenue\, Pittsburgh\, PA\, 15206\, United States
CATEGORIES:Featured Events,Mission Activities
ATTACH;FMTTYPE=image/jpeg:https://cathedralofhope.org/wp-content/uploads/2014/11/Poverty-Simulations-November-2014.jpg
GEO:40.4609708;-79.9253554
X-APPLE-STRUCTURED-LOCATION;VALUE=URI;X-ADDRESS=East Liberty Presbyterian Church 116 S. Highland Avenue Pittsburgh PA 15206 United States;X-APPLE-RADIUS=500;X-TITLE=116 S. Highland Avenue:geo:-79.9253554,40.4609708
END:VEVENT
END:VCALENDAR