BEGIN:VCALENDAR
VERSION:2.0
PRODID:-//East Liberty Presbyterian Church - ECPv6.15.20//NONSGML v1.0//EN
CALSCALE:GREGORIAN
METHOD:PUBLISH
X-WR-CALNAME:East Liberty Presbyterian Church
X-ORIGINAL-URL:https://cathedralofhope.org
X-WR-CALDESC:Events for East Liberty Presbyterian Church
REFRESH-INTERVAL;VALUE=DURATION:PT1H
X-Robots-Tag:noindex
X-PUBLISHED-TTL:PT1H
BEGIN:VTIMEZONE
TZID:America/Halifax
BEGIN:DAYLIGHT
TZOFFSETFROM:-0400
TZOFFSETTO:-0300
TZNAME:ADT
DTSTART:20140309T060000
END:DAYLIGHT
BEGIN:STANDARD
TZOFFSETFROM:-0300
TZOFFSETTO:-0400
TZNAME:AST
DTSTART:20141102T050000
END:STANDARD
BEGIN:DAYLIGHT
TZOFFSETFROM:-0400
TZOFFSETTO:-0300
TZNAME:ADT
DTSTART:20150308T060000
END:DAYLIGHT
BEGIN:STANDARD
TZOFFSETFROM:-0300
TZOFFSETTO:-0400
TZNAME:AST
DTSTART:20151101T050000
END:STANDARD
BEGIN:DAYLIGHT
TZOFFSETFROM:-0400
TZOFFSETTO:-0300
TZNAME:ADT
DTSTART:20160313T060000
END:DAYLIGHT
BEGIN:STANDARD
TZOFFSETFROM:-0300
TZOFFSETTO:-0400
TZNAME:AST
DTSTART:20161106T050000
END:STANDARD
END:VTIMEZONE
BEGIN:VEVENT
DTSTART;TZID=America/Halifax:20151015T163000
DTEND;TZID=America/Halifax:20151015T180000
DTSTAMP:20260423T152715
CREATED:20151008T151554Z
LAST-MODIFIED:20151008T151554Z
UID:10002780-1444926600-1444932000@cathedralofhope.org
SUMMARY:HAT Co Field Trip and Performance - Bob Moses Lecture at CMU
DESCRIPTION:Hope Academy’s teen theater company (HAT Co) will be attending a lecture by Bob Moses and performing the song “Up to the Mountain.” This event is free and open to the public. \nAn Evening with Bob Moses\, Civil Rights Legend and Education Activist\nin Collaboration with “SocialChange101.org\,” organizer\, Nico Slate\, Associate Professor of History \nA central figure in SNCC (the Student Nonviolent Coordinating Committee)\, Moses spent years fighting racial inequality in Mississippi. In the early 1980s\, he founded the Algebra Project\, a nonprofit organization that uses uses mathematics as an organizing tool to ensure quality public school education for every child in America. \nAbout the Speaker\, Dr. Robert P. Moses\, President and Founder of The Algebra Project\, Inc.\n \nDr. Moses received his BA from Hamilton College (1956)\, and his MA in Philosophy from Harvard University (1957). Moses was a prominent figure in the Civil Rights Movement as a field secretary for the Student Non-Violent Coordinating Committee (SNCC). In 1961\, Moses initiated SNCC’s Mississippi Voter Registration Project\, and was appointed its director in 1962. He helped to lead the Council of Federated Organizations (COFO) into the Mississippi Summer Project (1964 Freedom Summer)\, which parachuted the Mississippi Freedom Democratic Party (MFDP) to the National Democratic Convention in Atlantic City. He received a MacArthur Foundation Fellowship (1982-87)\, and subsequently started the Algebra Project\, which uses mathematics as an organizing tool for a Quality Education as a Constitutional Right (QECR) for all students. With support of the National Science Foundation (NSF) since 2002\, the AP has been working with cohorts of high school students who previously performed in the lowest quartile on standardized exams. This work has led AP to propose a math high school “benchmark” for bottom quartile students: that they graduate high school on time\, in four years\, ready to do college math for college credit.  To this end\, the Algebra Project is exploring collaborations around a concept of “Math Cohort High Schools.”  Moses is co-author of Radical Equations—Civil Rights from Mississippi to the Algebra Project (Beacon\, 2001) and co-editor of Quality Education as a Constitutional Right-creating a grassroots movement to transform public schools (Beacon Press\, 2010). In 2011-2012\, Moses was the Distinguished Visitor for the Center for African American Studies at Princeton University\, and has been a visiting lecturer at NYU School of Law during the fall semesters\, 2012\, 2013\, and 2014. Dr. Moses is Founder and President of the Algebra Project\, Inc. \nSee more at: http://www.facebook.com/TheAlgebraProject and http://www.algebra.org
URL:https://cathedralofhope.org/event/hat-co-field-trip-and-performance-bob-moses-lecture-at-cmu/
LOCATION:Carnegie Mellon University – 100 Porter Hall\, 5000 Forbes Ave\, Pittsburgh\, PA\, 15213
CATEGORIES:Hope Academy
ATTACH;FMTTYPE=image/jpeg:https://cathedralofhope.org/wp-content/uploads/2015/10/Bob-Moses-Event.jpg
GEO:40.4435888;-79.943556
X-APPLE-STRUCTURED-LOCATION;VALUE=URI;X-ADDRESS=Carnegie Mellon University – 100 Porter Hall 5000 Forbes Ave Pittsburgh PA 15213;X-APPLE-RADIUS=500;X-TITLE=5000 Forbes Ave:geo:-79.943556,40.4435888
END:VEVENT
END:VCALENDAR