BEGIN:VCALENDAR
VERSION:2.0
PRODID:-//East Liberty Presbyterian Church - ECPv6.15.20//NONSGML v1.0//EN
CALSCALE:GREGORIAN
METHOD:PUBLISH
X-ORIGINAL-URL:https://cathedralofhope.org
X-WR-CALDESC:Events for East Liberty Presbyterian Church
REFRESH-INTERVAL;VALUE=DURATION:PT1H
X-Robots-Tag:noindex
X-PUBLISHED-TTL:PT1H
BEGIN:VTIMEZONE
TZID:America/Halifax
BEGIN:DAYLIGHT
TZOFFSETFROM:-0400
TZOFFSETTO:-0300
TZNAME:ADT
DTSTART:20150308T060000
END:DAYLIGHT
BEGIN:STANDARD
TZOFFSETFROM:-0300
TZOFFSETTO:-0400
TZNAME:AST
DTSTART:20151101T050000
END:STANDARD
BEGIN:DAYLIGHT
TZOFFSETFROM:-0400
TZOFFSETTO:-0300
TZNAME:ADT
DTSTART:20160313T060000
END:DAYLIGHT
BEGIN:STANDARD
TZOFFSETFROM:-0300
TZOFFSETTO:-0400
TZNAME:AST
DTSTART:20161106T050000
END:STANDARD
BEGIN:DAYLIGHT
TZOFFSETFROM:-0400
TZOFFSETTO:-0300
TZNAME:ADT
DTSTART:20170312T060000
END:DAYLIGHT
BEGIN:STANDARD
TZOFFSETFROM:-0300
TZOFFSETTO:-0400
TZNAME:AST
DTSTART:20171105T050000
END:STANDARD
END:VTIMEZONE
BEGIN:VEVENT
DTSTART;TZID=America/Halifax:20160513T170000
DTEND;TZID=America/Halifax:20160513T220000
DTSTAMP:20260423T170537
CREATED:20160511T230904Z
LAST-MODIFIED:20160511T230904Z
UID:10002996-1463158800-1463176800@cathedralofhope.org
SUMMARY:Warhol Youth Invasion - HAT Co Band Performance
DESCRIPTION:Hope Academy’s teen theater company (HAT Co) band will rock it out with original songs and popular covers as part of The Warhol Museum’s Youth Invasion. \nThe evening  includes live music\, performances\, art-making\, a fashion show\, food\, prizes and fun as teens take over the Warhol. \nThe event runs from 5 to 10 pm\, with HAT Co band performing in the lobby from 8:15 to 8:45 pm. \nHAT Co band and singers performing at The Warhol Youth Invasion\nHenry Schultz – keyboard\nDesmond Rucker – drums\nJames Jaap – bass\nMimi Thomas – ukulele\, vocals and songwriting\nLaela Lumsden – vocals and songwriting\nAnna Ungarino – vocals\nZoe Zielinski – vocals and percussion\n 
URL:https://cathedralofhope.org/event/hat-co-band-youth-invasion-2016/
LOCATION:The Warhol Museum\, 117 Sandusky Street\, Pittsburgh\, 15212\, United States
CATEGORIES:Featured Events,Hope Academy,Music
ATTACH;FMTTYPE=image/jpeg:https://cathedralofhope.org/wp-content/uploads/2016/05/HAT-Co-Band-Spring-2016.jpg
GEO:40.4483738;-80.0024974
X-APPLE-STRUCTURED-LOCATION;VALUE=URI;X-ADDRESS=The Warhol Museum 117 Sandusky Street Pittsburgh 15212 United States;X-APPLE-RADIUS=500;X-TITLE=117 Sandusky Street:geo:-80.0024974,40.4483738
END:VEVENT
END:VCALENDAR