BEGIN:VCALENDAR
VERSION:2.0
PRODID:-//East Liberty Presbyterian Church - ECPv6.15.20//NONSGML v1.0//EN
CALSCALE:GREGORIAN
METHOD:PUBLISH
X-WR-CALNAME:East Liberty Presbyterian Church
X-ORIGINAL-URL:https://cathedralofhope.org
X-WR-CALDESC:Events for East Liberty Presbyterian Church
REFRESH-INTERVAL;VALUE=DURATION:PT1H
X-Robots-Tag:noindex
X-PUBLISHED-TTL:PT1H
BEGIN:VTIMEZONE
TZID:America/New_York
BEGIN:DAYLIGHT
TZOFFSETFROM:-0500
TZOFFSETTO:-0400
TZNAME:EDT
DTSTART:20180311T070000
END:DAYLIGHT
BEGIN:STANDARD
TZOFFSETFROM:-0400
TZOFFSETTO:-0500
TZNAME:EST
DTSTART:20181104T060000
END:STANDARD
BEGIN:DAYLIGHT
TZOFFSETFROM:-0500
TZOFFSETTO:-0400
TZNAME:EDT
DTSTART:20190310T070000
END:DAYLIGHT
BEGIN:STANDARD
TZOFFSETFROM:-0400
TZOFFSETTO:-0500
TZNAME:EST
DTSTART:20191103T060000
END:STANDARD
BEGIN:DAYLIGHT
TZOFFSETFROM:-0500
TZOFFSETTO:-0400
TZNAME:EDT
DTSTART:20200308T070000
END:DAYLIGHT
BEGIN:STANDARD
TZOFFSETFROM:-0400
TZOFFSETTO:-0500
TZNAME:EST
DTSTART:20201101T060000
END:STANDARD
BEGIN:DAYLIGHT
TZOFFSETFROM:-0500
TZOFFSETTO:-0400
TZNAME:EDT
DTSTART:20210314T070000
END:DAYLIGHT
BEGIN:STANDARD
TZOFFSETFROM:-0400
TZOFFSETTO:-0500
TZNAME:EST
DTSTART:20211107T060000
END:STANDARD
BEGIN:DAYLIGHT
TZOFFSETFROM:-0500
TZOFFSETTO:-0400
TZNAME:EDT
DTSTART:20220313T070000
END:DAYLIGHT
BEGIN:STANDARD
TZOFFSETFROM:-0400
TZOFFSETTO:-0500
TZNAME:EST
DTSTART:20221106T060000
END:STANDARD
END:VTIMEZONE
BEGIN:VTIMEZONE
TZID:America/Halifax
BEGIN:DAYLIGHT
TZOFFSETFROM:-0400
TZOFFSETTO:-0300
TZNAME:ADT
DTSTART:20180311T060000
END:DAYLIGHT
BEGIN:STANDARD
TZOFFSETFROM:-0300
TZOFFSETTO:-0400
TZNAME:AST
DTSTART:20181104T050000
END:STANDARD
BEGIN:DAYLIGHT
TZOFFSETFROM:-0400
TZOFFSETTO:-0300
TZNAME:ADT
DTSTART:20190310T060000
END:DAYLIGHT
BEGIN:STANDARD
TZOFFSETFROM:-0300
TZOFFSETTO:-0400
TZNAME:AST
DTSTART:20191103T050000
END:STANDARD
BEGIN:DAYLIGHT
TZOFFSETFROM:-0400
TZOFFSETTO:-0300
TZNAME:ADT
DTSTART:20200308T060000
END:DAYLIGHT
BEGIN:STANDARD
TZOFFSETFROM:-0300
TZOFFSETTO:-0400
TZNAME:AST
DTSTART:20201101T050000
END:STANDARD
END:VTIMEZONE
BEGIN:VEVENT
DTSTART;TZID=America/New_York:20210926T123000
DTEND;TZID=America/New_York:20210926T143000
DTSTAMP:20260423T191932
CREATED:20210808T182908Z
LAST-MODIFIED:20210808T182908Z
UID:10006870-1632659400-1632666600@cathedralofhope.org
SUMMARY:LGBTQ Ministry Spiritual Gathering
DESCRIPTION:You are invited to the next Spiritual Gathering of ELPC’s LGBTQ Ministry to share food and fellowship at the church. Allies and LGBTQIA+ folks alike are welcome. \nContact Wil Forrest at 412.441.3800 X118 or Wil@coh.net to learn more\, to RSVP\, and/or to participate. \nGod created you. God loves you.  Be yourself.
URL:https://cathedralofhope.org/event/lgbtq-ministry-spiritual-gathering-35/
LOCATION:East Liberty Presbyterian Church\, 116 S. Highland Avenue\, Pittsburgh\, PA\, 15206\, United States
CATEGORIES:LGBTQIA+
ORGANIZER;CN="Wil Forrest":MAILTO:Wil@coh.net
GEO:40.4609708;-79.9253554
X-APPLE-STRUCTURED-LOCATION;VALUE=URI;X-ADDRESS=East Liberty Presbyterian Church 116 S. Highland Avenue Pittsburgh PA 15206 United States;X-APPLE-RADIUS=500;X-TITLE=116 S. Highland Avenue:geo:-79.9253554,40.4609708
END:VEVENT
BEGIN:VEVENT
DTSTART;TZID=America/New_York:20210815T113000
DTEND;TZID=America/New_York:20210815T133000
DTSTAMP:20260423T191932
CREATED:20210523T143736Z
LAST-MODIFIED:20210728T134546Z
UID:10006638-1629027000-1629034200@cathedralofhope.org
SUMMARY:LGBTQ Ministry Spiritual Gathering
DESCRIPTION:You are invited to the next Spiritual Gathering of ELPC’s LGBTQ Ministry to share food and fellowship at the church. Allies and LGBTQIA+ folks alike are welcome. \nContact Wil Forrest at 412.441.3800 X118 or Wil@coh.net to learn more\, to RSVP\, and/or to get the Zoom info to participate. \nGod created you. God loves you.  Be yourself.\n 
URL:https://cathedralofhope.org/event/lgbtq-ministry-spiritual-gathering-34/
LOCATION:East Liberty Presbyterian Church\, 116 S. Highland Avenue\, Pittsburgh\, PA\, 15206\, United States
CATEGORIES:Featured Events,LGBTQIA+
ATTACH;FMTTYPE=image/jpeg:https://cathedralofhope.org/wp-content/uploads/2021/05/072521-2-QM-SG-2.jpg
ORGANIZER;CN="Wil Forrest":MAILTO:Wil@coh.net
GEO:40.4609708;-79.9253554
X-APPLE-STRUCTURED-LOCATION;VALUE=URI;X-ADDRESS=East Liberty Presbyterian Church 116 S. Highland Avenue Pittsburgh PA 15206 United States;X-APPLE-RADIUS=500;X-TITLE=116 S. Highland Avenue:geo:-79.9253554,40.4609708
END:VEVENT
BEGIN:VEVENT
DTSTART;TZID=America/New_York:20210725T113000
DTEND;TZID=America/New_York:20210725T133000
DTSTAMP:20260423T191932
CREATED:20210523T143439Z
LAST-MODIFIED:20210714T191214Z
UID:10003477-1627212600-1627219800@cathedralofhope.org
SUMMARY:LGBTQ Ministry Spiritual Gathering In-Person and on Zoom
DESCRIPTION:You are invited to share food and fellowship at our LGBTQ Ministry’s next Spiritual Gathering. Allies and LGBTQIA+ folks alike are welcome. We will meet in person and may have a Zoom component. \nContact Wil Forrest at 412.441.3800 X118 or Wil@coh.net to learn more\, to RSVP\, and/or to get the Zoom info to participate. \nGod created you. God loves you.  Be yourself.
URL:https://cathedralofhope.org/event/lgbtq-ministry-spiritual-gathering-in-person-and-on-zoom/
LOCATION:East Liberty Presbyterian Church\, 116 S. Highland Avenue\, Pittsburgh\, PA\, 15206\, United States
CATEGORIES:LGBTQIA+
ATTACH;FMTTYPE=image/jpeg:https://cathedralofhope.org/wp-content/uploads/2021/05/reunited-friends.jpg
ORGANIZER;CN="Wil Forrest":MAILTO:Wil@coh.net
GEO:40.4609708;-79.9253554
X-APPLE-STRUCTURED-LOCATION;VALUE=URI;X-ADDRESS=East Liberty Presbyterian Church 116 S. Highland Avenue Pittsburgh PA 15206 United States;X-APPLE-RADIUS=500;X-TITLE=116 S. Highland Avenue:geo:-79.9253554,40.4609708
END:VEVENT
BEGIN:VEVENT
DTSTART;TZID=America/New_York:20210516T123000
DTEND;TZID=America/New_York:20210516T143000
DTSTAMP:20260423T191932
CREATED:20201208T144758Z
LAST-MODIFIED:20201208T144857Z
UID:10003400-1621168200-1621175400@cathedralofhope.org
SUMMARY:LGBTQ Ministry Spiritual Gathering
DESCRIPTION:All are welcome at this monthly spiritual gathering of LGBTQ Christians and their allies. \nContact Wil Forrest at 412.441.3800 X118 or Wil@coh.net to learn more and to get the Zoom info to participate. \nGOD CREATED YOU. GOD LOVES YOU.  BE YOURSELF.
URL:https://cathedralofhope.org/event/lgbtq-ministry-spiritual-gathering-33/
CATEGORIES:LGBTQIA+
ORGANIZER;CN="Wil Forrest":MAILTO:Wil@coh.net
END:VEVENT
BEGIN:VEVENT
DTSTART;TZID=America/New_York:20210410T100000
DTEND;TZID=America/New_York:20210410T120000
DTSTAMP:20260423T191932
CREATED:20201208T144235Z
LAST-MODIFIED:20201208T144235Z
UID:10003398-1618048800-1618056000@cathedralofhope.org
SUMMARY:LGBTQ Ministry Spiritual Gathering
DESCRIPTION:All are welcome at this monthly spiritual gathering of LGBTQ Christians and their allies. \nContact Wil Forrest at 412.441.3800 X118 or Wil@coh.net to learn more and to get the Zoom info to participate. \nGOD CREATED YOU. GOD LOVES YOU.  BE YOURSELF.
URL:https://cathedralofhope.org/event/lgbtq-ministry-spiritual-gathering-32/
CATEGORIES:LGBTQIA+
ORGANIZER;CN="Wil Forrest":MAILTO:Wil@coh.net
END:VEVENT
BEGIN:VEVENT
DTSTART;TZID=America/New_York:20210314T123000
DTEND;TZID=America/New_York:20210314T143000
DTSTAMP:20260423T191932
CREATED:20201208T143636Z
LAST-MODIFIED:20201208T143942Z
UID:10003396-1615725000-1615732200@cathedralofhope.org
SUMMARY:LGBTQ Ministry Spiritual Gathering on Zoom
DESCRIPTION:All are welcome at this monthly spiritual gathering of LGBTQ Christians and their allies. \nContact Wil Forrest at 412.441.3800 X118 or Wil@coh.net to learn more and to get the Zoom info to participate. \nGOD CREATED YOU. GOD LOVES YOU.  BE YOURSELF.
URL:https://cathedralofhope.org/event/lgbtq-ministry-spiritual-gathering-on-zoom-9/
CATEGORIES:LGBTQIA+
ORGANIZER;CN="Wil Forrest":MAILTO:Wil@coh.net
END:VEVENT
BEGIN:VEVENT
DTSTART;TZID=America/New_York:20210207T123000
DTEND;TZID=America/New_York:20210207T143000
DTSTAMP:20260423T191932
CREATED:20201206T152400Z
LAST-MODIFIED:20201206T152400Z
UID:10006548-1612701000-1612708200@cathedralofhope.org
SUMMARY:LGBTQ Ministry Spiritual Gathering on Zoom
DESCRIPTION:All are welcome at this monthly spiritual gathering of LGBTQ Christians and their allies. \nContact Wil Forrest at 412.441.3800 X118 or Wil@coh.net to learn more and to get the Zoom info to participate. \nGod created you. God loves you.  Be yourself.
URL:https://cathedralofhope.org/event/lgbtq-ministry-spiritual-gathering-on-zoom-8/
CATEGORIES:LGBTQIA+
ORGANIZER;CN="Wil Forrest":MAILTO:Wil@coh.net
END:VEVENT
BEGIN:VEVENT
DTSTART;TZID=America/New_York:20210116T090000
DTEND;TZID=America/New_York:20210116T190000
DTSTAMP:20260423T191932
CREATED:20201206T152922Z
LAST-MODIFIED:20201229T151603Z
UID:10003392-1610787600-1610823600@cathedralofhope.org
SUMMARY:LGBTQ Ministry Day Retreat
DESCRIPTION:Members and friends of ELPC’s LGBTQ Ministry are invited to spend the day with your church family while we celebrate the new year through worship\, discussion\, creative activities\, reflections and fellowship. While it is likely most or all of this event will be online via Zoom\, there is a chance that we might gather\, if conditions permit\, at the home of Michele and Henk Bossers. This will be a fun and safe place to explore and to laugh.\n\nPlease contact Wil with any questions\, accommodation\, ideas\, or RSVP.\n\nHope you can make it.\n\nRSVP by January 10 on Facebook (or to Wil at wil@coh.net or 412.260.2554 if not on Facebook).
URL:https://cathedralofhope.org/event/lgbtq-ministry-day-retreat-2/
CATEGORIES:LGBTQIA+,Special Events
ATTACH;FMTTYPE=image/jpeg:https://cathedralofhope.org/wp-content/uploads/2020/12/thumbnail_IMG_1375.jpg
ORGANIZER;CN="Wil Forrest":MAILTO:Wil@coh.net
END:VEVENT
BEGIN:VEVENT
DTSTART;TZID=America/New_York:20210108T170000
DTEND;TZID=America/New_York:20210108T180000
DTSTAMP:20260423T191932
CREATED:20201206T150626Z
LAST-MODIFIED:20201229T151513Z
UID:10006547-1610125200-1610128800@cathedralofhope.org
SUMMARY:LGBTQ Ministry Happy Hour on Zoom
DESCRIPTION:At the end of a long week\, come together with friends on Zoom. Pour your favorite beverage\, log on/call in\, and share in fellowship and fun. All LGBTQIA+ folks and their allies invited. \nContact Wil Forrest for more information and/or to participate. Wil can be reached at wil@coh.net or 412.441.3800 X118. \n 
URL:https://cathedralofhope.org/event/lgbtq-ministry-happy-hour-on-zoom/
CATEGORIES:LGBTQIA+
ATTACH;FMTTYPE=image/png:https://cathedralofhope.org/wp-content/uploads/2019/12/aeec.png
ORGANIZER;CN="Wil Forrest":MAILTO:Wil@coh.net
END:VEVENT
BEGIN:VEVENT
DTSTART;TZID=America/New_York:20201220T123000
DTEND;TZID=America/New_York:20201220T143000
DTSTAMP:20260423T191932
CREATED:20200802T015218Z
LAST-MODIFIED:20200802T015218Z
UID:10005127-1608467400-1608474600@cathedralofhope.org
SUMMARY:LGBTQ Ministry Spiritual Gathering on Zoom
DESCRIPTION:All are welcome at this monthly spiritual gathering of LGBTQ Christians and their allies. \nContact Wil Forrest at 412.441.3800 X118 or Wil@coh.net to learn more and to get the Zoom info to participate. \nGod created you. God loves you.  Be yourself.
URL:https://cathedralofhope.org/event/lgbtq-ministry-spiritual-gathering-on-zoom-7/
CATEGORIES:Featured Events,LGBTQIA+
ORGANIZER;CN="Wil Forrest":MAILTO:Wil@coh.net
END:VEVENT
BEGIN:VEVENT
DTSTART;TZID=America/New_York:20201115T123000
DTEND;TZID=America/New_York:20201115T143000
DTSTAMP:20260423T191932
CREATED:20200802T013909Z
LAST-MODIFIED:20200802T013909Z
UID:10005126-1605443400-1605450600@cathedralofhope.org
SUMMARY:LGBTQ Ministry Spiritual Gathering on Zoom
DESCRIPTION:All are welcome at this monthly spiritual gathering of LGBTQ Christians and their allies. \nContact Wil Forrest at 412.441.3800 X118 or Wil@coh.net to learn more and to get the Zoom info to participate. \nGod created you. God loves you.  Be yourself.
URL:https://cathedralofhope.org/event/lgbtq-ministry-spiritual-gathering-on-zoom-6/
CATEGORIES:Featured Events,LGBTQIA+
ORGANIZER;CN="Wil Forrest":MAILTO:Wil@coh.net
END:VEVENT
BEGIN:VEVENT
DTSTART;TZID=America/New_York:20201010T100000
DTEND;TZID=America/New_York:20201010T120000
DTSTAMP:20260423T191932
CREATED:20200802T012448Z
LAST-MODIFIED:20200922T140230Z
UID:10005125-1602324000-1602331200@cathedralofhope.org
SUMMARY:LGBTQ Ministry Spiritual Gathering on Zoom
DESCRIPTION:All are welcome at this monthly spiritual gathering of LGBTQ Christians and their allies. \nContact Wil Forrest at 412.441.3800 X118 or Wil@coh.net to learn more and to get the Zoom info to participate. \nGod created you. God loves you.  Be yourself.\n 
URL:https://cathedralofhope.org/event/lgbtq-ministry-spiritual-gathering-on-zoom-5/
CATEGORIES:Featured Events,LGBTQIA+
ATTACH;FMTTYPE=image/png:https://cathedralofhope.org/wp-content/uploads/2019/12/IMG_1239.png
ORGANIZER;CN="Wil Forrest":MAILTO:Wil@coh.net
END:VEVENT
BEGIN:VEVENT
DTSTART;TZID=America/New_York:20200920T123000
DTEND;TZID=America/New_York:20200920T143000
DTSTAMP:20260423T191932
CREATED:20200802T011917Z
LAST-MODIFIED:20200802T011917Z
UID:10005124-1600605000-1600612200@cathedralofhope.org
SUMMARY:LGBTQ Ministry Spiritual Gathering on Zoom
DESCRIPTION:All are welcome at this monthly spiritual gathering of LGBTQ Christians and their allies. \nContact Wil Forrest at 412.441.3800 X118 or Wil@coh.net to learn more and to get the Zoom info to participate. \nGod created you. God loves you.  Be yourself.
URL:https://cathedralofhope.org/event/lgbtq-ministry-spiritual-gathering-on-zoom-4/
CATEGORIES:Featured Events,LGBTQIA+
ATTACH;FMTTYPE=image/png:https://cathedralofhope.org/wp-content/uploads/2019/12/aeec.png
ORGANIZER;CN="Wil Forrest":MAILTO:Wil@coh.net
END:VEVENT
BEGIN:VEVENT
DTSTART;TZID=America/New_York:20200828T180000
DTEND;TZID=America/New_York:20200828T200000
DTSTAMP:20260423T191932
CREATED:20200802T010151Z
LAST-MODIFIED:20200802T010151Z
UID:10005123-1598637600-1598644800@cathedralofhope.org
SUMMARY:LGBTQ Ministry Game Night on Zoom
DESCRIPTION:Join in with friends for some end-of-the-week fun as we laugh and play games together over Zoom. All LGBTQIA folks and their allies are welcome. Contact Wil Forrest\, LGBTQ Ministry coordinator\, for information or to participate.
URL:https://cathedralofhope.org/event/lgbtq-ministry-game-night-on-zoom/
CATEGORIES:Featured Events,LGBTQIA+
ATTACH;FMTTYPE=image/png:https://cathedralofhope.org/wp-content/uploads/2019/03/IMG_2550.png
ORGANIZER;CN="Wil Forrest":MAILTO:Wil@coh.net
END:VEVENT
BEGIN:VEVENT
DTSTART;TZID=America/New_York:20200816T123000
DTEND;TZID=America/New_York:20200816T143000
DTSTAMP:20260423T191932
CREATED:20200609T134214Z
LAST-MODIFIED:20200609T134214Z
UID:10005114-1597581000-1597588200@cathedralofhope.org
SUMMARY:LGBTQ Ministry Spiritual Gathering on Zoom
DESCRIPTION:All are welcome at this monthly spiritual gathering of LGBTQ Christians and their allies. \nContact Wil Forrest at 412.441.3800 X118 or Wil@coh.net to learn more and to get the Zoom info to participate. \nGod created you. God loves you.  Be yourself.
URL:https://cathedralofhope.org/event/lgbtq-ministry-spiritual-gathering-on-zoom-3/
CATEGORIES:LGBTQIA+
ORGANIZER;CN="Wil Forrest":MAILTO:Wil@coh.net
END:VEVENT
BEGIN:VEVENT
DTSTART;TZID=America/New_York:20200712T123000
DTEND;TZID=America/New_York:20200712T143000
DTSTAMP:20260423T191932
CREATED:20200516T192253Z
LAST-MODIFIED:20200516T192253Z
UID:10005103-1594557000-1594564200@cathedralofhope.org
SUMMARY:LGBTQ Ministry Spiritual Gathering on Zoom
DESCRIPTION:All are welcome at this monthly spiritual gathering of LGBTQ Christians and their allies. \nContact Wil Forrest at 412.441.3800 X118 or Wil@coh.net to learn more and to get the Zoom info to participate. \nGod created you. God loves you.  Be yourself.
URL:https://cathedralofhope.org/event/lgbtq-ministry-spiritual-gathering-on-zoom-2/
CATEGORIES:LGBTQIA+
ORGANIZER;CN="Wil Forrest":MAILTO:Wil@coh.net
END:VEVENT
BEGIN:VEVENT
DTSTART;TZID=America/New_York:20200626T180000
DTEND;TZID=America/New_York:20200626T190000
DTSTAMP:20260423T191932
CREATED:20200516T191524Z
LAST-MODIFIED:20200516T191524Z
UID:10005101-1593194400-1593198000@cathedralofhope.org
SUMMARY:Happy Hour for LGBTQIA+ Folks on Zoom
DESCRIPTION:At the end of a long week\, come together with friends on Zoom. Pour your favorite beverage\, log on/call in\, and share in fellowship and fun.  All LGBTQIA+ folks and their allies invited. Contact Wil Forrest for more information and/or to participate.  Wil can be reached at wil@coh.net or 412-441-3800 X118.
URL:https://cathedralofhope.org/event/happy-hours-for-lgbtqia-folks-on-zoom/2020-06-26/
CATEGORIES:Featured Events,LGBTQIA+
ATTACH;FMTTYPE=image/png:https://cathedralofhope.org/wp-content/uploads/2019/12/aeec.png
ORGANIZER;CN="Wil Forrest":MAILTO:Wil@coh.net
END:VEVENT
BEGIN:VEVENT
DTSTART;TZID=America/New_York:20200614T123000
DTEND;TZID=America/New_York:20200614T143000
DTSTAMP:20260423T191932
CREATED:20200516T192048Z
LAST-MODIFIED:20200516T192048Z
UID:10005102-1592137800-1592145000@cathedralofhope.org
SUMMARY:LGBTQ Ministry Spiritual Gathering on Zoom
DESCRIPTION:All are welcome at this monthly spiritual gathering of LGBTQ Christians and their allies. \nContact Wil Forrest at 412.441.3800 X118 or Wil@coh.net to learn more and to get the Zoom info to participate. \nGod created you. God loves you.  Be yourself.
URL:https://cathedralofhope.org/event/lgbtq-ministry-spiritual-gathering-on-zoom/
CATEGORIES:LGBTQIA+
ORGANIZER;CN="Wil Forrest":MAILTO:Wil@coh.net
END:VEVENT
BEGIN:VEVENT
DTSTART;TZID=America/New_York:20200529T180000
DTEND;TZID=America/New_York:20200529T190000
DTSTAMP:20260423T191932
CREATED:20200516T191524Z
LAST-MODIFIED:20200516T191524Z
UID:10005100-1590775200-1590778800@cathedralofhope.org
SUMMARY:Happy Hour for LGBTQIA+ Folks on Zoom
DESCRIPTION:At the end of a long week\, come together with friends on Zoom. Pour your favorite beverage\, log on/call in\, and share in fellowship and fun.  All LGBTQIA+ folks and their allies invited. Contact Wil Forrest for more information and/or to participate.  Wil can be reached at wil@coh.net or 412-441-3800 X118.
URL:https://cathedralofhope.org/event/happy-hours-for-lgbtqia-folks-on-zoom/2020-05-29/
CATEGORIES:Featured Events,LGBTQIA+
ATTACH;FMTTYPE=image/png:https://cathedralofhope.org/wp-content/uploads/2019/12/aeec.png
ORGANIZER;CN="Wil Forrest":MAILTO:Wil@coh.net
END:VEVENT
BEGIN:VEVENT
DTSTART;TZID=America/New_York:20200516T130000
DTEND;TZID=America/New_York:20200516T150000
DTSTAMP:20260423T191932
CREATED:20191219T132408Z
LAST-MODIFIED:20191219T132408Z
UID:10004988-1589634000-1589641200@cathedralofhope.org
SUMMARY:LGBTQ Ministry Spiritual Gathering on Zoom
DESCRIPTION:All are welcome at this monthly spiritual gathering of LGBTQ Christians and their allies on Zoom.  Note that due to the social distancing guidelines this meeting has been changed from the original format and time. \nContact Wil Forrest at 412.441.3800 X118 or Wil@coh.net to learn more and to attend. \nGod created you. God loves you.  Be yourself.
URL:https://cathedralofhope.org/event/lgbtq-ministry-spiritual-gathering-30/
LOCATION:East Liberty Presbyterian Church\, 116 S. Highland Avenue\, Pittsburgh\, PA\, 15206\, United States
CATEGORIES:Featured Events,LGBTQIA+
ORGANIZER;CN="Wil Forrest":MAILTO:Wil@coh.net
GEO:40.4609708;-79.9253554
X-APPLE-STRUCTURED-LOCATION;VALUE=URI;X-ADDRESS=East Liberty Presbyterian Church 116 S. Highland Avenue Pittsburgh PA 15206 United States;X-APPLE-RADIUS=500;X-TITLE=116 S. Highland Avenue:geo:-79.9253554,40.4609708
END:VEVENT
BEGIN:VEVENT
DTSTART;TZID=America/New_York:20200501T180000
DTEND;TZID=America/New_York:20200501T193000
DTSTAMP:20260423T191932
CREATED:20200419T191059Z
LAST-MODIFIED:20200419T191059Z
UID:10005095-1588356000-1588361400@cathedralofhope.org
SUMMARY:Happy Hour for LGBTQ Ministry Folks
DESCRIPTION:At the end of a long week of isolation\, come together with friends on Zoom. Pour your favorite beverage\, log on/call in\, and share in fellowship and fun.  Contact Wil Forrest for more information and/or to participate.  Wil can be reached at wil@coh.net or 412-441-3800 X118.
URL:https://cathedralofhope.org/event/happy-hour-for-lgbtq-ministry-folks/
CATEGORIES:Featured Events,LGBTQIA+
ORGANIZER;CN="Wil Forrest":MAILTO:Wil@coh.net
END:VEVENT
BEGIN:VEVENT
DTSTART;TZID=America/New_York:20200419T123000
DTEND;TZID=America/New_York:20200419T143000
DTSTAMP:20260423T191932
CREATED:20191219T132058Z
LAST-MODIFIED:20191219T132058Z
UID:10004987-1587299400-1587306600@cathedralofhope.org
SUMMARY:LGBTQ Ministry Spiritual Gathering on Zoom
DESCRIPTION:All are welcome at this monthly spiritual gathering of LGBTQ Christians and their allies. \nContact Wil Forrest at 412.441.3800 X118 or Wil@coh.net to learn more and to get the Zoom info to participate. \nGod created you. God loves you.  Be yourself.
URL:https://cathedralofhope.org/event/lgbtq-ministry-spiritual-gathering-29/
LOCATION:East Liberty Presbyterian Church\, 116 S. Highland Avenue\, Pittsburgh\, PA\, 15206\, United States
CATEGORIES:LGBTQIA+
ORGANIZER;CN="Wil Forrest":MAILTO:Wil@coh.net
GEO:40.4609708;-79.9253554
X-APPLE-STRUCTURED-LOCATION;VALUE=URI;X-ADDRESS=East Liberty Presbyterian Church 116 S. Highland Avenue Pittsburgh PA 15206 United States;X-APPLE-RADIUS=500;X-TITLE=116 S. Highland Avenue:geo:-79.9253554,40.4609708
END:VEVENT
BEGIN:VEVENT
DTSTART;TZID=America/New_York:20200405T123000
DTEND;TZID=America/New_York:20200405T143000
DTSTAMP:20260423T191932
CREATED:20200331T200932Z
LAST-MODIFIED:20200331T200932Z
UID:10005092-1586089800-1586097000@cathedralofhope.org
SUMMARY:LGBTQ Ministry Spiritual Gathering
DESCRIPTION:While the building remains closed\, all are welcome at this spiritual gathering of LGBTQ Christians and their allies via Zoom. \nContact Wil Forrest at 412.441.3800 X118 or Wil@coh.net to learn more and to attend. \nGod created you. God loves you.  Be yourself.
URL:https://cathedralofhope.org/event/lgbtq-ministry-spiritual-gathering-31/
CATEGORIES:Church Life,LGBTQIA+
ORGANIZER;CN="Wil Forrest":MAILTO:Wil@coh.net
END:VEVENT
BEGIN:VEVENT
DTSTART;TZID=America/New_York:20200315T123000
DTEND;TZID=America/New_York:20200315T143000
DTSTAMP:20260423T191932
CREATED:20191219T131637Z
LAST-MODIFIED:20191219T131637Z
UID:10004986-1584275400-1584282600@cathedralofhope.org
SUMMARY:CANCELED: LGBTQ Ministry Spiritual Gathering
DESCRIPTION:All are welcome at this monthly spiritual gathering of LGBTQ Christians and their allies. \nContact Wil Forrest at 412.441.3800 X118 or Wil@coh.net to learn more and to attend. \nGod created you. God loves you.  Be yourself.
URL:https://cathedralofhope.org/event/lgbtq-ministry-spiritual-gathering-28/
LOCATION:East Liberty Presbyterian Church\, 116 S. Highland Avenue\, Pittsburgh\, PA\, 15206\, United States
CATEGORIES:LGBTQIA+
ORGANIZER;CN="Wil Forrest":MAILTO:Wil@coh.net
GEO:40.4609708;-79.9253554
X-APPLE-STRUCTURED-LOCATION;VALUE=URI;X-ADDRESS=East Liberty Presbyterian Church 116 S. Highland Avenue Pittsburgh PA 15206 United States;X-APPLE-RADIUS=500;X-TITLE=116 S. Highland Avenue:geo:-79.9253554,40.4609708
END:VEVENT
BEGIN:VEVENT
DTSTART;TZID=America/New_York:20200216T123000
DTEND;TZID=America/New_York:20200216T143000
DTSTAMP:20260423T191932
CREATED:20191219T131418Z
LAST-MODIFIED:20191219T131418Z
UID:10004985-1581856200-1581863400@cathedralofhope.org
SUMMARY:LGBTQ Ministry Spiritual Gathering
DESCRIPTION:All are welcome at this monthly spiritual gathering of LGBTQ Christians and their allies. \nContact Wil Forrest at 412.441.3800 X118 or Wil@coh.net to learn more and to attend. \nGod created you. God loves you.  Be yourself\n.
URL:https://cathedralofhope.org/event/lgbtq-ministry-spiritual-gathering-27/
LOCATION:East Liberty Presbyterian Church\, 116 S. Highland Avenue\, Pittsburgh\, PA\, 15206\, United States
CATEGORIES:LGBTQIA+
ORGANIZER;CN="Wil Forrest":MAILTO:Wil@coh.net
GEO:40.4609708;-79.9253554
X-APPLE-STRUCTURED-LOCATION;VALUE=URI;X-ADDRESS=East Liberty Presbyterian Church 116 S. Highland Avenue Pittsburgh PA 15206 United States;X-APPLE-RADIUS=500;X-TITLE=116 S. Highland Avenue:geo:-79.9253554,40.4609708
END:VEVENT
BEGIN:VEVENT
DTSTART;TZID=America/New_York:20200112T123000
DTEND;TZID=America/New_York:20200112T143000
DTSTAMP:20260423T191932
CREATED:20191219T131051Z
LAST-MODIFIED:20191219T131051Z
UID:10004980-1578832200-1578839400@cathedralofhope.org
SUMMARY:LGBTQ Ministry Spiritual Gathering
DESCRIPTION:All are welcome at this monthly spiritual gathering of LGBTQ Christians and their allies. \nContact Wil Forrest at 412.441.3800 X118 or Wil@coh.net to learn more and to attend. \nGod created you. God loves you.  Be yourself.
URL:https://cathedralofhope.org/event/lgbtq-ministry-spiritual-gathering-26/
LOCATION:East Liberty Presbyterian Church\, 116 S. Highland Avenue\, Pittsburgh\, PA\, 15206\, United States
CATEGORIES:LGBTQIA+
ORGANIZER;CN="Wil Forrest":MAILTO:Wil@coh.net
GEO:40.4609708;-79.9253554
X-APPLE-STRUCTURED-LOCATION;VALUE=URI;X-ADDRESS=East Liberty Presbyterian Church 116 S. Highland Avenue Pittsburgh PA 15206 United States;X-APPLE-RADIUS=500;X-TITLE=116 S. Highland Avenue:geo:-79.9253554,40.4609708
END:VEVENT
BEGIN:VEVENT
DTSTART;TZID=America/New_York:20191207T090000
DTEND;TZID=America/New_York:20191207T170000
DTSTAMP:20260423T191932
CREATED:20190718T163134Z
LAST-MODIFIED:20190718T163134Z
UID:10004898-1575709200-1575738000@cathedralofhope.org
SUMMARY:LGBTQ Ministry Advent Day Retreat
DESCRIPTION:All are welcome at this annual day retreat of LGBTQ Christians and their allies.  This year we will again focus on Advent and will return to the home of Michele and Henk Bossers.  Contact Wil Forrest at 412.441-3800 X118 or Wil@coh.net to learn more and to attend. \nGod created you. God loves you.\nBe yourself.
URL:https://cathedralofhope.org/event/lgbtq-ministry-advent-day-retreat/
CATEGORIES:LGBTQIA+
ORGANIZER;CN="Wil Forrest":MAILTO:Wil@coh.net
END:VEVENT
BEGIN:VEVENT
DTSTART;TZID=America/New_York:20191117T123000
DTEND;TZID=America/New_York:20191117T143000
DTSTAMP:20260423T191932
CREATED:20190718T162716Z
LAST-MODIFIED:20190718T162716Z
UID:10004858-1573993800-1574001000@cathedralofhope.org
SUMMARY:LGBTQ Ministry Spiritual Gathering
DESCRIPTION:All are welcome at this monthly spiritual gathering of LGBTQ Christians and their allies. \nContact Wil Forrest at 412.441-3800 X118 or Wil@coh.net to learn more and to attend. \nGod created you. God loves you.\nBe yourself.\n \n 
URL:https://cathedralofhope.org/event/lgbtq-ministry-spiritual-gathering-25/
CATEGORIES:LGBTQIA+
ORGANIZER;CN="Wil Forrest":MAILTO:Wil@coh.net
END:VEVENT
BEGIN:VEVENT
DTSTART;TZID=America/New_York:20191013T123000
DTEND;TZID=America/New_York:20191013T143000
DTSTAMP:20260423T191932
CREATED:20190718T162409Z
LAST-MODIFIED:20190718T162409Z
UID:10004857-1570969800-1570977000@cathedralofhope.org
SUMMARY:LGBTQ Ministry Spiritual Gathering
DESCRIPTION:All are welcome at this monthly spiritual gathering of LGBTQ Christians and their allies. \nContact Wil Forrest at 412.441-3800 X118 or Wil@coh.net to learn more and to attend. \nGod created you. God loves you.\nBe yourself.
URL:https://cathedralofhope.org/event/lgbtq-ministry-spiritual-gathering-24/
CATEGORIES:LGBTQIA+
ATTACH;FMTTYPE=image/jpeg:https://cathedralofhope.org/wp-content/uploads/2019/07/IMG_1101.jpg
ORGANIZER;CN="Wil Forrest":MAILTO:Wil@coh.net
END:VEVENT
BEGIN:VEVENT
DTSTART;TZID=America/Halifax:20190901T113000
DTEND;TZID=America/Halifax:20190901T133000
DTSTAMP:20260423T191932
CREATED:20190330T223217Z
LAST-MODIFIED:20190330T223217Z
UID:10004311-1567337400-1567344600@cathedralofhope.org
SUMMARY:LGBTQ Ministry Spiritual Gathering
DESCRIPTION:All are welcome at this monthly spiritual gathering of LGBTQ Christians and their allies. \nContact Wil Forrest at 412.260.2554 or Wil@coh.net to learn more and to attend. \nGod created you. God loves you.\nBe yourself.
URL:https://cathedralofhope.org/event/lgbtq-ministry-spiritual-gathering-23/
LOCATION:East Liberty Presbyterian Church\, 116 S. Highland Avenue\, Pittsburgh\, PA\, 15206\, United States
CATEGORIES:LGBTQIA+
ATTACH;FMTTYPE=image/jpeg:https://cathedralofhope.org/wp-content/uploads/2019/03/IMG_0749.jpg
ORGANIZER;CN="Wil Forrest":MAILTO:Wil@coh.net
GEO:40.4609708;-79.9253554
X-APPLE-STRUCTURED-LOCATION;VALUE=URI;X-ADDRESS=East Liberty Presbyterian Church 116 S. Highland Avenue Pittsburgh PA 15206 United States;X-APPLE-RADIUS=500;X-TITLE=116 S. Highland Avenue:geo:-79.9253554,40.4609708
END:VEVENT
END:VCALENDAR