BEGIN:VCALENDAR
VERSION:2.0
PRODID:-//East Liberty Presbyterian Church - ECPv6.15.20//NONSGML v1.0//EN
CALSCALE:GREGORIAN
METHOD:PUBLISH
X-WR-CALNAME:East Liberty Presbyterian Church
X-ORIGINAL-URL:https://cathedralofhope.org
X-WR-CALDESC:Events for East Liberty Presbyterian Church
REFRESH-INTERVAL;VALUE=DURATION:PT1H
X-Robots-Tag:noindex
X-PUBLISHED-TTL:PT1H
BEGIN:VTIMEZONE
TZID:America/Halifax
BEGIN:DAYLIGHT
TZOFFSETFROM:-0400
TZOFFSETTO:-0300
TZNAME:ADT
DTSTART:20170312T060000
END:DAYLIGHT
BEGIN:STANDARD
TZOFFSETFROM:-0300
TZOFFSETTO:-0400
TZNAME:AST
DTSTART:20171105T050000
END:STANDARD
BEGIN:DAYLIGHT
TZOFFSETFROM:-0400
TZOFFSETTO:-0300
TZNAME:ADT
DTSTART:20180311T060000
END:DAYLIGHT
BEGIN:STANDARD
TZOFFSETFROM:-0300
TZOFFSETTO:-0400
TZNAME:AST
DTSTART:20181104T050000
END:STANDARD
BEGIN:DAYLIGHT
TZOFFSETFROM:-0400
TZOFFSETTO:-0300
TZNAME:ADT
DTSTART:20190310T060000
END:DAYLIGHT
BEGIN:STANDARD
TZOFFSETFROM:-0300
TZOFFSETTO:-0400
TZNAME:AST
DTSTART:20191103T050000
END:STANDARD
BEGIN:DAYLIGHT
TZOFFSETFROM:-0400
TZOFFSETTO:-0300
TZNAME:ADT
DTSTART:20200308T060000
END:DAYLIGHT
BEGIN:STANDARD
TZOFFSETFROM:-0300
TZOFFSETTO:-0400
TZNAME:AST
DTSTART:20201101T050000
END:STANDARD
END:VTIMEZONE
BEGIN:VEVENT
DTSTART;TZID=America/Halifax:20190217T123000
DTEND;TZID=America/Halifax:20190217T143000
DTSTAMP:20260424T000417
CREATED:20181220T212753Z
LAST-MODIFIED:20181220T212753Z
UID:10002890-1550406600-1550413800@cathedralofhope.org
SUMMARY:LGBTQ Ministry Spiritual Gathering
DESCRIPTION:All are welcome at this monthly spiritual gathering of LGBTQ Christians and their allies. \nContact Wil Forrest at 412.260.2554 or Wil@coh.net to learn more and to attend.
URL:https://cathedralofhope.org/event/lgbtq-ministry-spiritual-gathering-18/
LOCATION:East Liberty Presbyterian Church\, 116 S. Highland Avenue\, Pittsburgh\, PA\, 15206\, United States
CATEGORIES:LGBTQIA+
ATTACH;FMTTYPE=image/png:https://cathedralofhope.org/wp-content/uploads/2018/12/IMG_4811.png
ORGANIZER;CN="Wil Forrest":MAILTO:Wil@coh.net
GEO:40.4609708;-79.9253554
X-APPLE-STRUCTURED-LOCATION;VALUE=URI;X-ADDRESS=East Liberty Presbyterian Church 116 S. Highland Avenue Pittsburgh PA 15206 United States;X-APPLE-RADIUS=500;X-TITLE=116 S. Highland Avenue:geo:-79.9253554,40.4609708
END:VEVENT
BEGIN:VEVENT
DTSTART;TZID=America/Halifax:20190120T123000
DTEND;TZID=America/Halifax:20190120T143000
DTSTAMP:20260424T000417
CREATED:20181218T174000Z
LAST-MODIFIED:20181218T174000Z
UID:10003721-1547987400-1547994600@cathedralofhope.org
SUMMARY:LGBTQ Ministry Spiritual Gathering
DESCRIPTION:All are welcome at this monthly spiritual gathering of LGBTQ Christians and their allies. \nContact Wil Forrest at 412.260.2554 or Wil@coh.net to learn more and to attend.
URL:https://cathedralofhope.org/event/lgbtq-ministry-spiritual-gathering-17/
LOCATION:East Liberty Presbyterian Church\, 116 S. Highland Avenue\, Pittsburgh\, PA\, 15206\, United States
CATEGORIES:LGBTQIA+
ATTACH;FMTTYPE=image/png:https://cathedralofhope.org/wp-content/uploads/2018/12/LGBTQ-Ministry-January-2019.png
ORGANIZER;CN="Wil Forrest":MAILTO:Wil@coh.net
GEO:40.4609708;-79.9253554
X-APPLE-STRUCTURED-LOCATION;VALUE=URI;X-ADDRESS=East Liberty Presbyterian Church 116 S. Highland Avenue Pittsburgh PA 15206 United States;X-APPLE-RADIUS=500;X-TITLE=116 S. Highland Avenue:geo:-79.9253554,40.4609708
END:VEVENT
BEGIN:VEVENT
DTSTART;TZID=America/Halifax:20181216T123000
DTEND;TZID=America/Halifax:20181216T143000
DTSTAMP:20260424T000417
CREATED:20180819T033051Z
LAST-MODIFIED:20180819T033051Z
UID:10002816-1544963400-1544970600@cathedralofhope.org
SUMMARY:LGBTQ Ministry Spiritual Gathering
DESCRIPTION:All are welcome at this monthly spiritual gathering of LGBTQ Christians and their allies. \nContact Wil Forrest at 412\,260\,2554 or Wil@coh.net to learn more and to attend.
URL:https://cathedralofhope.org/event/lgbtq-ministry-spiritual-gathering-16/
LOCATION:East Liberty Presbyterian Church\, 116 S. Highland Avenue\, Pittsburgh\, PA\, 15206\, United States
CATEGORIES:LGBTQIA+
ATTACH;FMTTYPE=image/jpeg:https://cathedralofhope.org/wp-content/uploads/2018/08/IMG_4747.jpg
ORGANIZER;CN="Wil Forrest":MAILTO:Wil@coh.net
GEO:40.4609708;-79.9253554
X-APPLE-STRUCTURED-LOCATION;VALUE=URI;X-ADDRESS=East Liberty Presbyterian Church 116 S. Highland Avenue Pittsburgh PA 15206 United States;X-APPLE-RADIUS=500;X-TITLE=116 S. Highland Avenue:geo:-79.9253554,40.4609708
END:VEVENT
END:VCALENDAR