BEGIN:VCALENDAR
VERSION:2.0
PRODID:-//East Liberty Presbyterian Church - ECPv6.15.20//NONSGML v1.0//EN
CALSCALE:GREGORIAN
METHOD:PUBLISH
X-ORIGINAL-URL:https://cathedralofhope.org
X-WR-CALDESC:Events for East Liberty Presbyterian Church
REFRESH-INTERVAL;VALUE=DURATION:PT1H
X-Robots-Tag:noindex
X-PUBLISHED-TTL:PT1H
BEGIN:VTIMEZONE
TZID:America/Halifax
BEGIN:DAYLIGHT
TZOFFSETFROM:-0400
TZOFFSETTO:-0300
TZNAME:ADT
DTSTART:20130310T060000
END:DAYLIGHT
BEGIN:STANDARD
TZOFFSETFROM:-0300
TZOFFSETTO:-0400
TZNAME:AST
DTSTART:20131103T050000
END:STANDARD
BEGIN:DAYLIGHT
TZOFFSETFROM:-0400
TZOFFSETTO:-0300
TZNAME:ADT
DTSTART:20140309T060000
END:DAYLIGHT
BEGIN:STANDARD
TZOFFSETFROM:-0300
TZOFFSETTO:-0400
TZNAME:AST
DTSTART:20141102T050000
END:STANDARD
BEGIN:DAYLIGHT
TZOFFSETFROM:-0400
TZOFFSETTO:-0300
TZNAME:ADT
DTSTART:20150308T060000
END:DAYLIGHT
BEGIN:STANDARD
TZOFFSETFROM:-0300
TZOFFSETTO:-0400
TZNAME:AST
DTSTART:20151101T050000
END:STANDARD
END:VTIMEZONE
BEGIN:VEVENT
DTSTART;TZID=America/Halifax:20141012T140000
DTEND;TZID=America/Halifax:20141012T163000
DTSTAMP:20260423T170825
CREATED:20141007T173949Z
LAST-MODIFIED:20141007T173949Z
UID:10002298-1413122400-1413131400@cathedralofhope.org
SUMMARY:HAT Co Field Trip: Macbeth @ PICT
DESCRIPTION:HAT Co ensemble members are invited to see Pittsburgh Irish and Classical Theatre’s “Macbeth” (the focus of our Shakespeare studies last year). Check out PICT’s website for short\, informative video clips by director\, Alan Stanford\, about the play. \n“Something wicked this way comes\,” says one witch as Macbeth approaches. As Macbeth’s ambition grows\, fueled by the prophecies of the three witches\, he and his Lady begin a campaign of devastation and death to secure the throne of Scotland. How far will they go to satisfy the blossoming wickedness in their hearts? Shakespeare’s shortest tragedy will leave you breathless. If you enjoy Game of Thrones\, Macbeth will thrill you. \nThe play runs 2 hrs\, with a 15 minute intermission. There is a talk-back discussion and Q&A session after that you should all stay for. \nThanks to Tickets for Kids and Pittsburgh Irish and Classical Theatre for giving us this great opportunity to see “Macbeth.”
URL:https://cathedralofhope.org/event/hat-co-field-trip-macbeth-pict/
LOCATION:Charity Randall Theatre – PICT\, 4301 Forbes Avenue\, Pittsburgh\, PA\, 15213\, United States
CATEGORIES:Hope Academy
ATTACH;FMTTYPE=image/jpeg:https://cathedralofhope.org/wp-content/uploads/2014/10/PICT-Macbeth-Image.jpg
GEO:40.4436473;-79.9526396
X-APPLE-STRUCTURED-LOCATION;VALUE=URI;X-ADDRESS=Charity Randall Theatre – PICT 4301 Forbes Avenue Pittsburgh PA 15213 United States;X-APPLE-RADIUS=500;X-TITLE=4301 Forbes Avenue:geo:-79.9526396,40.4436473
END:VEVENT
END:VCALENDAR