BEGIN:VCALENDAR
VERSION:2.0
PRODID:-//East Liberty Presbyterian Church - ECPv6.15.20//NONSGML v1.0//EN
CALSCALE:GREGORIAN
METHOD:PUBLISH
X-WR-CALNAME:East Liberty Presbyterian Church
X-ORIGINAL-URL:https://cathedralofhope.org
X-WR-CALDESC:Events for East Liberty Presbyterian Church
REFRESH-INTERVAL;VALUE=DURATION:PT1H
X-Robots-Tag:noindex
X-PUBLISHED-TTL:PT1H
BEGIN:VTIMEZONE
TZID:America/New_York
BEGIN:DAYLIGHT
TZOFFSETFROM:-0500
TZOFFSETTO:-0400
TZNAME:EDT
DTSTART:20220313T070000
END:DAYLIGHT
BEGIN:STANDARD
TZOFFSETFROM:-0400
TZOFFSETTO:-0500
TZNAME:EST
DTSTART:20221106T060000
END:STANDARD
BEGIN:DAYLIGHT
TZOFFSETFROM:-0500
TZOFFSETTO:-0400
TZNAME:EDT
DTSTART:20230312T070000
END:DAYLIGHT
BEGIN:STANDARD
TZOFFSETFROM:-0400
TZOFFSETTO:-0500
TZNAME:EST
DTSTART:20231105T060000
END:STANDARD
BEGIN:DAYLIGHT
TZOFFSETFROM:-0500
TZOFFSETTO:-0400
TZNAME:EDT
DTSTART:20240310T070000
END:DAYLIGHT
BEGIN:STANDARD
TZOFFSETFROM:-0400
TZOFFSETTO:-0500
TZNAME:EST
DTSTART:20241103T060000
END:STANDARD
BEGIN:DAYLIGHT
TZOFFSETFROM:-0500
TZOFFSETTO:-0400
TZNAME:EDT
DTSTART:20250309T070000
END:DAYLIGHT
BEGIN:STANDARD
TZOFFSETFROM:-0400
TZOFFSETTO:-0500
TZNAME:EST
DTSTART:20251102T060000
END:STANDARD
BEGIN:DAYLIGHT
TZOFFSETFROM:-0500
TZOFFSETTO:-0400
TZNAME:EDT
DTSTART:20260308T070000
END:DAYLIGHT
BEGIN:STANDARD
TZOFFSETFROM:-0400
TZOFFSETTO:-0500
TZNAME:EST
DTSTART:20261101T060000
END:STANDARD
BEGIN:DAYLIGHT
TZOFFSETFROM:-0500
TZOFFSETTO:-0400
TZNAME:EDT
DTSTART:20270314T070000
END:DAYLIGHT
BEGIN:STANDARD
TZOFFSETFROM:-0400
TZOFFSETTO:-0500
TZNAME:EST
DTSTART:20271107T060000
END:STANDARD
END:VTIMEZONE
BEGIN:VTIMEZONE
TZID:America/Halifax
BEGIN:DAYLIGHT
TZOFFSETFROM:-0400
TZOFFSETTO:-0300
TZNAME:ADT
DTSTART:20140309T060000
END:DAYLIGHT
BEGIN:STANDARD
TZOFFSETFROM:-0300
TZOFFSETTO:-0400
TZNAME:AST
DTSTART:20141102T050000
END:STANDARD
BEGIN:DAYLIGHT
TZOFFSETFROM:-0400
TZOFFSETTO:-0300
TZNAME:ADT
DTSTART:20150308T060000
END:DAYLIGHT
BEGIN:STANDARD
TZOFFSETFROM:-0300
TZOFFSETTO:-0400
TZNAME:AST
DTSTART:20151101T050000
END:STANDARD
BEGIN:DAYLIGHT
TZOFFSETFROM:-0400
TZOFFSETTO:-0300
TZNAME:ADT
DTSTART:20160313T060000
END:DAYLIGHT
BEGIN:STANDARD
TZOFFSETFROM:-0300
TZOFFSETTO:-0400
TZNAME:AST
DTSTART:20161106T050000
END:STANDARD
BEGIN:DAYLIGHT
TZOFFSETFROM:-0400
TZOFFSETTO:-0300
TZNAME:ADT
DTSTART:20170312T060000
END:DAYLIGHT
BEGIN:STANDARD
TZOFFSETFROM:-0300
TZOFFSETTO:-0400
TZNAME:AST
DTSTART:20171105T050000
END:STANDARD
BEGIN:DAYLIGHT
TZOFFSETFROM:-0400
TZOFFSETTO:-0300
TZNAME:ADT
DTSTART:20180311T060000
END:DAYLIGHT
BEGIN:STANDARD
TZOFFSETFROM:-0300
TZOFFSETTO:-0400
TZNAME:AST
DTSTART:20181104T050000
END:STANDARD
BEGIN:DAYLIGHT
TZOFFSETFROM:-0400
TZOFFSETTO:-0300
TZNAME:ADT
DTSTART:20190310T060000
END:DAYLIGHT
BEGIN:STANDARD
TZOFFSETFROM:-0300
TZOFFSETTO:-0400
TZNAME:AST
DTSTART:20191103T050000
END:STANDARD
BEGIN:DAYLIGHT
TZOFFSETFROM:-0400
TZOFFSETTO:-0300
TZNAME:ADT
DTSTART:20200308T060000
END:DAYLIGHT
BEGIN:STANDARD
TZOFFSETFROM:-0300
TZOFFSETTO:-0400
TZNAME:AST
DTSTART:20201101T050000
END:STANDARD
BEGIN:DAYLIGHT
TZOFFSETFROM:-0400
TZOFFSETTO:-0300
TZNAME:ADT
DTSTART:20210314T060000
END:DAYLIGHT
BEGIN:STANDARD
TZOFFSETFROM:-0300
TZOFFSETTO:-0400
TZNAME:AST
DTSTART:20211107T050000
END:STANDARD
BEGIN:DAYLIGHT
TZOFFSETFROM:-0400
TZOFFSETTO:-0300
TZNAME:ADT
DTSTART:20220313T060000
END:DAYLIGHT
BEGIN:STANDARD
TZOFFSETFROM:-0300
TZOFFSETTO:-0400
TZNAME:AST
DTSTART:20221106T050000
END:STANDARD
BEGIN:DAYLIGHT
TZOFFSETFROM:-0400
TZOFFSETTO:-0300
TZNAME:ADT
DTSTART:20230312T060000
END:DAYLIGHT
BEGIN:STANDARD
TZOFFSETFROM:-0300
TZOFFSETTO:-0400
TZNAME:AST
DTSTART:20231105T050000
END:STANDARD
BEGIN:DAYLIGHT
TZOFFSETFROM:-0400
TZOFFSETTO:-0300
TZNAME:ADT
DTSTART:20240310T060000
END:DAYLIGHT
BEGIN:STANDARD
TZOFFSETFROM:-0300
TZOFFSETTO:-0400
TZNAME:AST
DTSTART:20241103T050000
END:STANDARD
END:VTIMEZONE
BEGIN:VEVENT
DTSTART;TZID=America/New_York:20260419T120000
DTEND;TZID=America/New_York:20260419T140000
DTSTAMP:20260423T121023
CREATED:20250820T195543Z
LAST-MODIFIED:20250820T212122Z
UID:10006399-1776600000-1776607200@cathedralofhope.org
SUMMARY:Family Bowling
DESCRIPTION:Families with children and teens are invited to stay after Sanctuary worship on Sunday\, April 19 for pizza and bowling. RSVP to Sara Hackett. \nThe Children and Families Ministry team is hosting monthly family events to foster a caring community of families at ELPC\, where kids and adults feel loved and empowered to explore their faith. \nSave the Date for our Monthly Family Events …\nMay 17 -Service Projects around the Church
URL:https://cathedralofhope.org/event/family-bowling-3/
LOCATION:ELPC – Bowling Alley
CATEGORIES:Children & Youth,Featured Events
ATTACH;FMTTYPE=image/png:https://cathedralofhope.org/wp-content/uploads/2025/08/variety-show-3.png
END:VEVENT
BEGIN:VEVENT
DTSTART;TZID=America/New_York:20251019T120000
DTEND;TZID=America/New_York:20251019T140000
DTSTAMP:20260423T121023
CREATED:20250820T165335Z
LAST-MODIFIED:20250820T212219Z
UID:10007320-1760875200-1760882400@cathedralofhope.org
SUMMARY:Family Bowling
DESCRIPTION:Families with children and teens are invited to stay after Sanctuary worship on Sunday\, October 19 for pizza and bowling. RSVP to Sara Hackett. \nThe Children and Families Ministry team is hosting monthly family events to foster a caring community of families at ELPC\, where kids and adults feel loved and empowered to explore their faith. \nSave the Date for our Monthly Family Events …\nNovember 16 – Arts and Crafts\nDecember 21 – Hot Chocolate following the Christmas Pageant\nJanuary 18 – Host a Variety Show at the Nursing Home\nFebruary 15 – Make Dog Treats for Ellie’s Pet Pantry\nMarch 15 – Board Games with the Happy Wanderers\nApril 19 – Bowling at ELPC\nMay 17 -Service Projects around the Church
URL:https://cathedralofhope.org/event/family-bowling-2/
LOCATION:ELPC – Bowling Alley
CATEGORIES:Children & Youth,Featured Events
ATTACH;FMTTYPE=image/png:https://cathedralofhope.org/wp-content/uploads/2025/08/variety-show-3.png
END:VEVENT
BEGIN:VEVENT
DTSTART;TZID=America/New_York:20241013T120000
DTEND;TZID=America/New_York:20241013T140000
DTSTAMP:20260423T121023
CREATED:20240104T120254Z
LAST-MODIFIED:20240715T130415Z
UID:10006781-1728820800-1728828000@cathedralofhope.org
SUMMARY:Family Bowling
DESCRIPTION:Families with children and teens are invited to stay after Sanctuary worship on Sunday\, October 13\, for pizza and bowling. RSVP to Sara Hackett. \nThe Children and Families Ministry team is hosting monthly family events to foster a caring community of families at ELPC\, where kids and adults feel loved and empowered to explore their faith.
URL:https://cathedralofhope.org/event/family-bowling/
LOCATION:ELPC – Bowling Alley
CATEGORIES:Children & Youth,Featured Events
ATTACH;FMTTYPE=image/png:https://cathedralofhope.org/wp-content/uploads/2024/01/tween-bowling-Jan-1-web.png
END:VEVENT
BEGIN:VEVENT
DTSTART;TZID=America/Halifax:20231118T160000
DTEND;TZID=America/Halifax:20231118T180000
DTSTAMP:20260423T121023
CREATED:20231109T150041Z
LAST-MODIFIED:20231109T183718Z
UID:10003688-1700323200-1700330400@cathedralofhope.org
SUMMARY:Tween Bowling
DESCRIPTION:Youth in grades 4–6 are invited to an afternoon of bowling\, pizza\, and fun. Friends are welcome! \nRSVP to Sara Hackett by email or 412.673.2926
URL:https://cathedralofhope.org/event/tween-bowling/
LOCATION:ELPC – Bowling Alley
CATEGORIES:Children & Youth,Featured Events
ATTACH;FMTTYPE=image/jpeg:https://cathedralofhope.org/wp-content/uploads/2018/12/tween-bowling-e1672428826479.jpg
ORGANIZER;CN="Sara Hackett":MAILTO:SaraH@coh.net
END:VEVENT
BEGIN:VEVENT
DTSTART;TZID=America/New_York:20230210T200000
DTEND;TZID=America/New_York:20230210T213000
DTSTAMP:20260423T121023
CREATED:20230125T171041Z
LAST-MODIFIED:20230125T171041Z
UID:10004822-1676059200-1676064600@cathedralofhope.org
SUMMARY:See Derek Webb in Concert
DESCRIPTION:All are invited to join the Young Adult Ministry on Friday\, February 10\, 8 pm\, for Derek Webb in concert in the ELPC Bowling Alley. \nA member of contemporary Christian band Caedmon’s Call\, Derek’s newest solo work\, The Jesus Hypothesis\, takes another look at doubt and faith in beautiful ways. Tickets can be purchased online at DerekWebb.com.
URL:https://cathedralofhope.org/event/see-derek-webb-in-concert/
LOCATION:ELPC – Bowling Alley
CATEGORIES:Featured Events,Young Adult
ATTACH;FMTTYPE=image/jpeg:https://cathedralofhope.org/wp-content/uploads/2023/01/eb4ba0d198339749b0be73e5a7a6c8d23bd8ae2a8f1ea9653b65333c7ae89eb2-rimg-w960-h480-gmir.jpg
END:VEVENT
BEGIN:VEVENT
DTSTART;TZID=America/Halifax:20151016T183000
DTEND;TZID=America/Halifax:20151016T200000
DTSTAMP:20260423T121023
CREATED:20150910T210626Z
LAST-MODIFIED:20150910T210626Z
UID:10002768-1445020200-1445025600@cathedralofhope.org
SUMMARY:Tween Bowling
DESCRIPTION:Youth in grades 4–6 are invited to a night of bowling\, pizza\, trophies\, and fun. Please bring a beverage or snack to share\, and your friends! RSVP to\nSara Hackett by email or 412.673.2926
URL:https://cathedralofhope.org/event/tween-bowling-2/
LOCATION:ELPC – Bowling Alley
CATEGORIES:Children & Youth
ATTACH;FMTTYPE=image/png:https://cathedralofhope.org/wp-content/uploads/2015/01/bowling.png
END:VEVENT
END:VCALENDAR