BEGIN:VCALENDAR
VERSION:2.0
PRODID:-//East Liberty Presbyterian Church - ECPv6.15.20//NONSGML v1.0//EN
CALSCALE:GREGORIAN
METHOD:PUBLISH
X-ORIGINAL-URL:https://cathedralofhope.org
X-WR-CALDESC:Events for East Liberty Presbyterian Church
REFRESH-INTERVAL;VALUE=DURATION:PT1H
X-Robots-Tag:noindex
X-PUBLISHED-TTL:PT1H
BEGIN:VTIMEZONE
TZID:America/New_York
BEGIN:DAYLIGHT
TZOFFSETFROM:-0500
TZOFFSETTO:-0400
TZNAME:EDT
DTSTART:20180311T070000
END:DAYLIGHT
BEGIN:STANDARD
TZOFFSETFROM:-0400
TZOFFSETTO:-0500
TZNAME:EST
DTSTART:20181104T060000
END:STANDARD
BEGIN:DAYLIGHT
TZOFFSETFROM:-0500
TZOFFSETTO:-0400
TZNAME:EDT
DTSTART:20190310T070000
END:DAYLIGHT
BEGIN:STANDARD
TZOFFSETFROM:-0400
TZOFFSETTO:-0500
TZNAME:EST
DTSTART:20191103T060000
END:STANDARD
BEGIN:DAYLIGHT
TZOFFSETFROM:-0500
TZOFFSETTO:-0400
TZNAME:EDT
DTSTART:20200308T070000
END:DAYLIGHT
BEGIN:STANDARD
TZOFFSETFROM:-0400
TZOFFSETTO:-0500
TZNAME:EST
DTSTART:20201101T060000
END:STANDARD
BEGIN:DAYLIGHT
TZOFFSETFROM:-0500
TZOFFSETTO:-0400
TZNAME:EDT
DTSTART:20210314T070000
END:DAYLIGHT
BEGIN:STANDARD
TZOFFSETFROM:-0400
TZOFFSETTO:-0500
TZNAME:EST
DTSTART:20211107T060000
END:STANDARD
BEGIN:DAYLIGHT
TZOFFSETFROM:-0500
TZOFFSETTO:-0400
TZNAME:EDT
DTSTART:20220313T070000
END:DAYLIGHT
BEGIN:STANDARD
TZOFFSETFROM:-0400
TZOFFSETTO:-0500
TZNAME:EST
DTSTART:20221106T060000
END:STANDARD
BEGIN:DAYLIGHT
TZOFFSETFROM:-0500
TZOFFSETTO:-0400
TZNAME:EDT
DTSTART:20230312T070000
END:DAYLIGHT
BEGIN:STANDARD
TZOFFSETFROM:-0400
TZOFFSETTO:-0500
TZNAME:EST
DTSTART:20231105T060000
END:STANDARD
END:VTIMEZONE
BEGIN:VTIMEZONE
TZID:America/Halifax
BEGIN:DAYLIGHT
TZOFFSETFROM:-0400
TZOFFSETTO:-0300
TZNAME:ADT
DTSTART:20140309T060000
END:DAYLIGHT
BEGIN:STANDARD
TZOFFSETFROM:-0300
TZOFFSETTO:-0400
TZNAME:AST
DTSTART:20141102T050000
END:STANDARD
BEGIN:DAYLIGHT
TZOFFSETFROM:-0400
TZOFFSETTO:-0300
TZNAME:ADT
DTSTART:20150308T060000
END:DAYLIGHT
BEGIN:STANDARD
TZOFFSETFROM:-0300
TZOFFSETTO:-0400
TZNAME:AST
DTSTART:20151101T050000
END:STANDARD
BEGIN:DAYLIGHT
TZOFFSETFROM:-0400
TZOFFSETTO:-0300
TZNAME:ADT
DTSTART:20160313T060000
END:DAYLIGHT
BEGIN:STANDARD
TZOFFSETFROM:-0300
TZOFFSETTO:-0400
TZNAME:AST
DTSTART:20161106T050000
END:STANDARD
BEGIN:DAYLIGHT
TZOFFSETFROM:-0400
TZOFFSETTO:-0300
TZNAME:ADT
DTSTART:20170312T060000
END:DAYLIGHT
BEGIN:STANDARD
TZOFFSETFROM:-0300
TZOFFSETTO:-0400
TZNAME:AST
DTSTART:20171105T050000
END:STANDARD
BEGIN:DAYLIGHT
TZOFFSETFROM:-0400
TZOFFSETTO:-0300
TZNAME:ADT
DTSTART:20180311T060000
END:DAYLIGHT
BEGIN:STANDARD
TZOFFSETFROM:-0300
TZOFFSETTO:-0400
TZNAME:AST
DTSTART:20181104T050000
END:STANDARD
BEGIN:DAYLIGHT
TZOFFSETFROM:-0400
TZOFFSETTO:-0300
TZNAME:ADT
DTSTART:20190310T060000
END:DAYLIGHT
BEGIN:STANDARD
TZOFFSETFROM:-0300
TZOFFSETTO:-0400
TZNAME:AST
DTSTART:20191103T050000
END:STANDARD
END:VTIMEZONE
BEGIN:VEVENT
DTSTART;TZID=America/New_York:20220226T110000
DTEND;TZID=America/New_York:20220226T120000
DTSTAMP:20260423T170441
CREATED:20220126T175612Z
LAST-MODIFIED:20220203T142016Z
UID:10006692-1645873200-1645876800@cathedralofhope.org
SUMMARY:Forest Bathing
DESCRIPTION:What is forest bathing? Well\, it is not a nature walk or a fitness hike. It is a 60-minute\, guided visit into the natural world\, where we will slow down\, awaken our senses\, and nurture our relationship with nature. Through a series of invitations\, we will find our own ways of connecting with nature as we relax into being present with the sights\, smells\, sounds\, textures\, and tastes of the woods. There’s no rush and there’s no right or wrong way to do it. \nJoin us in ELPC’s Courtyard to explore the hidden beauty found within the space’s architecture\, plants\, trees\, and flowers—even amidst winter. We will have a fire for warming as we slowly reflect on the beauty of the natural world. We will sit a lot and move slowly\, so dress appropriately and consider bringing a blanket. \nRSVP to Pastor BJ by Wednesday\, February 23.
URL:https://cathedralofhope.org/event/forest-bathing/
LOCATION:ELPC – Courtyard\, 116 South Highland Avenue\, Pittsburgh\, 15206\, United States
CATEGORIES:Educational & Spiritual Life,Featured Events
ATTACH;FMTTYPE=image/jpeg:https://cathedralofhope.org/wp-content/uploads/2022/01/img_forest-bathing-web.jpg
GEO:40.4609708;-79.9253554
X-APPLE-STRUCTURED-LOCATION;VALUE=URI;X-ADDRESS=ELPC – Courtyard 116 South Highland Avenue Pittsburgh 15206 United States;X-APPLE-RADIUS=500;X-TITLE=116 South Highland Avenue:geo:-79.9253554,40.4609708
END:VEVENT
BEGIN:VEVENT
DTSTART;TZID=America/New_York:20190822T180000
DTEND;TZID=America/New_York:20190822T193000
DTSTAMP:20260423T170441
CREATED:20190717T140200Z
LAST-MODIFIED:20190717T140200Z
UID:10004856-1566496800-1566502200@cathedralofhope.org
SUMMARY:2019 Summer Celebration of Service
DESCRIPTION:As a faithful ELPC servant\, YOU are invited to our Annual Summer Celebration of Service and Volunteers in the Courtyard (or Social Hall if it’s raining). \nHamburgers\, hot dogs\, veggie burgers\, fixings\, and drinks will be provided. Please plan to bring either a side dish or dessert to serve about 8 people. If you want your container back\, please label it with your last name. No need to bring serving utensils. \nYou do not need to RSVP. Just come and attend a relaxing evening of fellowship\, food\, and appreciation! Let us serve you in thanks and gratitude!
URL:https://cathedralofhope.org/event/2019-summer-celebration-of-service/
LOCATION:ELPC – Courtyard\, 116 South Highland Avenue\, Pittsburgh\, 15206\, United States
CATEGORIES:Featured Events
ATTACH;FMTTYPE=image/jpeg:https://cathedralofhope.org/wp-content/uploads/2019/07/img_picnic-2018.jpg
ORGANIZER;CN="Kelli Booher":MAILTO:KelliB@coh.net
GEO:40.4609708;-79.9253554
X-APPLE-STRUCTURED-LOCATION;VALUE=URI;X-ADDRESS=ELPC – Courtyard 116 South Highland Avenue Pittsburgh 15206 United States;X-APPLE-RADIUS=500;X-TITLE=116 South Highland Avenue:geo:-79.9253554,40.4609708
END:VEVENT
BEGIN:VEVENT
DTSTART;TZID=America/New_York:20190602T160000
DTEND;TZID=America/New_York:20190602T180000
DTSTAMP:20260423T170441
CREATED:20190510T132319Z
LAST-MODIFIED:20190510T132319Z
UID:10004839-1559491200-1559498400@cathedralofhope.org
SUMMARY:RCC Pride Concert 2019
DESCRIPTION:Join Renaissance City Choir for their 2019 Pride Concert: A Celebration of our Community of Singers! \nWe celebrate together\, the large and small victories of life. \nFor this year’s Pride Concert\, RCC will bring together music that our community has called on in the past and calls on today to celebrate the fabulous uniqueness who we are as a LGBTQIA+ community and as diverse group of individuals. \nIn addition to stories from our choir members about love\, community\, supporting one another\, and coming out\, some of the songs we will sing for you will be “Born This Way\,” “We Are Family\,” “You Will Be Found\,” “Bridge Over Troubled Water\,” “Let Me Be a Seal Upon Your Heart\,” “Sure on This Shining Night\,” and “You Can’t Stop the Beat.” \nTicket Information\nTickets are $25; $10 for students. Visit RCCPittsburgh.com for details.
URL:https://cathedralofhope.org/event/rcc-pride-concert-2019/2019-06-02/
LOCATION:ELPC – Courtyard\, 116 South Highland Avenue\, Pittsburgh\, 15206\, United States
CATEGORIES:Community,Featured Events,LGBTQIA+,Music
ATTACH;FMTTYPE=image/jpeg:https://cathedralofhope.org/wp-content/uploads/2019/05/rcc-pride2019-fb.jpg
GEO:40.4609708;-79.9253554
X-APPLE-STRUCTURED-LOCATION;VALUE=URI;X-ADDRESS=ELPC – Courtyard 116 South Highland Avenue Pittsburgh 15206 United States;X-APPLE-RADIUS=500;X-TITLE=116 South Highland Avenue:geo:-79.9253554,40.4609708
END:VEVENT
BEGIN:VEVENT
DTSTART;TZID=America/New_York:20190601T160000
DTEND;TZID=America/New_York:20190601T180000
DTSTAMP:20260423T170441
CREATED:20190510T132319Z
LAST-MODIFIED:20190510T132319Z
UID:10004838-1559404800-1559412000@cathedralofhope.org
SUMMARY:RCC Pride Concert 2019
DESCRIPTION:Join Renaissance City Choir for their 2019 Pride Concert: A Celebration of our Community of Singers! \nWe celebrate together\, the large and small victories of life. \nFor this year’s Pride Concert\, RCC will bring together music that our community has called on in the past and calls on today to celebrate the fabulous uniqueness who we are as a LGBTQIA+ community and as diverse group of individuals. \nIn addition to stories from our choir members about love\, community\, supporting one another\, and coming out\, some of the songs we will sing for you will be “Born This Way\,” “We Are Family\,” “You Will Be Found\,” “Bridge Over Troubled Water\,” “Let Me Be a Seal Upon Your Heart\,” “Sure on This Shining Night\,” and “You Can’t Stop the Beat.” \nTicket Information\nTickets are $25; $10 for students. Visit RCCPittsburgh.com for details.
URL:https://cathedralofhope.org/event/rcc-pride-concert-2019/2019-06-01/
LOCATION:ELPC – Courtyard\, 116 South Highland Avenue\, Pittsburgh\, 15206\, United States
CATEGORIES:Community,Featured Events,LGBTQIA+,Music
ATTACH;FMTTYPE=image/jpeg:https://cathedralofhope.org/wp-content/uploads/2019/05/rcc-pride2019-fb.jpg
GEO:40.4609708;-79.9253554
X-APPLE-STRUCTURED-LOCATION;VALUE=URI;X-ADDRESS=ELPC – Courtyard 116 South Highland Avenue Pittsburgh 15206 United States;X-APPLE-RADIUS=500;X-TITLE=116 South Highland Avenue:geo:-79.9253554,40.4609708
END:VEVENT
BEGIN:VEVENT
DTSTART;TZID=America/Halifax:20180823T180000
DTEND;TZID=America/Halifax:20180823T193000
DTSTAMP:20260423T170441
CREATED:20180723T211315Z
LAST-MODIFIED:20180723T211315Z
UID:10003604-1535047200-1535052600@cathedralofhope.org
SUMMARY:Summer Celebration of Service and Volunteers
DESCRIPTION:All who have served this year (that’s you) are invited to take a break from serving and celebrate our year of service together.  Hot dogs\, hamburgers and veggie burgers will be provided.  Please bring a side dish or dessert to share with about 6-8 folks (no serving utensil necessary and please label your container with your last name if you want it back).  No need to RSVP\, just come. \n 
URL:https://cathedralofhope.org/event/summer-celebration-of-service-and-volunteers/
LOCATION:ELPC – Courtyard\, 116 South Highland Avenue\, Pittsburgh\, 15206\, United States
CATEGORIES:Church Life,Featured Events
ORGANIZER;CN="Jim DiGiorgio":MAILTO:JimD@coh.net
GEO:40.4609708;-79.9253554
X-APPLE-STRUCTURED-LOCATION;VALUE=URI;X-ADDRESS=ELPC – Courtyard 116 South Highland Avenue Pittsburgh 15206 United States;X-APPLE-RADIUS=500;X-TITLE=116 South Highland Avenue:geo:-79.9253554,40.4609708
END:VEVENT
BEGIN:VEVENT
DTSTART;TZID=America/Halifax:20180728T130000
DTEND;TZID=America/Halifax:20180728T170000
DTSTAMP:20260423T170441
CREATED:20160628T124543Z
LAST-MODIFIED:20160628T124543Z
UID:10003039-1532782800-1532797200@cathedralofhope.org
SUMMARY:Black Pride Pittsburgh
DESCRIPTION:We are pleased to welcome Black Pride Pittsburgh to ELPC as they hold their Family Game Day! \nAll ELPC friends and members are welcome and needed to fully demonstrate that ELPC is a place for all of God’s people! \nTo learn more or to get involved in ELPC’s LGBTQ Ministry\, contact Wil Forrest at Wil@coh.net or 412.441.3800 x114. \n  \nGOD CREATED YOU. GOD LOVES YOU.\nBE YOURSELF.
URL:https://cathedralofhope.org/event/black-pride-pittsburgh/
LOCATION:ELPC – Courtyard\, 116 South Highland Avenue\, Pittsburgh\, 15206\, United States
CATEGORIES:Community,Featured Events,LGBTQIA+,Mission Activities
ATTACH;FMTTYPE=image/jpeg:https://cathedralofhope.org/wp-content/uploads/2016/06/Circle-of-Faith-2016-021.jpg
GEO:40.4609708;-79.9253554
X-APPLE-STRUCTURED-LOCATION;VALUE=URI;X-ADDRESS=ELPC – Courtyard 116 South Highland Avenue Pittsburgh 15206 United States;X-APPLE-RADIUS=500;X-TITLE=116 South Highland Avenue:geo:-79.9253554,40.4609708
END:VEVENT
BEGIN:VEVENT
DTSTART;TZID=America/Halifax:20180706T190000
DTEND;TZID=America/Halifax:20180706T230000
DTSTAMP:20260423T170441
CREATED:20180416T012312Z
LAST-MODIFIED:20180416T012312Z
UID:10003548-1530903600-1530918000@cathedralofhope.org
SUMMARY:First Friday @ the Garth
DESCRIPTION:Let’s enjoy an evening in the ELPC Garth (courtyard) as we share fellowship and watch a movie outside together around the firepit.  Smores included.  Bring movie options to choose from.  This is a TRAIL young adult event.
URL:https://cathedralofhope.org/event/first-friday-the-garth-2/
LOCATION:ELPC – Courtyard\, 116 South Highland Avenue\, Pittsburgh\, 15206\, United States
CATEGORIES:Community,Young Adult
ORGANIZER;CN="Jim DiGiorgio":MAILTO:JimD@coh.net
GEO:40.4609708;-79.9253554
X-APPLE-STRUCTURED-LOCATION;VALUE=URI;X-ADDRESS=ELPC – Courtyard 116 South Highland Avenue Pittsburgh 15206 United States;X-APPLE-RADIUS=500;X-TITLE=116 South Highland Avenue:geo:-79.9253554,40.4609708
END:VEVENT
BEGIN:VEVENT
DTSTART;TZID=America/Halifax:20180603T160000
DTEND;TZID=America/Halifax:20180603T173000
DTSTAMP:20260423T170441
CREATED:20160602T133358Z
LAST-MODIFIED:20160602T133358Z
UID:10002547-1528041600-1528047000@cathedralofhope.org
SUMMARY:RCC Pride Concert
DESCRIPTION:Renaissance City Choir (RCC)\, Western Pennsylvania’s only LGBTQA (Lesbian\, Gay\, Bisexual\, Transgender\, Queer\, and Allies) choral group\, will be at ELPC to present their 2018 Pride Concert\, Joined by Heart: Love Will Always Win! \nTogether nothing is impossible. Communities throughout time have realized that by coming together they can change the world. As we walk through our day\, or sing through our concert\, or march the streets of our city\, we must remember the power that we have when we are joined by heart. With this concert\, we especially honor our transgender\, gender-queer\, gender non-binary\, and two-spirit family members\, who help to teach us that there are more colors in our crayon box than just pink and blue. Love will always win against hate and fear. \nTickets will be available at the door or at RCCPittsburgh.com. A sign language interpreter will be present. \nIf the weather is rainy\, the performance will take place in the Social Hall. \n\nThe choir is an Artist in Residence at ELPC\, where they rehearse and perform. RCC affirms and celebrates LGBTQ+ identity through the unifying power of music. \n 
URL:https://cathedralofhope.org/event/rcc-pride-concert/2018-06-03/
LOCATION:ELPC – Courtyard\, 116 South Highland Avenue\, Pittsburgh\, 15206\, United States
CATEGORIES:Community,Concerts,LGBTQIA+,Music
ATTACH;FMTTYPE=image/jpeg:https://cathedralofhope.org/wp-content/uploads/2016/06/rcc-pride2018-web.jpg
GEO:40.4609708;-79.9253554
X-APPLE-STRUCTURED-LOCATION;VALUE=URI;X-ADDRESS=ELPC – Courtyard 116 South Highland Avenue Pittsburgh 15206 United States;X-APPLE-RADIUS=500;X-TITLE=116 South Highland Avenue:geo:-79.9253554,40.4609708
END:VEVENT
BEGIN:VEVENT
DTSTART;TZID=America/Halifax:20180602T160000
DTEND;TZID=America/Halifax:20180602T173000
DTSTAMP:20260423T170441
CREATED:20160602T133358Z
LAST-MODIFIED:20160602T133358Z
UID:10002546-1527955200-1527960600@cathedralofhope.org
SUMMARY:RCC Pride Concert
DESCRIPTION:Renaissance City Choir (RCC)\, Western Pennsylvania’s only LGBTQA (Lesbian\, Gay\, Bisexual\, Transgender\, Queer\, and Allies) choral group\, will be at ELPC to present their 2018 Pride Concert\, Joined by Heart: Love Will Always Win! \nTogether nothing is impossible. Communities throughout time have realized that by coming together they can change the world. As we walk through our day\, or sing through our concert\, or march the streets of our city\, we must remember the power that we have when we are joined by heart. With this concert\, we especially honor our transgender\, gender-queer\, gender non-binary\, and two-spirit family members\, who help to teach us that there are more colors in our crayon box than just pink and blue. Love will always win against hate and fear. \nTickets will be available at the door or at RCCPittsburgh.com. A sign language interpreter will be present. \nIf the weather is rainy\, the performance will take place in the Social Hall. \n\nThe choir is an Artist in Residence at ELPC\, where they rehearse and perform. RCC affirms and celebrates LGBTQ+ identity through the unifying power of music. \n 
URL:https://cathedralofhope.org/event/rcc-pride-concert/2018-06-02/
LOCATION:ELPC – Courtyard\, 116 South Highland Avenue\, Pittsburgh\, 15206\, United States
CATEGORIES:Community,Concerts,LGBTQIA+,Music
ATTACH;FMTTYPE=image/jpeg:https://cathedralofhope.org/wp-content/uploads/2016/06/rcc-pride2018-web.jpg
GEO:40.4609708;-79.9253554
X-APPLE-STRUCTURED-LOCATION;VALUE=URI;X-ADDRESS=ELPC – Courtyard 116 South Highland Avenue Pittsburgh 15206 United States;X-APPLE-RADIUS=500;X-TITLE=116 South Highland Avenue:geo:-79.9253554,40.4609708
END:VEVENT
BEGIN:VEVENT
DTSTART;TZID=America/Halifax:20170924T120000
DTEND;TZID=America/Halifax:20170924T160000
DTSTAMP:20260423T170441
CREATED:20170818T211050Z
LAST-MODIFIED:20170818T211050Z
UID:10003286-1506254400-1506268800@cathedralofhope.org
SUMMARY:YAM Lunch and More
DESCRIPTION:Let’s spend the day together after worship by sharing lunch at the church picnic.  While we eat and visit\, we will choose between a few options of afternoon activities before heading out together for an afternoon of fun.  Be prepared for anything!  This is a young adult event.
URL:https://cathedralofhope.org/event/yam-lunch-and-more/
LOCATION:ELPC – Courtyard\, 116 South Highland Avenue\, Pittsburgh\, 15206\, United States
CATEGORIES:Young Adult
ORGANIZER;CN="Jim DiGiorgio":MAILTO:JimD@coh.net
GEO:40.4609708;-79.9253554
X-APPLE-STRUCTURED-LOCATION;VALUE=URI;X-ADDRESS=ELPC – Courtyard 116 South Highland Avenue Pittsburgh 15206 United States;X-APPLE-RADIUS=500;X-TITLE=116 South Highland Avenue:geo:-79.9253554,40.4609708
END:VEVENT
BEGIN:VEVENT
DTSTART;TZID=America/Halifax:20170824T180000
DTEND;TZID=America/Halifax:20170824T193000
DTSTAMP:20260423T170441
CREATED:20170512T010400Z
LAST-MODIFIED:20170512T010400Z
UID:10003232-1503597600-1503603000@cathedralofhope.org
SUMMARY:Summer Celebration of Service Picnic
DESCRIPTION:You are invited whether you have served once this year or all the time! This is a picnic to celebrate the amazing service our congregation has done this year. Come to the courtyard with a side dish or a dessert to share. Burgers\, veggie burgers\, and hot dogs with the fixings will be supplied as will drinks. Plan to stop in for 5 minutes or stay the entire time. \nIf you served by teaching\, sweating\, reading\, restoring\, singing\, marching\, folding\, listening\, sewing\, meeting\, planning\, playing\, painting\, mowing or some other way\, please stop by. \n  \n[one_half]\n \n[/one_half][one_half_last]\n \n[/one_half_last]\n[one_half]\n \n[/one_half][one_half_last]\n \n[/one_half_last]\n[one_half]\n\n[/one_half][one_half_last]\n \n[/one_half_last]
URL:https://cathedralofhope.org/event/summer-celebration-service-picnic/
LOCATION:ELPC – Courtyard\, 116 South Highland Avenue\, Pittsburgh\, 15206\, United States
CATEGORIES:Church Life,Featured Events
ATTACH;FMTTYPE=image/jpeg:https://cathedralofhope.org/wp-content/uploads/2016/02/P1320939.jpg
ORGANIZER;CN="Jim DiGiorgio":MAILTO:JimD@coh.net
GEO:40.4609708;-79.9253554
X-APPLE-STRUCTURED-LOCATION;VALUE=URI;X-ADDRESS=ELPC – Courtyard 116 South Highland Avenue Pittsburgh 15206 United States;X-APPLE-RADIUS=500;X-TITLE=116 South Highland Avenue:geo:-79.9253554,40.4609708
END:VEVENT
BEGIN:VEVENT
DTSTART;TZID=America/Halifax:20170512T190000
DTEND;TZID=America/Halifax:20170512T230000
DTSTAMP:20260423T170441
CREATED:20161207T003404Z
LAST-MODIFIED:20161207T003404Z
UID:10002617-1494615600-1494630000@cathedralofhope.org
SUMMARY:(Not) First Friday @ Inside Out
DESCRIPTION:For the first time TRAIL meets on the second Friday of the month as we go inside to be outside while we enjoy an evening in the ELPC Garth (courtyard) as we share food\, fellowship and watch a movie together.\nThis is a TRAIL young adult event.
URL:https://cathedralofhope.org/event/not-first-friday-inside/
LOCATION:ELPC – Courtyard\, 116 South Highland Avenue\, Pittsburgh\, 15206\, United States
CATEGORIES:Young Adult
ORGANIZER;CN="Jim DiGiorgio":MAILTO:JimD@coh.net
GEO:40.4609708;-79.9253554
X-APPLE-STRUCTURED-LOCATION;VALUE=URI;X-ADDRESS=ELPC – Courtyard 116 South Highland Avenue Pittsburgh 15206 United States;X-APPLE-RADIUS=500;X-TITLE=116 South Highland Avenue:geo:-79.9253554,40.4609708
END:VEVENT
BEGIN:VEVENT
DTSTART;TZID=America/Halifax:20160818T180000
DTEND;TZID=America/Halifax:20160818T193000
DTSTAMP:20260423T170441
CREATED:20140821T140645Z
LAST-MODIFIED:20140821T140645Z
UID:10002493-1471543200-1471548600@cathedralofhope.org
SUMMARY:Summer Celebration of Service
DESCRIPTION:All who have served in our church and community this year are invited to our annual Summer Celebration of Service and Volunteers in the Courtyard. Main dish and drinks will be provided\, but you may bring a side dish or dessert to share. Please label containers with your name. No serving utensils are needed. Come for a few minutes or stay the entire time. \nFor more info\, contact Wil Forrest at Wil@coh.net.
URL:https://cathedralofhope.org/event/summer-celebration-service/
LOCATION:ELPC – Courtyard\, 116 South Highland Avenue\, Pittsburgh\, 15206\, United States
CATEGORIES:Featured Events,Mission Activities
ATTACH;FMTTYPE=image/jpeg:https://cathedralofhope.org/wp-content/uploads/2014/08/IMG_6736.jpg
ORGANIZER;CN="Jim DiGiorgio":MAILTO:JimD@coh.net
GEO:40.4609708;-79.9253554
X-APPLE-STRUCTURED-LOCATION;VALUE=URI;X-ADDRESS=ELPC – Courtyard 116 South Highland Avenue Pittsburgh 15206 United States;X-APPLE-RADIUS=500;X-TITLE=116 South Highland Avenue:geo:-79.9253554,40.4609708
END:VEVENT
BEGIN:VEVENT
DTSTART;TZID=America/Halifax:20160814T130000
DTEND;TZID=America/Halifax:20160814T170000
DTSTAMP:20260423T170441
CREATED:20160808T150542Z
LAST-MODIFIED:20160808T150542Z
UID:10003055-1471179600-1471194000@cathedralofhope.org
SUMMARY:Inner Awareness Through Hebrew Chant
DESCRIPTION:In the half-day workshop\, 6 Passages for Re-Opening Inner Awareness through Hebrew Chant\, led by David Goldstein\, we will learn 6 passages for staying focused on what is important in our lives. We will deeply engage in sacred texts from the Hebrew Bible and other sources\, connect energetically with one another\, and gain wisdom from ancient traditions. We will draw on our memory and imagination and experience the rich depth of silence after the chant. \nAlthough Hebrew is the primary language of the texts that are chanted\, this workshop is fully inclusive and is open to people of all faith traditions. No prior knowledge of chanting\, meditation\, or the Hebrew language is required. \nThe cost is $30 in advance\, $35 at the door. Click here to register.
URL:https://cathedralofhope.org/event/inner-awareness-hebrew-chant/
LOCATION:ELPC – Courtyard\, 116 South Highland Avenue\, Pittsburgh\, 15206\, United States
CATEGORIES:Community,Featured Events
GEO:40.4609708;-79.9253554
X-APPLE-STRUCTURED-LOCATION;VALUE=URI;X-ADDRESS=ELPC – Courtyard 116 South Highland Avenue Pittsburgh 15206 United States;X-APPLE-RADIUS=500;X-TITLE=116 South Highland Avenue:geo:-79.9253554,40.4609708
END:VEVENT
BEGIN:VEVENT
DTSTART;TZID=America/Halifax:20160805T190000
DTEND;TZID=America/Halifax:20160805T220000
DTSTAMP:20260423T170441
CREATED:20160525T002549Z
LAST-MODIFIED:20160525T002549Z
UID:10002540-1470423600-1470434400@cathedralofhope.org
SUMMARY:First Friday @ Hebrew Chant
DESCRIPTION:Come connect with the Divine and with each other as we join our voices in Hebrew Chant.  As led by David Goldstein\, we will experience this form of meditation that opens the doors of the heart.  We will be outside in the Garth\, weather permitting. \nTo attend\, RSVP at https://www.facebook.com/events/1744223442460356/ \nThis is a TRAIL young adult event.
URL:https://cathedralofhope.org/event/first-friday-hebrew-chant/
LOCATION:ELPC – Courtyard\, 116 South Highland Avenue\, Pittsburgh\, 15206\, United States
CATEGORIES:Community,Young Adult
ORGANIZER;CN="Jim DiGiorgio":MAILTO:JimD@coh.net
GEO:40.4609708;-79.9253554
X-APPLE-STRUCTURED-LOCATION;VALUE=URI;X-ADDRESS=ELPC – Courtyard 116 South Highland Avenue Pittsburgh 15206 United States;X-APPLE-RADIUS=500;X-TITLE=116 South Highland Avenue:geo:-79.9253554,40.4609708
END:VEVENT
BEGIN:VEVENT
DTSTART;TZID=America/Halifax:20150807T190000
DTEND;TZID=America/Halifax:20150807T220000
DTSTAMP:20260423T170441
CREATED:20150421T230833Z
LAST-MODIFIED:20150421T230833Z
UID:10002654-1438974000-1438984800@cathedralofhope.org
SUMMARY:First Friday @ the Garth
DESCRIPTION:Come enjoy a relaxing evening with friends\, food\, and fire! Bring a side dish or dessert to share; burgers\, dogs\, and drinks provided. We will grill and eat\, then have a campfire complete with s’mores and campfire songs. \nThis is a TRAIL young adult event.
URL:https://cathedralofhope.org/event/first-friday-the-garth/
LOCATION:ELPC – Courtyard\, 116 South Highland Avenue\, Pittsburgh\, 15206\, United States
CATEGORIES:Church Life,Community,Young Adult
ATTACH;FMTTYPE=image/jpeg:https://cathedralofhope.org/wp-content/uploads/2015/04/Taize-Pilgrimage-of-Trust-to-Chicago-007.jpg
ORGANIZER;CN="Jim DiGiorgio":MAILTO:JimD@coh.net
GEO:40.4609708;-79.9253554
X-APPLE-STRUCTURED-LOCATION;VALUE=URI;X-ADDRESS=ELPC – Courtyard 116 South Highland Avenue Pittsburgh 15206 United States;X-APPLE-RADIUS=500;X-TITLE=116 South Highland Avenue:geo:-79.9253554,40.4609708
END:VEVENT
END:VCALENDAR