BEGIN:VCALENDAR
VERSION:2.0
PRODID:-//East Liberty Presbyterian Church - ECPv6.15.20//NONSGML v1.0//EN
CALSCALE:GREGORIAN
METHOD:PUBLISH
X-WR-CALNAME:East Liberty Presbyterian Church
X-ORIGINAL-URL:https://cathedralofhope.org
X-WR-CALDESC:Events for East Liberty Presbyterian Church
REFRESH-INTERVAL;VALUE=DURATION:PT1H
X-Robots-Tag:noindex
X-PUBLISHED-TTL:PT1H
BEGIN:VTIMEZONE
TZID:America/Halifax
BEGIN:DAYLIGHT
TZOFFSETFROM:-0400
TZOFFSETTO:-0300
TZNAME:ADT
DTSTART:20140309T060000
END:DAYLIGHT
BEGIN:STANDARD
TZOFFSETFROM:-0300
TZOFFSETTO:-0400
TZNAME:AST
DTSTART:20141102T050000
END:STANDARD
BEGIN:DAYLIGHT
TZOFFSETFROM:-0400
TZOFFSETTO:-0300
TZNAME:ADT
DTSTART:20150308T060000
END:DAYLIGHT
BEGIN:STANDARD
TZOFFSETFROM:-0300
TZOFFSETTO:-0400
TZNAME:AST
DTSTART:20151101T050000
END:STANDARD
BEGIN:DAYLIGHT
TZOFFSETFROM:-0400
TZOFFSETTO:-0300
TZNAME:ADT
DTSTART:20160313T060000
END:DAYLIGHT
BEGIN:STANDARD
TZOFFSETFROM:-0300
TZOFFSETTO:-0400
TZNAME:AST
DTSTART:20161106T050000
END:STANDARD
END:VTIMEZONE
BEGIN:VEVENT
DTSTART;TZID=America/Halifax:20151108T121500
DTEND;TZID=America/Halifax:20151108T150000
DTSTAMP:20260423T192052
CREATED:20151023T132236Z
LAST-MODIFIED:20151023T132236Z
UID:10002792-1446984900-1446994800@cathedralofhope.org
SUMMARY:Images of God
DESCRIPTION:What is your image of God like? We will explore how we think about who God is following Sanctuary worship in the Music Room. We will begin by looking at how God is portrayed in our culture—both secular and Christian. \nFirst\, on Sun.\, Nov. 8\, we will look at representations of God in the movies. We will watch movie clips and discuss how God is portrayed\, and how that image agrees or disagrees with our personal image of God. \nThen on Sun.\, Nov. 15\, come together for a good old fashioned hymn sing—with a twist. We will take a look at the images of God in our favorite hymns and how those hymns may have shaped our own beliefs.
URL:https://cathedralofhope.org/event/images-of-god/
LOCATION:ELPC – Music Room\, 116 South Highland Avenue\, Pittsburgh\, PA\, 15206\, United States
CATEGORIES:Educational & Spiritual Life,Featured Events
GEO:40.461033;-79.925503
X-APPLE-STRUCTURED-LOCATION;VALUE=URI;X-ADDRESS=ELPC – Music Room 116 South Highland Avenue Pittsburgh PA 15206 United States;X-APPLE-RADIUS=500;X-TITLE=116 South Highland Avenue:geo:-79.925503,40.461033
END:VEVENT
BEGIN:VEVENT
DTSTART;TZID=America/Halifax:20151101T121500
DTEND;TZID=America/Halifax:20151101T140000
DTSTAMP:20260423T192052
CREATED:20150823T135951Z
LAST-MODIFIED:20150823T135951Z
UID:10002742-1446380100-1446386400@cathedralofhope.org
SUMMARY:The Great Exchange: Play
DESCRIPTION:Folks of all ages are invited to this fun\, interactive event where we—together\, across the generations—will explore some fun and important discussion questions through exploring our theme of “play.” \nWe will have a simple lunch while sharing our life experience and stories with one another. No prep necessary\, just come and enjoy! \nSponored by Young Adult Ministry & the Health Ministry.
URL:https://cathedralofhope.org/event/the-great-exchange-play/
LOCATION:ELPC – Music Room\, 116 South Highland Avenue\, Pittsburgh\, PA\, 15206\, United States
CATEGORIES:Children & Youth,Featured Events,Special Events,Young Adult
ATTACH;FMTTYPE=image/jpeg:https://cathedralofhope.org/wp-content/uploads/2015/08/The-Great-Exhange-April-2015-006.jpg
ORGANIZER;CN="Jim DiGiorgio":MAILTO:JimD@coh.net
GEO:40.461033;-79.925503
X-APPLE-STRUCTURED-LOCATION;VALUE=URI;X-ADDRESS=ELPC – Music Room 116 South Highland Avenue Pittsburgh PA 15206 United States;X-APPLE-RADIUS=500;X-TITLE=116 South Highland Avenue:geo:-79.925503,40.461033
END:VEVENT
BEGIN:VEVENT
DTSTART;TZID=America/Halifax:20150712T170000
DTEND;TZID=America/Halifax:20150712T190000
DTSTAMP:20260423T192052
CREATED:20150701T145314Z
LAST-MODIFIED:20150701T145314Z
UID:10002676-1436720400-1436727600@cathedralofhope.org
SUMMARY:Pastor Randy to Malawi: Worship & Reception
DESCRIPTION:As part of Pittsburgh Presbytery’s longstanding relationship with Presbyterians in Malawi\, Pastor Randy will be part of a group visiting Malawi from July 14–29. This group\, sponsored by the Presbytery’s International Partnership\, also will include three delegates from sister congregations in South Sudan. ELPC has a direct relationship with the rural church in Balaka\, Malawi\, which Pastor Randy will get to visit. He also will learn more about this landlocked nation in central Africa\, and bring greetings to congregations in the Synod of Blantyre. \nThe Malawi trip participants will be dedicated at a special worship service at ELPC at 6 pm on Sun.\, July 12\, preceded by a reception at 5 pm\, in the third floor Music Room. \nPlease keep Pastor Randy in your prayers as he shares the love of Christ overseas on behalf of our church. Prayer calendars are available for Randy’s trip to Malawi.
URL:https://cathedralofhope.org/event/pastor-randy-to-malawi-worship-reception/
LOCATION:ELPC – Music Room\, 116 South Highland Avenue\, Pittsburgh\, PA\, 15206\, United States
CATEGORIES:Featured Events,Worship Services
ATTACH;FMTTYPE=image/jpeg:https://cathedralofhope.org/wp-content/uploads/2015/07/brick_line_jul_2013.jpg
GEO:40.461033;-79.925503
X-APPLE-STRUCTURED-LOCATION;VALUE=URI;X-ADDRESS=ELPC – Music Room 116 South Highland Avenue Pittsburgh PA 15206 United States;X-APPLE-RADIUS=500;X-TITLE=116 South Highland Avenue:geo:-79.925503,40.461033
END:VEVENT
BEGIN:VEVENT
DTSTART;TZID=America/Halifax:20150524T084500
DTEND;TZID=America/Halifax:20150524T094500
DTSTAMP:20260423T192052
CREATED:20140515T224640Z
LAST-MODIFIED:20140515T224640Z
UID:10002405-1432457100-1432460700@cathedralofhope.org
SUMMARY:Pentecost Sunday Journey Worship
DESCRIPTION:Today we celebrate the birth of the church universal. Remember to wear red to church! \nThis service is held in the music room on the third floor. Join us for a lively service of spirit\, hope\, and praise in which we encounter God’s word in a fresh\, compelling way. The blending of contemporary music\, Gospel songs and hymns\, introspective worship and interactive communal praise helps to reflect the diverse\, creative spirit that is at the heart of ELPC. The service is led by the Rev. Patrice Fowler-Searcy\, the Rev. Heather T. Schoenewolf\, and the Rev. Dr. Randall K. Bush. \nSEE DETAILS FOR THIS WEEK’S WORSHIP SERVICES HERE.
URL:https://cathedralofhope.org/event/journey-worship-2-2015-05-24/
LOCATION:ELPC – Music Room\, 116 South Highland Avenue\, Pittsburgh\, PA\, 15206\, United States
CATEGORIES:Worship Services
ATTACH;FMTTYPE=image/jpeg:https://cathedralofhope.org/wp-content/uploads/2013/11/journey.jpg
GEO:40.461033;-79.925503
X-APPLE-STRUCTURED-LOCATION;VALUE=URI;X-ADDRESS=ELPC – Music Room 116 South Highland Avenue Pittsburgh PA 15206 United States;X-APPLE-RADIUS=500;X-TITLE=116 South Highland Avenue:geo:-79.925503,40.461033
END:VEVENT
BEGIN:VEVENT
DTSTART;TZID=America/Halifax:20150419T123000
DTEND;TZID=America/Halifax:20150419T143000
DTSTAMP:20260423T192052
CREATED:20141230T223805Z
LAST-MODIFIED:20141230T223805Z
UID:10002569-1429446600-1429453800@cathedralofhope.org
SUMMARY:The Great Exchange: Dreams
DESCRIPTION:Folks of all ages are invited to this fun\, interactive event where we together across the generations will explore some fun and important discussion questions through exploring our dreams.  We will have a simple lunch while sharing our life experience and stories with one another.  No prep necessary\, just come and enjoy!
URL:https://cathedralofhope.org/event/great-exchange-dreams/
LOCATION:ELPC – Music Room\, 116 South Highland Avenue\, Pittsburgh\, PA\, 15206\, United States
CATEGORIES:Children & Youth,Church Life,Featured Events,Young Adult
ATTACH;FMTTYPE=image/jpeg:https://cathedralofhope.org/wp-content/uploads/2014/12/img_great-exchange.jpg
ORGANIZER;CN="Jim DiGiorgio":MAILTO:JimD@coh.net
GEO:40.461033;-79.925503
X-APPLE-STRUCTURED-LOCATION;VALUE=URI;X-ADDRESS=ELPC – Music Room 116 South Highland Avenue Pittsburgh PA 15206 United States;X-APPLE-RADIUS=500;X-TITLE=116 South Highland Avenue:geo:-79.925503,40.461033
END:VEVENT
END:VCALENDAR