BEGIN:VCALENDAR
VERSION:2.0
PRODID:-//East Liberty Presbyterian Church - ECPv6.15.20//NONSGML v1.0//EN
CALSCALE:GREGORIAN
METHOD:PUBLISH
X-WR-CALNAME:East Liberty Presbyterian Church
X-ORIGINAL-URL:https://cathedralofhope.org
X-WR-CALDESC:Events for East Liberty Presbyterian Church
REFRESH-INTERVAL;VALUE=DURATION:PT1H
X-Robots-Tag:noindex
X-PUBLISHED-TTL:PT1H
BEGIN:VTIMEZONE
TZID:America/New_York
BEGIN:DAYLIGHT
TZOFFSETFROM:-0500
TZOFFSETTO:-0400
TZNAME:EDT
DTSTART:20210314T070000
END:DAYLIGHT
BEGIN:STANDARD
TZOFFSETFROM:-0400
TZOFFSETTO:-0500
TZNAME:EST
DTSTART:20211107T060000
END:STANDARD
BEGIN:DAYLIGHT
TZOFFSETFROM:-0500
TZOFFSETTO:-0400
TZNAME:EDT
DTSTART:20220313T070000
END:DAYLIGHT
BEGIN:STANDARD
TZOFFSETFROM:-0400
TZOFFSETTO:-0500
TZNAME:EST
DTSTART:20221106T060000
END:STANDARD
BEGIN:DAYLIGHT
TZOFFSETFROM:-0500
TZOFFSETTO:-0400
TZNAME:EDT
DTSTART:20230312T070000
END:DAYLIGHT
BEGIN:STANDARD
TZOFFSETFROM:-0400
TZOFFSETTO:-0500
TZNAME:EST
DTSTART:20231105T060000
END:STANDARD
END:VTIMEZONE
BEGIN:VEVENT
DTSTART;TZID=America/New_York:20220913T080000
DTEND;TZID=America/New_York:20220913T082000
DTSTAMP:20260425T132024
CREATED:20220715T121047Z
LAST-MODIFIED:20240313T135046Z
UID:10003782-1663056000-1663057200@cathedralofhope.org
SUMMARY:Online Prayer Service
DESCRIPTION:ELPC offers an online prayer group each Tuesday morning\, hosted by ELPC member Steve Evrard. These 20-minute sessions feature scripture readings\, responsive prayer\, and interactive dialogue. All are welcome at this opportunity for fellowship and prayer. \nJoin us by clicking the link below\, or you may call in by dialing 929.205.6099. Enter meeting ID 896 9680 6662 and passcode 116 when prompted. \nJoin via Zoom
URL:https://cathedralofhope.org/event/online-prayer-service/2022-09-13/
LOCATION:ELPC – Online\, 116 South Highland Avenue\, Pittsburgh\, PA\, 15206\, United States
CATEGORIES:Church Life
END:VEVENT
BEGIN:VEVENT
DTSTART;TZID=America/New_York:20220906T080000
DTEND;TZID=America/New_York:20220906T082000
DTSTAMP:20260425T132024
CREATED:20220715T121047Z
LAST-MODIFIED:20240313T135046Z
UID:10003781-1662451200-1662452400@cathedralofhope.org
SUMMARY:Online Prayer Service
DESCRIPTION:ELPC offers an online prayer group each Tuesday morning\, hosted by ELPC member Steve Evrard. These 20-minute sessions feature scripture readings\, responsive prayer\, and interactive dialogue. All are welcome at this opportunity for fellowship and prayer. \nJoin us by clicking the link below\, or you may call in by dialing 929.205.6099. Enter meeting ID 896 9680 6662 and passcode 116 when prompted. \nJoin via Zoom
URL:https://cathedralofhope.org/event/online-prayer-service/2022-09-06/
LOCATION:ELPC – Online\, 116 South Highland Avenue\, Pittsburgh\, PA\, 15206\, United States
CATEGORIES:Church Life
END:VEVENT
BEGIN:VEVENT
DTSTART;TZID=America/New_York:20220830T080000
DTEND;TZID=America/New_York:20220830T082000
DTSTAMP:20260425T132024
CREATED:20220715T121047Z
LAST-MODIFIED:20240313T135046Z
UID:10003780-1661846400-1661847600@cathedralofhope.org
SUMMARY:Online Prayer Service
DESCRIPTION:ELPC offers an online prayer group each Tuesday morning\, hosted by ELPC member Steve Evrard. These 20-minute sessions feature scripture readings\, responsive prayer\, and interactive dialogue. All are welcome at this opportunity for fellowship and prayer. \nJoin us by clicking the link below\, or you may call in by dialing 929.205.6099. Enter meeting ID 896 9680 6662 and passcode 116 when prompted. \nJoin via Zoom
URL:https://cathedralofhope.org/event/online-prayer-service/2022-08-30/
LOCATION:ELPC – Online\, 116 South Highland Avenue\, Pittsburgh\, PA\, 15206\, United States
CATEGORIES:Church Life
END:VEVENT
BEGIN:VEVENT
DTSTART;TZID=America/New_York:20220826T180000
DTEND;TZID=America/New_York:20220826T210000
DTSTAMP:20260425T132024
CREATED:20220803T132514Z
LAST-MODIFIED:20220823T205339Z
UID:10006796-1661536800-1661547600@cathedralofhope.org
SUMMARY:YAM's Virtual Happy Hour
DESCRIPTION:Let’s get together for a Virtual Happy Hour on Friday\, August 26\, 6–9 pm! \nSo many of us have lots of responsibilities and we need a moment to exhale and relax. Why not at our Virtual Happy Hour? \nPlan on joining us with your favorite beverage\, and we’ll get to know one another in anticipation of the start of the Church School year. \n  \nJoin via Zoom
URL:https://cathedralofhope.org/event/yams-virtual-happy-hour/
LOCATION:ELPC – Online\, 116 South Highland Avenue\, Pittsburgh\, PA\, 15206\, United States
CATEGORIES:Featured Events,Young Adult
ORGANIZER;CN="Derail Holcomb":MAILTO:DerailH@coh.net
END:VEVENT
BEGIN:VEVENT
DTSTART;TZID=America/New_York:20220823T080000
DTEND;TZID=America/New_York:20220823T082000
DTSTAMP:20260425T132024
CREATED:20220715T121047Z
LAST-MODIFIED:20240313T135046Z
UID:10003779-1661241600-1661242800@cathedralofhope.org
SUMMARY:Online Prayer Service
DESCRIPTION:ELPC offers an online prayer group each Tuesday morning\, hosted by ELPC member Steve Evrard. These 20-minute sessions feature scripture readings\, responsive prayer\, and interactive dialogue. All are welcome at this opportunity for fellowship and prayer. \nJoin us by clicking the link below\, or you may call in by dialing 929.205.6099. Enter meeting ID 896 9680 6662 and passcode 116 when prompted. \nJoin via Zoom
URL:https://cathedralofhope.org/event/online-prayer-service/2022-08-23/
LOCATION:ELPC – Online\, 116 South Highland Avenue\, Pittsburgh\, PA\, 15206\, United States
CATEGORIES:Church Life
END:VEVENT
BEGIN:VEVENT
DTSTART;TZID=America/New_York:20220816T080000
DTEND;TZID=America/New_York:20220816T082000
DTSTAMP:20260425T132024
CREATED:20220715T121047Z
LAST-MODIFIED:20240313T135046Z
UID:10003778-1660636800-1660638000@cathedralofhope.org
SUMMARY:Online Prayer Service
DESCRIPTION:ELPC offers an online prayer group each Tuesday morning\, hosted by ELPC member Steve Evrard. These 20-minute sessions feature scripture readings\, responsive prayer\, and interactive dialogue. All are welcome at this opportunity for fellowship and prayer. \nJoin us by clicking the link below\, or you may call in by dialing 929.205.6099. Enter meeting ID 896 9680 6662 and passcode 116 when prompted. \nJoin via Zoom
URL:https://cathedralofhope.org/event/online-prayer-service/2022-08-16/
LOCATION:ELPC – Online\, 116 South Highland Avenue\, Pittsburgh\, PA\, 15206\, United States
CATEGORIES:Church Life
END:VEVENT
BEGIN:VEVENT
DTSTART;TZID=America/New_York:20220809T080000
DTEND;TZID=America/New_York:20220809T082000
DTSTAMP:20260425T132024
CREATED:20220715T121047Z
LAST-MODIFIED:20240313T135046Z
UID:10003777-1660032000-1660033200@cathedralofhope.org
SUMMARY:Online Prayer Service
DESCRIPTION:ELPC offers an online prayer group each Tuesday morning\, hosted by ELPC member Steve Evrard. These 20-minute sessions feature scripture readings\, responsive prayer\, and interactive dialogue. All are welcome at this opportunity for fellowship and prayer. \nJoin us by clicking the link below\, or you may call in by dialing 929.205.6099. Enter meeting ID 896 9680 6662 and passcode 116 when prompted. \nJoin via Zoom
URL:https://cathedralofhope.org/event/online-prayer-service/2022-08-09/
LOCATION:ELPC – Online\, 116 South Highland Avenue\, Pittsburgh\, PA\, 15206\, United States
CATEGORIES:Church Life
END:VEVENT
BEGIN:VEVENT
DTSTART;TZID=America/New_York:20220802T080000
DTEND;TZID=America/New_York:20220802T082000
DTSTAMP:20260425T132024
CREATED:20220715T121047Z
LAST-MODIFIED:20240313T135046Z
UID:10003776-1659427200-1659428400@cathedralofhope.org
SUMMARY:Online Prayer Service
DESCRIPTION:ELPC offers an online prayer group each Tuesday morning\, hosted by ELPC member Steve Evrard. These 20-minute sessions feature scripture readings\, responsive prayer\, and interactive dialogue. All are welcome at this opportunity for fellowship and prayer. \nJoin us by clicking the link below\, or you may call in by dialing 929.205.6099. Enter meeting ID 896 9680 6662 and passcode 116 when prompted. \nJoin via Zoom
URL:https://cathedralofhope.org/event/online-prayer-service/2022-08-02/
LOCATION:ELPC – Online\, 116 South Highland Avenue\, Pittsburgh\, PA\, 15206\, United States
CATEGORIES:Church Life
END:VEVENT
BEGIN:VEVENT
DTSTART;TZID=America/New_York:20220726T080000
DTEND;TZID=America/New_York:20220726T082000
DTSTAMP:20260425T132024
CREATED:20220715T121047Z
LAST-MODIFIED:20240313T135046Z
UID:10003775-1658822400-1658823600@cathedralofhope.org
SUMMARY:Online Prayer Service
DESCRIPTION:ELPC offers an online prayer group each Tuesday morning\, hosted by ELPC member Steve Evrard. These 20-minute sessions feature scripture readings\, responsive prayer\, and interactive dialogue. All are welcome at this opportunity for fellowship and prayer. \nJoin us by clicking the link below\, or you may call in by dialing 929.205.6099. Enter meeting ID 896 9680 6662 and passcode 116 when prompted. \nJoin via Zoom
URL:https://cathedralofhope.org/event/online-prayer-service/2022-07-26/
LOCATION:ELPC – Online\, 116 South Highland Avenue\, Pittsburgh\, PA\, 15206\, United States
CATEGORIES:Church Life
END:VEVENT
BEGIN:VEVENT
DTSTART;TZID=America/New_York:20220719T080000
DTEND;TZID=America/New_York:20220719T082000
DTSTAMP:20260425T132024
CREATED:20220715T121047Z
LAST-MODIFIED:20240313T135046Z
UID:10003774-1658217600-1658218800@cathedralofhope.org
SUMMARY:Online Prayer Service
DESCRIPTION:ELPC offers an online prayer group each Tuesday morning\, hosted by ELPC member Steve Evrard. These 20-minute sessions feature scripture readings\, responsive prayer\, and interactive dialogue. All are welcome at this opportunity for fellowship and prayer. \nJoin us by clicking the link below\, or you may call in by dialing 929.205.6099. Enter meeting ID 896 9680 6662 and passcode 116 when prompted. \nJoin via Zoom
URL:https://cathedralofhope.org/event/online-prayer-service/2022-07-19/
LOCATION:ELPC – Online\, 116 South Highland Avenue\, Pittsburgh\, PA\, 15206\, United States
CATEGORIES:Church Life
END:VEVENT
BEGIN:VEVENT
DTSTART;TZID=America/New_York:20220411T073000
DTEND;TZID=America/New_York:20220411T080000
DTSTAMP:20260425T132024
CREATED:20220302T170423Z
LAST-MODIFIED:20220302T170423Z
UID:10007343-1649662200-1649664000@cathedralofhope.org
SUMMARY:Contemplative & Centering Prayer for Lent
DESCRIPTION:During the season of Lent\, our Monday morning Contemplative Prayer will involve the reading of a Psalm and Centering Prayer (20 minutes of silence)\, in community with one another. \nClick the button below at the scheduled time to join via Zoom or call in by dialing 312.626.6799 and entering meeting ID\, 959 8065 3992. \n\nPasscode: bestill\n\nDial-in Passcode: 6787603\nJOIN VIA ZOOM
URL:https://cathedralofhope.org/event/contemplative-centering-prayer-for-lent/2022-04-11/
LOCATION:ELPC – Online\, 116 South Highland Avenue\, Pittsburgh\, PA\, 15206\, United States
CATEGORIES:Church Life,Educational & Spiritual Life
ORGANIZER;CN="Rev. BJ Woodworth":MAILTO:BJW@coh.net
END:VEVENT
BEGIN:VEVENT
DTSTART;TZID=America/New_York:20220404T073000
DTEND;TZID=America/New_York:20220404T080000
DTSTAMP:20260425T132024
CREATED:20220302T170423Z
LAST-MODIFIED:20220302T170423Z
UID:10007342-1649057400-1649059200@cathedralofhope.org
SUMMARY:Contemplative & Centering Prayer for Lent
DESCRIPTION:During the season of Lent\, our Monday morning Contemplative Prayer will involve the reading of a Psalm and Centering Prayer (20 minutes of silence)\, in community with one another. \nClick the button below at the scheduled time to join via Zoom or call in by dialing 312.626.6799 and entering meeting ID\, 959 8065 3992. \n\nPasscode: bestill\n\nDial-in Passcode: 6787603\nJOIN VIA ZOOM
URL:https://cathedralofhope.org/event/contemplative-centering-prayer-for-lent/2022-04-04/
LOCATION:ELPC – Online\, 116 South Highland Avenue\, Pittsburgh\, PA\, 15206\, United States
CATEGORIES:Church Life,Educational & Spiritual Life
ORGANIZER;CN="Rev. BJ Woodworth":MAILTO:BJW@coh.net
END:VEVENT
BEGIN:VEVENT
DTSTART;TZID=America/New_York:20220328T073000
DTEND;TZID=America/New_York:20220328T080000
DTSTAMP:20260425T132024
CREATED:20220302T170423Z
LAST-MODIFIED:20220302T170423Z
UID:10007341-1648452600-1648454400@cathedralofhope.org
SUMMARY:Contemplative & Centering Prayer for Lent
DESCRIPTION:During the season of Lent\, our Monday morning Contemplative Prayer will involve the reading of a Psalm and Centering Prayer (20 minutes of silence)\, in community with one another. \nClick the button below at the scheduled time to join via Zoom or call in by dialing 312.626.6799 and entering meeting ID\, 959 8065 3992. \n\nPasscode: bestill\n\nDial-in Passcode: 6787603\nJOIN VIA ZOOM
URL:https://cathedralofhope.org/event/contemplative-centering-prayer-for-lent/2022-03-28/
LOCATION:ELPC – Online\, 116 South Highland Avenue\, Pittsburgh\, PA\, 15206\, United States
CATEGORIES:Church Life,Educational & Spiritual Life
ORGANIZER;CN="Rev. BJ Woodworth":MAILTO:BJW@coh.net
END:VEVENT
BEGIN:VEVENT
DTSTART;TZID=America/New_York:20220321T073000
DTEND;TZID=America/New_York:20220321T080000
DTSTAMP:20260425T132024
CREATED:20220302T170423Z
LAST-MODIFIED:20220302T170423Z
UID:10007340-1647847800-1647849600@cathedralofhope.org
SUMMARY:Contemplative & Centering Prayer for Lent
DESCRIPTION:During the season of Lent\, our Monday morning Contemplative Prayer will involve the reading of a Psalm and Centering Prayer (20 minutes of silence)\, in community with one another. \nClick the button below at the scheduled time to join via Zoom or call in by dialing 312.626.6799 and entering meeting ID\, 959 8065 3992. \n\nPasscode: bestill\n\nDial-in Passcode: 6787603\nJOIN VIA ZOOM
URL:https://cathedralofhope.org/event/contemplative-centering-prayer-for-lent/2022-03-21/
LOCATION:ELPC – Online\, 116 South Highland Avenue\, Pittsburgh\, PA\, 15206\, United States
CATEGORIES:Church Life,Educational & Spiritual Life
ORGANIZER;CN="Rev. BJ Woodworth":MAILTO:BJW@coh.net
END:VEVENT
BEGIN:VEVENT
DTSTART;TZID=America/New_York:20220314T073000
DTEND;TZID=America/New_York:20220314T080000
DTSTAMP:20260425T132024
CREATED:20220302T170423Z
LAST-MODIFIED:20220302T170423Z
UID:10007339-1647243000-1647244800@cathedralofhope.org
SUMMARY:Contemplative & Centering Prayer for Lent
DESCRIPTION:During the season of Lent\, our Monday morning Contemplative Prayer will involve the reading of a Psalm and Centering Prayer (20 minutes of silence)\, in community with one another. \nClick the button below at the scheduled time to join via Zoom or call in by dialing 312.626.6799 and entering meeting ID\, 959 8065 3992. \n\nPasscode: bestill\n\nDial-in Passcode: 6787603\nJOIN VIA ZOOM
URL:https://cathedralofhope.org/event/contemplative-centering-prayer-for-lent/2022-03-14/
LOCATION:ELPC – Online\, 116 South Highland Avenue\, Pittsburgh\, PA\, 15206\, United States
CATEGORIES:Church Life,Educational & Spiritual Life
ORGANIZER;CN="Rev. BJ Woodworth":MAILTO:BJW@coh.net
END:VEVENT
BEGIN:VEVENT
DTSTART;TZID=America/New_York:20220307T073000
DTEND;TZID=America/New_York:20220307T080000
DTSTAMP:20260425T132024
CREATED:20220302T170423Z
LAST-MODIFIED:20220302T170423Z
UID:10007338-1646638200-1646640000@cathedralofhope.org
SUMMARY:Contemplative & Centering Prayer for Lent
DESCRIPTION:During the season of Lent\, our Monday morning Contemplative Prayer will involve the reading of a Psalm and Centering Prayer (20 minutes of silence)\, in community with one another. \nClick the button below at the scheduled time to join via Zoom or call in by dialing 312.626.6799 and entering meeting ID\, 959 8065 3992. \n\nPasscode: bestill\n\nDial-in Passcode: 6787603\nJOIN VIA ZOOM
URL:https://cathedralofhope.org/event/contemplative-centering-prayer-for-lent/2022-03-07/
LOCATION:ELPC – Online\, 116 South Highland Avenue\, Pittsburgh\, PA\, 15206\, United States
CATEGORIES:Church Life,Educational & Spiritual Life
ORGANIZER;CN="Rev. BJ Woodworth":MAILTO:BJW@coh.net
END:VEVENT
BEGIN:VEVENT
DTSTART;TZID=America/New_York:20220228T080000
DTEND;TZID=America/New_York:20220228T090000
DTSTAMP:20260425T132024
CREATED:20220202T174413Z
LAST-MODIFIED:20220202T174414Z
UID:10006776-1646035200-1646038800@cathedralofhope.org
SUMMARY:Yoga and Mindful Meditation
DESCRIPTION:Start your day on your mat\, stretching\, and moving your body for 45–50 minutes of gentle Hatha yoga and 10–15 minutes of guided mindful meditation. \nOur mindful movement and meditation classes in February will have gentle and slow mindful movement\, linking postures and breath\, and end with guided silent meditation. \nA donation from the heart is suggested. \nRegister on Zoom
URL:https://cathedralofhope.org/event/yoga-and-mindful-meditation/2022-02-28/
LOCATION:ELPC – Online\, 116 South Highland Avenue\, Pittsburgh\, PA\, 15206\, United States
CATEGORIES:Church Life,Educational & Spiritual Life
END:VEVENT
BEGIN:VEVENT
DTSTART;TZID=America/New_York:20220223T080000
DTEND;TZID=America/New_York:20220223T090000
DTSTAMP:20260425T132024
CREATED:20220202T174413Z
LAST-MODIFIED:20220202T174414Z
UID:10006775-1645603200-1645606800@cathedralofhope.org
SUMMARY:Yoga and Mindful Meditation
DESCRIPTION:Start your day on your mat\, stretching\, and moving your body for 45–50 minutes of gentle Hatha yoga and 10–15 minutes of guided mindful meditation. \nOur mindful movement and meditation classes in February will have gentle and slow mindful movement\, linking postures and breath\, and end with guided silent meditation. \nA donation from the heart is suggested. \nRegister on Zoom
URL:https://cathedralofhope.org/event/yoga-and-mindful-meditation/2022-02-23/
LOCATION:ELPC – Online\, 116 South Highland Avenue\, Pittsburgh\, PA\, 15206\, United States
CATEGORIES:Church Life,Educational & Spiritual Life
END:VEVENT
BEGIN:VEVENT
DTSTART;TZID=America/New_York:20220221T080000
DTEND;TZID=America/New_York:20220221T090000
DTSTAMP:20260425T132024
CREATED:20220202T174413Z
LAST-MODIFIED:20220202T174414Z
UID:10006774-1645430400-1645434000@cathedralofhope.org
SUMMARY:Yoga and Mindful Meditation
DESCRIPTION:Start your day on your mat\, stretching\, and moving your body for 45–50 minutes of gentle Hatha yoga and 10–15 minutes of guided mindful meditation. \nOur mindful movement and meditation classes in February will have gentle and slow mindful movement\, linking postures and breath\, and end with guided silent meditation. \nA donation from the heart is suggested. \nRegister on Zoom
URL:https://cathedralofhope.org/event/yoga-and-mindful-meditation/2022-02-21/
LOCATION:ELPC – Online\, 116 South Highland Avenue\, Pittsburgh\, PA\, 15206\, United States
CATEGORIES:Church Life,Educational & Spiritual Life
END:VEVENT
BEGIN:VEVENT
DTSTART;TZID=America/New_York:20220216T080000
DTEND;TZID=America/New_York:20220216T090000
DTSTAMP:20260425T132024
CREATED:20220202T174413Z
LAST-MODIFIED:20220202T174414Z
UID:10006773-1644998400-1645002000@cathedralofhope.org
SUMMARY:Yoga and Mindful Meditation
DESCRIPTION:Start your day on your mat\, stretching\, and moving your body for 45–50 minutes of gentle Hatha yoga and 10–15 minutes of guided mindful meditation. \nOur mindful movement and meditation classes in February will have gentle and slow mindful movement\, linking postures and breath\, and end with guided silent meditation. \nA donation from the heart is suggested. \nRegister on Zoom
URL:https://cathedralofhope.org/event/yoga-and-mindful-meditation/2022-02-16/
LOCATION:ELPC – Online\, 116 South Highland Avenue\, Pittsburgh\, PA\, 15206\, United States
CATEGORIES:Church Life,Educational & Spiritual Life
END:VEVENT
BEGIN:VEVENT
DTSTART;TZID=America/New_York:20220131T080000
DTEND;TZID=America/New_York:20220131T090000
DTSTAMP:20260425T132024
CREATED:20211028T144231Z
LAST-MODIFIED:20211222T205108Z
UID:10006675-1643616000-1643619600@cathedralofhope.org
SUMMARY:Yoga & Centering Prayer
DESCRIPTION:The ELPC Spiritual Life committee is excited to offer Yoga & Centering Prayer with Katrina Woodworth on Mondays and Wednesdays\, 8–9 am\, in the Sanctuary. \nThis class include breathing practices along with Hatha Yoga postures and ends with 10–15 minutes of silent Centering Prayer \nPlease register in advance. Donations accepted are accepted.\n\nCLICK TO REGISTER
URL:https://cathedralofhope.org/event/yoga-centering-prayer/2022-01-31/
LOCATION:ELPC – Online\, 116 South Highland Avenue\, Pittsburgh\, PA\, 15206\, United States
CATEGORIES:Church Life,Educational & Spiritual Life
END:VEVENT
BEGIN:VEVENT
DTSTART;TZID=America/New_York:20220126T080000
DTEND;TZID=America/New_York:20220126T090000
DTSTAMP:20260425T132024
CREATED:20211028T144231Z
LAST-MODIFIED:20211222T205108Z
UID:10006674-1643184000-1643187600@cathedralofhope.org
SUMMARY:Yoga & Centering Prayer
DESCRIPTION:The ELPC Spiritual Life committee is excited to offer Yoga & Centering Prayer with Katrina Woodworth on Mondays and Wednesdays\, 8–9 am\, in the Sanctuary. \nThis class include breathing practices along with Hatha Yoga postures and ends with 10–15 minutes of silent Centering Prayer \nPlease register in advance. Donations accepted are accepted.\n\nCLICK TO REGISTER
URL:https://cathedralofhope.org/event/yoga-centering-prayer/2022-01-26/
LOCATION:ELPC – Online\, 116 South Highland Avenue\, Pittsburgh\, PA\, 15206\, United States
CATEGORIES:Church Life,Educational & Spiritual Life
END:VEVENT
BEGIN:VEVENT
DTSTART;TZID=America/New_York:20220124T080000
DTEND;TZID=America/New_York:20220124T090000
DTSTAMP:20260425T132024
CREATED:20211028T144231Z
LAST-MODIFIED:20211222T205108Z
UID:10006673-1643011200-1643014800@cathedralofhope.org
SUMMARY:Yoga & Centering Prayer
DESCRIPTION:The ELPC Spiritual Life committee is excited to offer Yoga & Centering Prayer with Katrina Woodworth on Mondays and Wednesdays\, 8–9 am\, in the Sanctuary. \nThis class include breathing practices along with Hatha Yoga postures and ends with 10–15 minutes of silent Centering Prayer \nPlease register in advance. Donations accepted are accepted.\n\nCLICK TO REGISTER
URL:https://cathedralofhope.org/event/yoga-centering-prayer/2022-01-24/
LOCATION:ELPC – Online\, 116 South Highland Avenue\, Pittsburgh\, PA\, 15206\, United States
CATEGORIES:Church Life,Educational & Spiritual Life
END:VEVENT
BEGIN:VEVENT
DTSTART;TZID=America/New_York:20220119T080000
DTEND;TZID=America/New_York:20220119T090000
DTSTAMP:20260425T132024
CREATED:20211028T144231Z
LAST-MODIFIED:20211222T205108Z
UID:10006672-1642579200-1642582800@cathedralofhope.org
SUMMARY:Yoga & Centering Prayer
DESCRIPTION:The ELPC Spiritual Life committee is excited to offer Yoga & Centering Prayer with Katrina Woodworth on Mondays and Wednesdays\, 8–9 am\, in the Sanctuary. \nThis class include breathing practices along with Hatha Yoga postures and ends with 10–15 minutes of silent Centering Prayer \nPlease register in advance. Donations accepted are accepted.\n\nCLICK TO REGISTER
URL:https://cathedralofhope.org/event/yoga-centering-prayer/2022-01-19/
LOCATION:ELPC – Online\, 116 South Highland Avenue\, Pittsburgh\, PA\, 15206\, United States
CATEGORIES:Church Life,Educational & Spiritual Life
END:VEVENT
BEGIN:VEVENT
DTSTART;TZID=America/New_York:20220117T080000
DTEND;TZID=America/New_York:20220117T090000
DTSTAMP:20260425T132024
CREATED:20211028T144231Z
LAST-MODIFIED:20211222T205108Z
UID:10006671-1642406400-1642410000@cathedralofhope.org
SUMMARY:Yoga & Centering Prayer
DESCRIPTION:The ELPC Spiritual Life committee is excited to offer Yoga & Centering Prayer with Katrina Woodworth on Mondays and Wednesdays\, 8–9 am\, in the Sanctuary. \nThis class include breathing practices along with Hatha Yoga postures and ends with 10–15 minutes of silent Centering Prayer \nPlease register in advance. Donations accepted are accepted.\n\nCLICK TO REGISTER
URL:https://cathedralofhope.org/event/yoga-centering-prayer/2022-01-17/
LOCATION:ELPC – Online\, 116 South Highland Avenue\, Pittsburgh\, PA\, 15206\, United States
CATEGORIES:Church Life,Educational & Spiritual Life
END:VEVENT
BEGIN:VEVENT
DTSTART;TZID=America/New_York:20220116T130000
DTEND;TZID=America/New_York:20220116T140000
DTSTAMP:20260425T132024
CREATED:20220113T151714Z
LAST-MODIFIED:20220113T193223Z
UID:10006867-1642338000-1642341600@cathedralofhope.org
SUMMARY:Helping from Home | MLK Day of Service
DESCRIPTION:You are invited to join us for our MLK Day of Service: Helping from Home on Sunday\, January 16\, 1–2 pm\, via Zoom. we will be using art to educate\, build community\, and reflect on Rev. Dr. King’s call to service. \nThis is an intergenerational event and all ages are invited. \nSupplies needed: paper and envelopes\, crayons or markers\, as well as other art supplies you have for making posters or notecards. If needed\, supplies can be picked up from the church.
URL:https://cathedralofhope.org/event/helping-from-home-mlk-day-of-service/
LOCATION:ELPC – Online\, 116 South Highland Avenue\, Pittsburgh\, PA\, 15206\, United States
CATEGORIES:Children & Youth,Featured Events,Young Adult
ATTACH;FMTTYPE=image/png:https://cathedralofhope.org/wp-content/uploads/2022/01/MLK-Day-of-Service-2022.png
ORGANIZER;CN="Sara Hackett":MAILTO:SaraH@coh.net
END:VEVENT
BEGIN:VEVENT
DTSTART;TZID=America/New_York:20220112T080000
DTEND;TZID=America/New_York:20220112T090000
DTSTAMP:20260425T132024
CREATED:20211028T144231Z
LAST-MODIFIED:20211222T205108Z
UID:10006670-1641974400-1641978000@cathedralofhope.org
SUMMARY:Yoga & Centering Prayer
DESCRIPTION:The ELPC Spiritual Life committee is excited to offer Yoga & Centering Prayer with Katrina Woodworth on Mondays and Wednesdays\, 8–9 am\, in the Sanctuary. \nThis class include breathing practices along with Hatha Yoga postures and ends with 10–15 minutes of silent Centering Prayer \nPlease register in advance. Donations accepted are accepted.\n\nCLICK TO REGISTER
URL:https://cathedralofhope.org/event/yoga-centering-prayer/2022-01-12/
LOCATION:ELPC – Online\, 116 South Highland Avenue\, Pittsburgh\, PA\, 15206\, United States
CATEGORIES:Church Life,Educational & Spiritual Life
END:VEVENT
BEGIN:VEVENT
DTSTART;TZID=America/New_York:20220110T080000
DTEND;TZID=America/New_York:20220110T090000
DTSTAMP:20260425T132024
CREATED:20211028T144231Z
LAST-MODIFIED:20211222T205108Z
UID:10006669-1641801600-1641805200@cathedralofhope.org
SUMMARY:Yoga & Centering Prayer
DESCRIPTION:The ELPC Spiritual Life committee is excited to offer Yoga & Centering Prayer with Katrina Woodworth on Mondays and Wednesdays\, 8–9 am\, in the Sanctuary. \nThis class include breathing practices along with Hatha Yoga postures and ends with 10–15 minutes of silent Centering Prayer \nPlease register in advance. Donations accepted are accepted.\n\nCLICK TO REGISTER
URL:https://cathedralofhope.org/event/yoga-centering-prayer/2022-01-10/
LOCATION:ELPC – Online\, 116 South Highland Avenue\, Pittsburgh\, PA\, 15206\, United States
CATEGORIES:Church Life,Educational & Spiritual Life
END:VEVENT
BEGIN:VEVENT
DTSTART;TZID=America/New_York:20220105T080000
DTEND;TZID=America/New_York:20220105T090000
DTSTAMP:20260425T132024
CREATED:20211028T144231Z
LAST-MODIFIED:20211222T205108Z
UID:10006668-1641369600-1641373200@cathedralofhope.org
SUMMARY:Yoga & Centering Prayer
DESCRIPTION:The ELPC Spiritual Life committee is excited to offer Yoga & Centering Prayer with Katrina Woodworth on Mondays and Wednesdays\, 8–9 am\, in the Sanctuary. \nThis class include breathing practices along with Hatha Yoga postures and ends with 10–15 minutes of silent Centering Prayer \nPlease register in advance. Donations accepted are accepted.\n\nCLICK TO REGISTER
URL:https://cathedralofhope.org/event/yoga-centering-prayer/2022-01-05/
LOCATION:ELPC – Online\, 116 South Highland Avenue\, Pittsburgh\, PA\, 15206\, United States
CATEGORIES:Church Life,Educational & Spiritual Life
END:VEVENT
BEGIN:VEVENT
DTSTART;TZID=America/New_York:20220103T080000
DTEND;TZID=America/New_York:20220103T090000
DTSTAMP:20260425T132024
CREATED:20211028T144231Z
LAST-MODIFIED:20211222T205108Z
UID:10006667-1641196800-1641200400@cathedralofhope.org
SUMMARY:Yoga & Centering Prayer
DESCRIPTION:The ELPC Spiritual Life committee is excited to offer Yoga & Centering Prayer with Katrina Woodworth on Mondays and Wednesdays\, 8–9 am\, in the Sanctuary. \nThis class include breathing practices along with Hatha Yoga postures and ends with 10–15 minutes of silent Centering Prayer \nPlease register in advance. Donations accepted are accepted.\n\nCLICK TO REGISTER
URL:https://cathedralofhope.org/event/yoga-centering-prayer/2022-01-03/
LOCATION:ELPC – Online\, 116 South Highland Avenue\, Pittsburgh\, PA\, 15206\, United States
CATEGORIES:Church Life,Educational & Spiritual Life
END:VEVENT
END:VCALENDAR