BEGIN:VCALENDAR
VERSION:2.0
PRODID:-//East Liberty Presbyterian Church - ECPv6.15.20//NONSGML v1.0//EN
CALSCALE:GREGORIAN
METHOD:PUBLISH
X-ORIGINAL-URL:https://cathedralofhope.org
X-WR-CALDESC:Events for East Liberty Presbyterian Church
REFRESH-INTERVAL;VALUE=DURATION:PT1H
X-Robots-Tag:noindex
X-PUBLISHED-TTL:PT1H
BEGIN:VTIMEZONE
TZID:America/New_York
BEGIN:DAYLIGHT
TZOFFSETFROM:-0500
TZOFFSETTO:-0400
TZNAME:EDT
DTSTART:20190310T070000
END:DAYLIGHT
BEGIN:STANDARD
TZOFFSETFROM:-0400
TZOFFSETTO:-0500
TZNAME:EST
DTSTART:20191103T060000
END:STANDARD
BEGIN:DAYLIGHT
TZOFFSETFROM:-0500
TZOFFSETTO:-0400
TZNAME:EDT
DTSTART:20200308T070000
END:DAYLIGHT
BEGIN:STANDARD
TZOFFSETFROM:-0400
TZOFFSETTO:-0500
TZNAME:EST
DTSTART:20201101T060000
END:STANDARD
BEGIN:DAYLIGHT
TZOFFSETFROM:-0500
TZOFFSETTO:-0400
TZNAME:EDT
DTSTART:20210314T070000
END:DAYLIGHT
BEGIN:STANDARD
TZOFFSETFROM:-0400
TZOFFSETTO:-0500
TZNAME:EST
DTSTART:20211107T060000
END:STANDARD
BEGIN:DAYLIGHT
TZOFFSETFROM:-0500
TZOFFSETTO:-0400
TZNAME:EDT
DTSTART:20220313T070000
END:DAYLIGHT
BEGIN:STANDARD
TZOFFSETFROM:-0400
TZOFFSETTO:-0500
TZNAME:EST
DTSTART:20221106T060000
END:STANDARD
END:VTIMEZONE
BEGIN:VEVENT
DTSTART;TZID=America/New_York:20210422T160000
DTEND;TZID=America/New_York:20210422T170000
DTSTAMP:20260425T192648
CREATED:20210224T145721Z
LAST-MODIFIED:20210514T174846Z
UID:10006571-1619107200-1619110800@cathedralofhope.org
SUMMARY:Spanish as a Second Language Class
DESCRIPTION:Are you interested in learning Spanish as a second language to be able to better communicate\, know\, and love our Spanish-speaking sisters and brothers? \nIf so\, join us on Thursdays\, 4 pm\, via Zoom! \nTogether\, we will explore vocabulary\, grammar\, and conversation skills\, as well as consider language learning as a spiritual practice. \nClasses are open for all ages and levels of Spanish skills. Contact Kathryn Ophardt for more details. \nJoin via Zoom
URL:https://cathedralofhope.org/event/spanish-as-a-second-language-class/2021-04-22/
LOCATION:ELPC – Online\, 116 South Highland Avenue\, Pittsburgh\, PA\, 15206\, United States
CATEGORIES:Church Life
END:VEVENT
BEGIN:VEVENT
DTSTART;TZID=America/New_York:20210417T190000
DTEND;TZID=America/New_York:20210417T203000
DTSTAMP:20260425T192648
CREATED:20210406T004330Z
LAST-MODIFIED:20210406T004330Z
UID:10006801-1618686000-1618691400@cathedralofhope.org
SUMMARY:Tween Night | Out-Of-The-Box Building Competition
DESCRIPTION:Tweens in grades 3–6 will gather together on Zoom to make upcycled creations out of cardboard boxes. \nRSVP to Sara and start saving your biggest and best cardboard boxes.
URL:https://cathedralofhope.org/event/tween-night-out-of-the-box-building-competition/
LOCATION:ELPC – Online\, 116 South Highland Avenue\, Pittsburgh\, PA\, 15206\, United States
CATEGORIES:Children & Youth
ORGANIZER;CN="Sara Hackett":MAILTO:SaraH@coh.net
END:VEVENT
BEGIN:VEVENT
DTSTART;TZID=America/New_York:20210415T160000
DTEND;TZID=America/New_York:20210415T170000
DTSTAMP:20260425T192648
CREATED:20210224T145721Z
LAST-MODIFIED:20210514T174846Z
UID:10006570-1618502400-1618506000@cathedralofhope.org
SUMMARY:Spanish as a Second Language Class
DESCRIPTION:Are you interested in learning Spanish as a second language to be able to better communicate\, know\, and love our Spanish-speaking sisters and brothers? \nIf so\, join us on Thursdays\, 4 pm\, via Zoom! \nTogether\, we will explore vocabulary\, grammar\, and conversation skills\, as well as consider language learning as a spiritual practice. \nClasses are open for all ages and levels of Spanish skills. Contact Kathryn Ophardt for more details. \nJoin via Zoom
URL:https://cathedralofhope.org/event/spanish-as-a-second-language-class/2021-04-15/
LOCATION:ELPC – Online\, 116 South Highland Avenue\, Pittsburgh\, PA\, 15206\, United States
CATEGORIES:Church Life
END:VEVENT
BEGIN:VEVENT
DTSTART;TZID=America/New_York:20210408T183000
DTEND;TZID=America/New_York:20210408T200000
DTSTAMP:20260425T192648
CREATED:20210331T181010Z
LAST-MODIFIED:20210331T181010Z
UID:10006791-1617906600-1617912000@cathedralofhope.org
SUMMARY:YAMs | Exploring Our Ecological Identity
DESCRIPTION:“Developing a profound sense of oneself in relationship to natural and social ecosystems is necessary grounding for the difficult work of environmental advocacy.” \nThrough hands-on activities\, we will discuss and learn how to construct our ecological identity: using the direct experience of nature as a framework for our personal decisions\, professional choices\, political action\, and spiritual inquiry. We will be guided by Mitchel Thomashow’s book\, Ecological Identity: Becoming a Reflective Environmentalist. Reading is not required to participate. \nRSVP to Kelli Booher.
URL:https://cathedralofhope.org/event/yams-exploring-our-ecological-identity/
LOCATION:ELPC – Online\, 116 South Highland Avenue\, Pittsburgh\, PA\, 15206\, United States
CATEGORIES:Featured Events,Young Adult
ORGANIZER;CN="Kelli Booher":MAILTO:KelliB@coh.net
END:VEVENT
BEGIN:VEVENT
DTSTART;TZID=America/New_York:20210408T160000
DTEND;TZID=America/New_York:20210408T170000
DTSTAMP:20260425T192648
CREATED:20210224T145721Z
LAST-MODIFIED:20210514T174846Z
UID:10006569-1617897600-1617901200@cathedralofhope.org
SUMMARY:Spanish as a Second Language Class
DESCRIPTION:Are you interested in learning Spanish as a second language to be able to better communicate\, know\, and love our Spanish-speaking sisters and brothers? \nIf so\, join us on Thursdays\, 4 pm\, via Zoom! \nTogether\, we will explore vocabulary\, grammar\, and conversation skills\, as well as consider language learning as a spiritual practice. \nClasses are open for all ages and levels of Spanish skills. Contact Kathryn Ophardt for more details. \nJoin via Zoom
URL:https://cathedralofhope.org/event/spanish-as-a-second-language-class/2021-04-08/
LOCATION:ELPC – Online\, 116 South Highland Avenue\, Pittsburgh\, PA\, 15206\, United States
CATEGORIES:Church Life
END:VEVENT
BEGIN:VEVENT
DTSTART;TZID=America/New_York:20210401T160000
DTEND;TZID=America/New_York:20210401T170000
DTSTAMP:20260425T192648
CREATED:20210224T145721Z
LAST-MODIFIED:20210514T174846Z
UID:10006568-1617292800-1617296400@cathedralofhope.org
SUMMARY:Spanish as a Second Language Class
DESCRIPTION:Are you interested in learning Spanish as a second language to be able to better communicate\, know\, and love our Spanish-speaking sisters and brothers? \nIf so\, join us on Thursdays\, 4 pm\, via Zoom! \nTogether\, we will explore vocabulary\, grammar\, and conversation skills\, as well as consider language learning as a spiritual practice. \nClasses are open for all ages and levels of Spanish skills. Contact Kathryn Ophardt for more details. \nJoin via Zoom
URL:https://cathedralofhope.org/event/spanish-as-a-second-language-class/2021-04-01/
LOCATION:ELPC – Online\, 116 South Highland Avenue\, Pittsburgh\, PA\, 15206\, United States
CATEGORIES:Church Life
END:VEVENT
BEGIN:VEVENT
DTSTART;TZID=America/New_York:20210328T100000
DTEND;TZID=America/New_York:20210328T110000
DTSTAMP:20260425T192648
CREATED:20210225T203912Z
LAST-MODIFIED:20210225T203912Z
UID:10006756-1616925600-1616929200@cathedralofhope.org
SUMMARY:Kids’ Zoom
DESCRIPTION:Kids in preschool–grade 5 are invited to join Pastor Heather\, Ms. Sara\, and several of our Church School teachers on Zoom for a time to connect with one another and learn about God. \nFor more details and the Zoom link\, contact Sara Hackett.
URL:https://cathedralofhope.org/event/kids-zoom/
LOCATION:ELPC – Online\, 116 South Highland Avenue\, Pittsburgh\, PA\, 15206\, United States
CATEGORIES:Children & Youth
END:VEVENT
BEGIN:VEVENT
DTSTART;TZID=America/New_York:20210325T160000
DTEND;TZID=America/New_York:20210325T170000
DTSTAMP:20260425T192648
CREATED:20210224T145721Z
LAST-MODIFIED:20210514T174846Z
UID:10006567-1616688000-1616691600@cathedralofhope.org
SUMMARY:Spanish as a Second Language Class
DESCRIPTION:Are you interested in learning Spanish as a second language to be able to better communicate\, know\, and love our Spanish-speaking sisters and brothers? \nIf so\, join us on Thursdays\, 4 pm\, via Zoom! \nTogether\, we will explore vocabulary\, grammar\, and conversation skills\, as well as consider language learning as a spiritual practice. \nClasses are open for all ages and levels of Spanish skills. Contact Kathryn Ophardt for more details. \nJoin via Zoom
URL:https://cathedralofhope.org/event/spanish-as-a-second-language-class/2021-03-25/
LOCATION:ELPC – Online\, 116 South Highland Avenue\, Pittsburgh\, PA\, 15206\, United States
CATEGORIES:Church Life
END:VEVENT
BEGIN:VEVENT
DTSTART;TZID=America/New_York:20210321T121500
DTEND;TZID=America/New_York:20210321T140000
DTSTAMP:20260425T192648
CREATED:20210225T143441Z
LAST-MODIFIED:20210301T180046Z
UID:10006753-1616328900-1616335200@cathedralofhope.org
SUMMARY:Coffee Hour with OHM's Wayne Younger
DESCRIPTION:Wayne Younger was welcomed as Open Hand Ministries new executive director in September 2020\, and he hit the ground running to lead OHM into the next chapter of serving the needs of people seeking just\, affordable\, and generational wealth-building homeownership in the East End. \nThe ELPC Mission Board invites you to a virtual coffee hour to meet Wayne on Sunday\, March 21\, following Sanctuary worship for updates on OHM’s programs\, initiatives\, and plans for 2021\, as well as to learn how you can get involved. \nJoin Coffee Hour
URL:https://cathedralofhope.org/event/meet-wayne-younger-ohms-new-executive-director/
LOCATION:ELPC – Online\, 116 South Highland Avenue\, Pittsburgh\, PA\, 15206\, United States
CATEGORIES:Featured Events,Mission Activities
ATTACH;FMTTYPE=image/png:https://cathedralofhope.org/wp-content/uploads/2021/02/Meet-Wayne-Younger-web.png
END:VEVENT
BEGIN:VEVENT
DTSTART;TZID=America/New_York:20210319T190000
DTEND;TZID=America/New_York:20210319T210000
DTSTAMP:20260425T192648
CREATED:20210302T185620Z
LAST-MODIFIED:20210302T185620Z
UID:10003550-1616180400-1616187600@cathedralofhope.org
SUMMARY:YAM | Tiny Campfire
DESCRIPTION:Gather around your screens and join us for storytelling\, games\, and s’mores. No mosquito repellent needed. \nRSVP to Kelli Booher for this online camping experience and to receive your camping kit.
URL:https://cathedralofhope.org/event/yam-tiny-campfire/
LOCATION:ELPC – Online\, 116 South Highland Avenue\, Pittsburgh\, PA\, 15206\, United States
CATEGORIES:Featured Events,Young Adult
ORGANIZER;CN="Kelli Booher":MAILTO:KelliB@coh.net
END:VEVENT
BEGIN:VEVENT
DTSTART;TZID=America/New_York:20210318T160000
DTEND;TZID=America/New_York:20210318T170000
DTSTAMP:20260425T192648
CREATED:20210224T145721Z
LAST-MODIFIED:20210514T174846Z
UID:10006566-1616083200-1616086800@cathedralofhope.org
SUMMARY:Spanish as a Second Language Class
DESCRIPTION:Are you interested in learning Spanish as a second language to be able to better communicate\, know\, and love our Spanish-speaking sisters and brothers? \nIf so\, join us on Thursdays\, 4 pm\, via Zoom! \nTogether\, we will explore vocabulary\, grammar\, and conversation skills\, as well as consider language learning as a spiritual practice. \nClasses are open for all ages and levels of Spanish skills. Contact Kathryn Ophardt for more details. \nJoin via Zoom
URL:https://cathedralofhope.org/event/spanish-as-a-second-language-class/2021-03-18/
LOCATION:ELPC – Online\, 116 South Highland Avenue\, Pittsburgh\, PA\, 15206\, United States
CATEGORIES:Church Life
END:VEVENT
BEGIN:VEVENT
DTSTART;TZID=America/New_York:20210314T093000
DTEND;TZID=America/New_York:20210314T104500
DTSTAMP:20260425T192648
CREATED:20210224T185538Z
LAST-MODIFIED:20210303T151059Z
UID:10006748-1615714200-1615718700@cathedralofhope.org
SUMMARY:This Life That Is Ours Q&A
DESCRIPTION:Are you involved in parenting? If so\, join our Parenting Circle Church School class on Sunday\, March 14\, 9:30 am\, for a special question and answer session with Lauren Burdette\, author of This Life That Is Ours. \nThe book is a great resource for parents to “explore the ways they can encounter God within their parenting.” The class has been reading and discussing her book during their weekly class time. Prior class attendance or reading is not required. \nBurdette works as a spiritual director in Pittsburgh\, and is a mother of three. \nEmail Megan Leisher for Zoom details.
URL:https://cathedralofhope.org/event/this-life-that-is-ours-qa/
LOCATION:ELPC – Online\, 116 South Highland Avenue\, Pittsburgh\, PA\, 15206\, United States
CATEGORIES:Educational & Spiritual Life,Featured Events
ATTACH;FMTTYPE=image/png:https://cathedralofhope.org/wp-content/uploads/2021/02/This-Life-That-Is-Ours-QA-web.png
END:VEVENT
BEGIN:VEVENT
DTSTART;TZID=America/New_York:20210311T160000
DTEND;TZID=America/New_York:20210311T170000
DTSTAMP:20260425T192648
CREATED:20210224T145721Z
LAST-MODIFIED:20210514T174846Z
UID:10006565-1615478400-1615482000@cathedralofhope.org
SUMMARY:Spanish as a Second Language Class
DESCRIPTION:Are you interested in learning Spanish as a second language to be able to better communicate\, know\, and love our Spanish-speaking sisters and brothers? \nIf so\, join us on Thursdays\, 4 pm\, via Zoom! \nTogether\, we will explore vocabulary\, grammar\, and conversation skills\, as well as consider language learning as a spiritual practice. \nClasses are open for all ages and levels of Spanish skills. Contact Kathryn Ophardt for more details. \nJoin via Zoom
URL:https://cathedralofhope.org/event/spanish-as-a-second-language-class/2021-03-11/
LOCATION:ELPC – Online\, 116 South Highland Avenue\, Pittsburgh\, PA\, 15206\, United States
CATEGORIES:Church Life
END:VEVENT
BEGIN:VEVENT
DTSTART;TZID=America/New_York:20210304T160000
DTEND;TZID=America/New_York:20210304T170000
DTSTAMP:20260425T192648
CREATED:20210224T145721Z
LAST-MODIFIED:20210514T174846Z
UID:10006564-1614873600-1614877200@cathedralofhope.org
SUMMARY:Spanish as a Second Language Class
DESCRIPTION:Are you interested in learning Spanish as a second language to be able to better communicate\, know\, and love our Spanish-speaking sisters and brothers? \nIf so\, join us on Thursdays\, 4 pm\, via Zoom! \nTogether\, we will explore vocabulary\, grammar\, and conversation skills\, as well as consider language learning as a spiritual practice. \nClasses are open for all ages and levels of Spanish skills. Contact Kathryn Ophardt for more details. \nJoin via Zoom
URL:https://cathedralofhope.org/event/spanish-as-a-second-language-class/2021-03-04/
LOCATION:ELPC – Online\, 116 South Highland Avenue\, Pittsburgh\, PA\, 15206\, United States
CATEGORIES:Church Life
END:VEVENT
BEGIN:VEVENT
DTSTART;TZID=America/New_York:20210228T120000
DTEND;TZID=America/New_York:20210228T130000
DTSTAMP:20260425T192648
CREATED:20210219T144427Z
LAST-MODIFIED:20210219T144636Z
UID:10006744-1614513600-1614517200@cathedralofhope.org
SUMMARY:Book Discussion | Banished from Johnstown
DESCRIPTION:Author Cody McDevitt will be with us to discuss his book\, Banished from Johnstown: Racist Backlash in Pennsylvania. The book examines one of the worst civil rights injustices in the history of Pennsylvania\, which took place in 1923. Join us for two opportunities to engage with Cody: once during the adult Church School hour with the Seekers class\, and again following Sanctuary worship. \nBanished from Johnstown chronicles a virtually unknown\, tragic episode in African American and Johnstown history. Samuel W. Black\, director of the African American Program at the Senator John Heinz History Center states\, “Recalling the national debate about race and constitutional rights and the willingness to express dictatorial rule over Black lives by white elected officials was not just a scene in large urban areas\, but the small\, mid-American heartland as well. \nThis opportunity is sponsored by our Adult Church School classes and the Facing Systemic Racism Ministry Team. You are encouraged to read the book in preparation for the discussion. \nTo borrow a book or ask questions\, contact Pastor Patrice at PatriceFS@coh.net or Gwen Puza at gpuza9@gmail.com. \nClick the button below to join the session via Zoom\, or you may call in by dialing 301.715.8592. Enter meeting ID 876 5634 9138 and passcode 168623. \nNoon Session
URL:https://cathedralofhope.org/event/book-discussion-banished-from-johnstown-2/
LOCATION:ELPC – Online\, 116 South Highland Avenue\, Pittsburgh\, PA\, 15206\, United States
CATEGORIES:Featured Events,Mission Activities,Special Events
ATTACH;FMTTYPE=image/jpeg:https://cathedralofhope.org/wp-content/uploads/2020/11/img_banished-from-johnstown.jpg
END:VEVENT
BEGIN:VEVENT
DTSTART;TZID=America/New_York:20210228T094500
DTEND;TZID=America/New_York:20210228T104500
DTSTAMP:20260425T192648
CREATED:20201121T181247Z
LAST-MODIFIED:20210219T144632Z
UID:10006481-1614505500-1614509100@cathedralofhope.org
SUMMARY:Book Discussion | Banished from Johnstown
DESCRIPTION:Author Cody McDevitt will be with us to discuss his book\, Banished from Johnstown: Racist Backlash in Pennsylvania. The book examines one of the worst civil rights injustices in the history of Pennsylvania\, which took place in 1923. Join us for two opportunities to engage with Cody: once during the adult Church School hour with the Seekers class\, and again following Sanctuary worship. \nBanished from Johnstown chronicles a virtually unknown\, tragic episode in African American and Johnstown history. Samuel W. Black\, director of the African American Program at the Senator John Heinz History Center states\, “Recalling the national debate about race and constitutional rights and the willingness to express dictatorial rule over Black lives by white elected officials was not just a scene in large urban areas\, but the small\, mid-American heartland as well. \nThis opportunity is sponsored by our Adult Church School classes and the Facing Systemic Racism Ministry Team. You are encouraged to read the book in preparation for the discussion. \nTo borrow a book or ask questions\, contact Pastor Patrice at PatriceFS@coh.net or Gwen Puza at gpuza9@gmail.com. \nClick the button below to join the session via Zoom\, or you may call in by dialing 301.715.8592. Enter meeting ID 850 1891 1556 and passcode 498736. \nChurch School Session
URL:https://cathedralofhope.org/event/book-discussion-banished-from-johnstown/
LOCATION:ELPC – Online\, 116 South Highland Avenue\, Pittsburgh\, PA\, 15206\, United States
CATEGORIES:Featured Events,Mission Activities,Special Events
ATTACH;FMTTYPE=image/jpeg:https://cathedralofhope.org/wp-content/uploads/2020/11/img_banished-from-johnstown.jpg
END:VEVENT
BEGIN:VEVENT
DTSTART;TZID=America/New_York:20210219T190000
DTEND;TZID=America/New_York:20210219T200000
DTSTAMP:20260425T192648
CREATED:20210120T153648Z
LAST-MODIFIED:20210120T153648Z
UID:10006689-1613761200-1613764800@cathedralofhope.org
SUMMARY:Tween Night | Bingo
DESCRIPTION:Tweens in grades 3–6 will gather on Zoom to play Bingo and other games.
URL:https://cathedralofhope.org/event/tween-night-bingo/
LOCATION:ELPC – Online\, 116 South Highland Avenue\, Pittsburgh\, PA\, 15206\, United States
CATEGORIES:Children & Youth
ORGANIZER;CN="Sara Hackett":MAILTO:SaraH@coh.net
END:VEVENT
BEGIN:VEVENT
DTSTART;TZID=America/New_York:20210219T180000
DTEND;TZID=America/New_York:20210220T190000
DTSTAMP:20260425T192648
CREATED:20210112T154744Z
LAST-MODIFIED:20210126T220024Z
UID:10006642-1613757600-1613847600@cathedralofhope.org
SUMMARY:Virtual Lenten Retreat | A Journey into the Desert
DESCRIPTION:Join us for a time of personal and communal Lenten preparation. On this 24-hour retreat\, we will journey with Jesus into the desert\, considering our belovedness and the temptations we face\, as well as set our own Lenten intentions for the season. \nWe will have opening and closing Zoom time with each other and optional times in between for embodied and spoken prayers and meditations\, as well as prompts for your own time of solitude. \nRegister by emailing Norma Meyer by Sunday\, February 7. The cost is $25 and the retreat is limited to 24 participants. You can mail a check to ELPC to Norma’s attention or pay online with our PayPal account designating “Lenten Retreat” in the note. Retreat materials will be ready for you to pick up on Sunday\, February 14\, 12:30–2:30 pm. If you need them mailed or delivered\, please note that in your registration. \nQuestions? Contact the Rev. BJ Woodworth.
URL:https://cathedralofhope.org/event/virtual-lenten-retreat-a-journey-into-the-desert/
LOCATION:ELPC – Online\, 116 South Highland Avenue\, Pittsburgh\, PA\, 15206\, United States
CATEGORIES:Educational & Spiritual Life,Featured Events
ATTACH;FMTTYPE=image/png:https://cathedralofhope.org/wp-content/uploads/2021/01/img_desert.png
ORGANIZER;CN="Rev. BJ Woodworth":MAILTO:BJW@coh.net
END:VEVENT
BEGIN:VEVENT
DTSTART;TZID=America/New_York:20210217T120000
DTEND;TZID=America/New_York:20210217T130000
DTSTAMP:20260425T192648
CREATED:20210120T154705Z
LAST-MODIFIED:20210217T214947Z
UID:10006685-1613563200-1613566800@cathedralofhope.org
SUMMARY:Ash Wednesday | Zoom Service
DESCRIPTION:Ash Wednesday\, February 17\, marks the beginning of our Lenten practice. It is a time when we reflect on not only our own mortality and sinfulness\, but also on our need for a Savior. \nPastors Patrice and Heather will lead a special Zoom service with an opportunity for you to anoint yourself with ashes\, which can be picked up at the church or delivered to you. \nClick here to livestream the service\, or you may call in by dialing 312.626.6799 and entering meeting ID 889 4980 1468 when prompted. \nDownload Bulletin
URL:https://cathedralofhope.org/event/ash-wednesday-zoom-service/
LOCATION:ELPC – Online\, 116 South Highland Avenue\, Pittsburgh\, PA\, 15206\, United States
CATEGORIES:Worship Services
ATTACH;FMTTYPE=image/jpeg:https://cathedralofhope.org/wp-content/uploads/2021/01/Ash-Wed-HANDSlandscape.jpg
END:VEVENT
BEGIN:VEVENT
DTSTART;TZID=America/New_York:20210207T123000
DTEND;TZID=America/New_York:20210207T133000
DTSTAMP:20260425T192648
CREATED:20210120T153545Z
LAST-MODIFIED:20210120T153545Z
UID:10006688-1612701000-1612704600@cathedralofhope.org
SUMMARY:Youth Mission Project | Random Acts of Kindness
DESCRIPTION:Youth in grades 6–12 will gather on Zoom for some random acts of kindness. RSVP to Sara so she can get supplies to you ahead of time.
URL:https://cathedralofhope.org/event/youth-mission-project-random-acts-of-kindness/
LOCATION:ELPC – Online\, 116 South Highland Avenue\, Pittsburgh\, PA\, 15206\, United States
CATEGORIES:Children & Youth
ORGANIZER;CN="Sara Hackett":MAILTO:SaraH@coh.net
END:VEVENT
BEGIN:VEVENT
DTSTART;TZID=America/New_York:20210207T120000
DTEND;TZID=America/New_York:20210207T133000
DTSTAMP:20260425T192648
CREATED:20201229T151828Z
LAST-MODIFIED:20210113T181526Z
UID:10006577-1612699200-1612704600@cathedralofhope.org
SUMMARY:The Notorious Trial of Joe Thomas
DESCRIPTION:Join the ELPC Mission Board and Facing Systemic Racism Ministry Team following Sanctuary worship\, as Tony Norman and Steve Mellon\, journalists at the Pittsburgh Post-Gazette\, speak about their joint project\, “The Notorious Trial of Joe Thomas.” \nThis is the story of events that took place here in Pittsburgh in 1922\, regarding the treatment of a Black man accused of murdering a white woman. This project illustrates the injustice of our criminal justice system\, which has mistreated persons of color for centuries—and sadly continues today. \nClick the button below to join via Zoom or call in by dialing 301.715.8592. Enter meeting ID 879 3121 3685 and passcode 852328. \nJoin Via Zoom
URL:https://cathedralofhope.org/event/the-notorious-trial-of-joe-thomas/
LOCATION:ELPC – Online\, 116 South Highland Avenue\, Pittsburgh\, PA\, 15206\, United States
CATEGORIES:Featured Events,Mission Activities
ATTACH;FMTTYPE=image/jpeg:https://cathedralofhope.org/wp-content/uploads/2020/12/img_Joseph-Thomas.jpg
END:VEVENT
BEGIN:VEVENT
DTSTART;TZID=America/New_York:20210117T173000
DTEND;TZID=America/New_York:20210117T183000
DTSTAMP:20260425T192648
CREATED:20201229T153413Z
LAST-MODIFIED:20201229T153623Z
UID:10006579-1610904600-1610908200@cathedralofhope.org
SUMMARY:Tween Night | Cooking Class
DESCRIPTION:Tweens in grades 4–6 will gather on Zoom to make dinner for their families. We will be making an easy ricotta gnocchi and “dirt” for dessert.
URL:https://cathedralofhope.org/event/tween-night-cooking-class/
LOCATION:ELPC – Online\, 116 South Highland Avenue\, Pittsburgh\, PA\, 15206\, United States
CATEGORIES:Children & Youth
ATTACH;FMTTYPE=image/jpeg:https://cathedralofhope.org/wp-content/uploads/2020/12/baking-cookies-zoom.jpg
END:VEVENT
BEGIN:VEVENT
DTSTART;TZID=America/New_York:20201225T110000
DTEND;TZID=America/New_York:20201225T122000
DTSTAMP:20260425T192648
CREATED:20201220T180147Z
LAST-MODIFIED:20201221T155738Z
UID:10006558-1608894000-1608898800@cathedralofhope.org
SUMMARY:Music of Christmas Eve
DESCRIPTION:Please join us for this special Christmas Day broadcast of all the music from our Christmas Eve services. Watch below\, or on our YouTube channel or Facebook page\, and share it with your family and friends! \nFeaturing performances by: \n\nOrganist/Music Director: Dr. Edward Alan Moore\nQuartet: Adrianna Cleveland\, Robin Schmeider\, Michael Painter\, Todd Farwell\nSoloists: Adrianna Cleveland\, Todd Farwell\, David Jennings-Smith\, Gail Novak Mosites\, Robin Schmeider\, Denise Sheffey-Powell\, Michael Warren\nHandbells: Keith Irvin\nViolinist: Cody Conley\nThe Brass Roots\n\n\nClick here to see the program\nIn Dulci Jubilo\, BWV 729 | Johann Sebastian Bach\nDr. Edward Alan Moore \nCarol – O Come\, All Ye Faithful \nIn the Bleak Midwinter | Mary E. Caldwell\nRobin Schmeider \nIn the Bleak Midwinter | Gustav Holst\nCody Conley\, violin \nDo You Hear What I Hear? | arr. Harry Simeone\nDenise Sheffey-Powell \nCarol – Away in a Manger \nA Song of Peace | Teresa Jennings\nMichael Warren \nO Holy Night | Adolphe Adam\nCody Conley\, violin \nCarol – Hark! The Herald Angels Sing \nSweet Little Jesus Boy | Robert MacGimsey\nDavid Jennings-Smith \nO Come\, All Ye Faithful | Adeste Fideles\nCody Conley\, violin \nWho Would Imagine a King | Marvyn Warren/Hallerin Hilton Hill\nAdrianna Cleveland and Michael Warren\n\nCarol – What Child Is ThisChristmas Bell Medley | Christine D. Anderson/Daniel Kramlich\nKeith Irvin \nThe Little Drummer Boy/Peace on Earth | as recorded by Bing Crosby and David Bowie\nTodd Farwell and David Jennings-Smith \nCarol – The First Nowell \nChristmas Lullaby | Jason Robert Brown\nAdrianna Cleveland \nIn Dulci Jubilo | Marcel Dupré\nDr. Edward Alan Moore \nO Magnum Mysterium | Morten Lauridsen\nThe Brass Roots \nO Holy Night | Adolphe Adam\nGail Novak Mosites \nCarol – Silent Night \nCarol – Joy to the World \nToccata on ‘Antioch’ | Craig Philips\nDr. Edward Alan Moore \n\n 
URL:https://cathedralofhope.org/event/music-of-christmas-eve/
LOCATION:ELPC – Online\, 116 South Highland Avenue\, Pittsburgh\, PA\, 15206\, United States
CATEGORIES:Cathedral Concerts,Community,Concerts,Featured Events,Music,Special Events
ATTACH;FMTTYPE=image/jpeg:https://cathedralofhope.org/wp-content/uploads/2020/12/KK-ELPC-web.jpg
ORGANIZER;CN="Dr. Ed Moore":MAILTO:EdM@coh.net
END:VEVENT
END:VCALENDAR