BEGIN:VCALENDAR
VERSION:2.0
PRODID:-//East Liberty Presbyterian Church - ECPv6.15.20//NONSGML v1.0//EN
CALSCALE:GREGORIAN
METHOD:PUBLISH
X-ORIGINAL-URL:https://cathedralofhope.org
X-WR-CALDESC:Events for East Liberty Presbyterian Church
REFRESH-INTERVAL;VALUE=DURATION:PT1H
X-Robots-Tag:noindex
X-PUBLISHED-TTL:PT1H
BEGIN:VTIMEZONE
TZID:America/New_York
BEGIN:DAYLIGHT
TZOFFSETFROM:-0500
TZOFFSETTO:-0400
TZNAME:EDT
DTSTART:20250309T070000
END:DAYLIGHT
BEGIN:STANDARD
TZOFFSETFROM:-0400
TZOFFSETTO:-0500
TZNAME:EST
DTSTART:20251102T060000
END:STANDARD
BEGIN:DAYLIGHT
TZOFFSETFROM:-0500
TZOFFSETTO:-0400
TZNAME:EDT
DTSTART:20260308T070000
END:DAYLIGHT
BEGIN:STANDARD
TZOFFSETFROM:-0400
TZOFFSETTO:-0500
TZNAME:EST
DTSTART:20261101T060000
END:STANDARD
BEGIN:DAYLIGHT
TZOFFSETFROM:-0500
TZOFFSETTO:-0400
TZNAME:EDT
DTSTART:20270314T070000
END:DAYLIGHT
BEGIN:STANDARD
TZOFFSETFROM:-0400
TZOFFSETTO:-0500
TZNAME:EST
DTSTART:20271107T060000
END:STANDARD
BEGIN:DAYLIGHT
TZOFFSETFROM:-0500
TZOFFSETTO:-0400
TZNAME:EDT
DTSTART:20280312T070000
END:DAYLIGHT
BEGIN:STANDARD
TZOFFSETFROM:-0400
TZOFFSETTO:-0500
TZNAME:EST
DTSTART:20281105T060000
END:STANDARD
END:VTIMEZONE
BEGIN:VEVENT
DTSTART;TZID=America/New_York:20261208T080000
DTEND;TZID=America/New_York:20261208T082000
DTSTAMP:20260423T120129
CREATED:20220715T121047Z
LAST-MODIFIED:20240313T135046Z
UID:10004003-1796716800-1796718000@cathedralofhope.org
SUMMARY:Online Prayer Service
DESCRIPTION:ELPC offers an online prayer group each Tuesday morning\, hosted by ELPC member Steve Evrard. These 20-minute sessions feature scripture readings\, responsive prayer\, and interactive dialogue. All are welcome at this opportunity for fellowship and prayer. \nJoin us by clicking the link below\, or you may call in by dialing 929.205.6099. Enter meeting ID 896 9680 6662 and passcode 116 when prompted. \nJoin via Zoom
URL:https://cathedralofhope.org/event/online-prayer-service/2026-12-08/
LOCATION:ELPC – Online\, 116 South Highland Avenue\, Pittsburgh\, PA\, 15206\, United States
CATEGORIES:Church Life
END:VEVENT
BEGIN:VEVENT
DTSTART;TZID=America/New_York:20261215T080000
DTEND;TZID=America/New_York:20261215T082000
DTSTAMP:20260423T120129
CREATED:20220715T121047Z
LAST-MODIFIED:20240313T135046Z
UID:10004004-1797321600-1797322800@cathedralofhope.org
SUMMARY:Online Prayer Service
DESCRIPTION:ELPC offers an online prayer group each Tuesday morning\, hosted by ELPC member Steve Evrard. These 20-minute sessions feature scripture readings\, responsive prayer\, and interactive dialogue. All are welcome at this opportunity for fellowship and prayer. \nJoin us by clicking the link below\, or you may call in by dialing 929.205.6099. Enter meeting ID 896 9680 6662 and passcode 116 when prompted. \nJoin via Zoom
URL:https://cathedralofhope.org/event/online-prayer-service/2026-12-15/
LOCATION:ELPC – Online\, 116 South Highland Avenue\, Pittsburgh\, PA\, 15206\, United States
CATEGORIES:Church Life
END:VEVENT
BEGIN:VEVENT
DTSTART;TZID=America/New_York:20261222T080000
DTEND;TZID=America/New_York:20261222T082000
DTSTAMP:20260423T120129
CREATED:20220715T121047Z
LAST-MODIFIED:20240313T135046Z
UID:10004005-1797926400-1797927600@cathedralofhope.org
SUMMARY:Online Prayer Service
DESCRIPTION:ELPC offers an online prayer group each Tuesday morning\, hosted by ELPC member Steve Evrard. These 20-minute sessions feature scripture readings\, responsive prayer\, and interactive dialogue. All are welcome at this opportunity for fellowship and prayer. \nJoin us by clicking the link below\, or you may call in by dialing 929.205.6099. Enter meeting ID 896 9680 6662 and passcode 116 when prompted. \nJoin via Zoom
URL:https://cathedralofhope.org/event/online-prayer-service/2026-12-22/
LOCATION:ELPC – Online\, 116 South Highland Avenue\, Pittsburgh\, PA\, 15206\, United States
CATEGORIES:Church Life
END:VEVENT
BEGIN:VEVENT
DTSTART;TZID=America/New_York:20261229T080000
DTEND;TZID=America/New_York:20261229T082000
DTSTAMP:20260423T120129
CREATED:20220715T121047Z
LAST-MODIFIED:20240313T135046Z
UID:10004006-1798531200-1798532400@cathedralofhope.org
SUMMARY:Online Prayer Service
DESCRIPTION:ELPC offers an online prayer group each Tuesday morning\, hosted by ELPC member Steve Evrard. These 20-minute sessions feature scripture readings\, responsive prayer\, and interactive dialogue. All are welcome at this opportunity for fellowship and prayer. \nJoin us by clicking the link below\, or you may call in by dialing 929.205.6099. Enter meeting ID 896 9680 6662 and passcode 116 when prompted. \nJoin via Zoom
URL:https://cathedralofhope.org/event/online-prayer-service/2026-12-29/
LOCATION:ELPC – Online\, 116 South Highland Avenue\, Pittsburgh\, PA\, 15206\, United States
CATEGORIES:Church Life
END:VEVENT
BEGIN:VEVENT
DTSTART;TZID=America/New_York:20270105T080000
DTEND;TZID=America/New_York:20270105T082000
DTSTAMP:20260423T120129
CREATED:20220715T121047Z
LAST-MODIFIED:20240313T135046Z
UID:10004007-1799136000-1799137200@cathedralofhope.org
SUMMARY:Online Prayer Service
DESCRIPTION:ELPC offers an online prayer group each Tuesday morning\, hosted by ELPC member Steve Evrard. These 20-minute sessions feature scripture readings\, responsive prayer\, and interactive dialogue. All are welcome at this opportunity for fellowship and prayer. \nJoin us by clicking the link below\, or you may call in by dialing 929.205.6099. Enter meeting ID 896 9680 6662 and passcode 116 when prompted. \nJoin via Zoom
URL:https://cathedralofhope.org/event/online-prayer-service/2027-01-05/
LOCATION:ELPC – Online\, 116 South Highland Avenue\, Pittsburgh\, PA\, 15206\, United States
CATEGORIES:Church Life
END:VEVENT
BEGIN:VEVENT
DTSTART;TZID=America/New_York:20270112T080000
DTEND;TZID=America/New_York:20270112T082000
DTSTAMP:20260423T120129
CREATED:20220715T121047Z
LAST-MODIFIED:20240313T135046Z
UID:10004008-1799740800-1799742000@cathedralofhope.org
SUMMARY:Online Prayer Service
DESCRIPTION:ELPC offers an online prayer group each Tuesday morning\, hosted by ELPC member Steve Evrard. These 20-minute sessions feature scripture readings\, responsive prayer\, and interactive dialogue. All are welcome at this opportunity for fellowship and prayer. \nJoin us by clicking the link below\, or you may call in by dialing 929.205.6099. Enter meeting ID 896 9680 6662 and passcode 116 when prompted. \nJoin via Zoom
URL:https://cathedralofhope.org/event/online-prayer-service/2027-01-12/
LOCATION:ELPC – Online\, 116 South Highland Avenue\, Pittsburgh\, PA\, 15206\, United States
CATEGORIES:Church Life
END:VEVENT
BEGIN:VEVENT
DTSTART;TZID=America/New_York:20270119T080000
DTEND;TZID=America/New_York:20270119T082000
DTSTAMP:20260423T120129
CREATED:20220715T121047Z
LAST-MODIFIED:20240313T135046Z
UID:10004009-1800345600-1800346800@cathedralofhope.org
SUMMARY:Online Prayer Service
DESCRIPTION:ELPC offers an online prayer group each Tuesday morning\, hosted by ELPC member Steve Evrard. These 20-minute sessions feature scripture readings\, responsive prayer\, and interactive dialogue. All are welcome at this opportunity for fellowship and prayer. \nJoin us by clicking the link below\, or you may call in by dialing 929.205.6099. Enter meeting ID 896 9680 6662 and passcode 116 when prompted. \nJoin via Zoom
URL:https://cathedralofhope.org/event/online-prayer-service/2027-01-19/
LOCATION:ELPC – Online\, 116 South Highland Avenue\, Pittsburgh\, PA\, 15206\, United States
CATEGORIES:Church Life
END:VEVENT
BEGIN:VEVENT
DTSTART;TZID=America/New_York:20270126T080000
DTEND;TZID=America/New_York:20270126T082000
DTSTAMP:20260423T120129
CREATED:20220715T121047Z
LAST-MODIFIED:20240313T135046Z
UID:10004010-1800950400-1800951600@cathedralofhope.org
SUMMARY:Online Prayer Service
DESCRIPTION:ELPC offers an online prayer group each Tuesday morning\, hosted by ELPC member Steve Evrard. These 20-minute sessions feature scripture readings\, responsive prayer\, and interactive dialogue. All are welcome at this opportunity for fellowship and prayer. \nJoin us by clicking the link below\, or you may call in by dialing 929.205.6099. Enter meeting ID 896 9680 6662 and passcode 116 when prompted. \nJoin via Zoom
URL:https://cathedralofhope.org/event/online-prayer-service/2027-01-26/
LOCATION:ELPC – Online\, 116 South Highland Avenue\, Pittsburgh\, PA\, 15206\, United States
CATEGORIES:Church Life
END:VEVENT
BEGIN:VEVENT
DTSTART;TZID=America/New_York:20270202T080000
DTEND;TZID=America/New_York:20270202T082000
DTSTAMP:20260423T120129
CREATED:20220715T121047Z
LAST-MODIFIED:20240313T135046Z
UID:10004011-1801555200-1801556400@cathedralofhope.org
SUMMARY:Online Prayer Service
DESCRIPTION:ELPC offers an online prayer group each Tuesday morning\, hosted by ELPC member Steve Evrard. These 20-minute sessions feature scripture readings\, responsive prayer\, and interactive dialogue. All are welcome at this opportunity for fellowship and prayer. \nJoin us by clicking the link below\, or you may call in by dialing 929.205.6099. Enter meeting ID 896 9680 6662 and passcode 116 when prompted. \nJoin via Zoom
URL:https://cathedralofhope.org/event/online-prayer-service/2027-02-02/
LOCATION:ELPC – Online\, 116 South Highland Avenue\, Pittsburgh\, PA\, 15206\, United States
CATEGORIES:Church Life
END:VEVENT
BEGIN:VEVENT
DTSTART;TZID=America/New_York:20270209T080000
DTEND;TZID=America/New_York:20270209T082000
DTSTAMP:20260423T120129
CREATED:20220715T121047Z
LAST-MODIFIED:20240313T135046Z
UID:10004012-1802160000-1802161200@cathedralofhope.org
SUMMARY:Online Prayer Service
DESCRIPTION:ELPC offers an online prayer group each Tuesday morning\, hosted by ELPC member Steve Evrard. These 20-minute sessions feature scripture readings\, responsive prayer\, and interactive dialogue. All are welcome at this opportunity for fellowship and prayer. \nJoin us by clicking the link below\, or you may call in by dialing 929.205.6099. Enter meeting ID 896 9680 6662 and passcode 116 when prompted. \nJoin via Zoom
URL:https://cathedralofhope.org/event/online-prayer-service/2027-02-09/
LOCATION:ELPC – Online\, 116 South Highland Avenue\, Pittsburgh\, PA\, 15206\, United States
CATEGORIES:Church Life
END:VEVENT
BEGIN:VEVENT
DTSTART;TZID=America/New_York:20270216T080000
DTEND;TZID=America/New_York:20270216T082000
DTSTAMP:20260423T120129
CREATED:20220715T121047Z
LAST-MODIFIED:20240313T135046Z
UID:10004013-1802764800-1802766000@cathedralofhope.org
SUMMARY:Online Prayer Service
DESCRIPTION:ELPC offers an online prayer group each Tuesday morning\, hosted by ELPC member Steve Evrard. These 20-minute sessions feature scripture readings\, responsive prayer\, and interactive dialogue. All are welcome at this opportunity for fellowship and prayer. \nJoin us by clicking the link below\, or you may call in by dialing 929.205.6099. Enter meeting ID 896 9680 6662 and passcode 116 when prompted. \nJoin via Zoom
URL:https://cathedralofhope.org/event/online-prayer-service/2027-02-16/
LOCATION:ELPC – Online\, 116 South Highland Avenue\, Pittsburgh\, PA\, 15206\, United States
CATEGORIES:Church Life
END:VEVENT
BEGIN:VEVENT
DTSTART;TZID=America/New_York:20270223T080000
DTEND;TZID=America/New_York:20270223T082000
DTSTAMP:20260423T120129
CREATED:20220715T121047Z
LAST-MODIFIED:20240313T135046Z
UID:10004014-1803369600-1803370800@cathedralofhope.org
SUMMARY:Online Prayer Service
DESCRIPTION:ELPC offers an online prayer group each Tuesday morning\, hosted by ELPC member Steve Evrard. These 20-minute sessions feature scripture readings\, responsive prayer\, and interactive dialogue. All are welcome at this opportunity for fellowship and prayer. \nJoin us by clicking the link below\, or you may call in by dialing 929.205.6099. Enter meeting ID 896 9680 6662 and passcode 116 when prompted. \nJoin via Zoom
URL:https://cathedralofhope.org/event/online-prayer-service/2027-02-23/
LOCATION:ELPC – Online\, 116 South Highland Avenue\, Pittsburgh\, PA\, 15206\, United States
CATEGORIES:Church Life
END:VEVENT
BEGIN:VEVENT
DTSTART;TZID=America/New_York:20270302T080000
DTEND;TZID=America/New_York:20270302T082000
DTSTAMP:20260423T120129
CREATED:20220715T121047Z
LAST-MODIFIED:20240313T135046Z
UID:10004015-1803974400-1803975600@cathedralofhope.org
SUMMARY:Online Prayer Service
DESCRIPTION:ELPC offers an online prayer group each Tuesday morning\, hosted by ELPC member Steve Evrard. These 20-minute sessions feature scripture readings\, responsive prayer\, and interactive dialogue. All are welcome at this opportunity for fellowship and prayer. \nJoin us by clicking the link below\, or you may call in by dialing 929.205.6099. Enter meeting ID 896 9680 6662 and passcode 116 when prompted. \nJoin via Zoom
URL:https://cathedralofhope.org/event/online-prayer-service/2027-03-02/
LOCATION:ELPC – Online\, 116 South Highland Avenue\, Pittsburgh\, PA\, 15206\, United States
CATEGORIES:Church Life
END:VEVENT
BEGIN:VEVENT
DTSTART;TZID=America/New_York:20270309T080000
DTEND;TZID=America/New_York:20270309T082000
DTSTAMP:20260423T120129
CREATED:20220715T121047Z
LAST-MODIFIED:20240313T135046Z
UID:10004016-1804579200-1804580400@cathedralofhope.org
SUMMARY:Online Prayer Service
DESCRIPTION:ELPC offers an online prayer group each Tuesday morning\, hosted by ELPC member Steve Evrard. These 20-minute sessions feature scripture readings\, responsive prayer\, and interactive dialogue. All are welcome at this opportunity for fellowship and prayer. \nJoin us by clicking the link below\, or you may call in by dialing 929.205.6099. Enter meeting ID 896 9680 6662 and passcode 116 when prompted. \nJoin via Zoom
URL:https://cathedralofhope.org/event/online-prayer-service/2027-03-09/
LOCATION:ELPC – Online\, 116 South Highland Avenue\, Pittsburgh\, PA\, 15206\, United States
CATEGORIES:Church Life
END:VEVENT
BEGIN:VEVENT
DTSTART;TZID=America/New_York:20270316T080000
DTEND;TZID=America/New_York:20270316T082000
DTSTAMP:20260423T120129
CREATED:20220715T121047Z
LAST-MODIFIED:20240313T135046Z
UID:10004017-1805184000-1805185200@cathedralofhope.org
SUMMARY:Online Prayer Service
DESCRIPTION:ELPC offers an online prayer group each Tuesday morning\, hosted by ELPC member Steve Evrard. These 20-minute sessions feature scripture readings\, responsive prayer\, and interactive dialogue. All are welcome at this opportunity for fellowship and prayer. \nJoin us by clicking the link below\, or you may call in by dialing 929.205.6099. Enter meeting ID 896 9680 6662 and passcode 116 when prompted. \nJoin via Zoom
URL:https://cathedralofhope.org/event/online-prayer-service/2027-03-16/
LOCATION:ELPC – Online\, 116 South Highland Avenue\, Pittsburgh\, PA\, 15206\, United States
CATEGORIES:Church Life
END:VEVENT
BEGIN:VEVENT
DTSTART;TZID=America/New_York:20270323T080000
DTEND;TZID=America/New_York:20270323T082000
DTSTAMP:20260423T120129
CREATED:20220715T121047Z
LAST-MODIFIED:20240313T135046Z
UID:10004018-1805788800-1805790000@cathedralofhope.org
SUMMARY:Online Prayer Service
DESCRIPTION:ELPC offers an online prayer group each Tuesday morning\, hosted by ELPC member Steve Evrard. These 20-minute sessions feature scripture readings\, responsive prayer\, and interactive dialogue. All are welcome at this opportunity for fellowship and prayer. \nJoin us by clicking the link below\, or you may call in by dialing 929.205.6099. Enter meeting ID 896 9680 6662 and passcode 116 when prompted. \nJoin via Zoom
URL:https://cathedralofhope.org/event/online-prayer-service/2027-03-23/
LOCATION:ELPC – Online\, 116 South Highland Avenue\, Pittsburgh\, PA\, 15206\, United States
CATEGORIES:Church Life
END:VEVENT
BEGIN:VEVENT
DTSTART;TZID=America/New_York:20270330T080000
DTEND;TZID=America/New_York:20270330T082000
DTSTAMP:20260423T120129
CREATED:20220715T121047Z
LAST-MODIFIED:20240313T135046Z
UID:10004019-1806393600-1806394800@cathedralofhope.org
SUMMARY:Online Prayer Service
DESCRIPTION:ELPC offers an online prayer group each Tuesday morning\, hosted by ELPC member Steve Evrard. These 20-minute sessions feature scripture readings\, responsive prayer\, and interactive dialogue. All are welcome at this opportunity for fellowship and prayer. \nJoin us by clicking the link below\, or you may call in by dialing 929.205.6099. Enter meeting ID 896 9680 6662 and passcode 116 when prompted. \nJoin via Zoom
URL:https://cathedralofhope.org/event/online-prayer-service/2027-03-30/
LOCATION:ELPC – Online\, 116 South Highland Avenue\, Pittsburgh\, PA\, 15206\, United States
CATEGORIES:Church Life
END:VEVENT
BEGIN:VEVENT
DTSTART;TZID=America/New_York:20270406T080000
DTEND;TZID=America/New_York:20270406T082000
DTSTAMP:20260423T120129
CREATED:20220715T121047Z
LAST-MODIFIED:20240313T135046Z
UID:10004020-1806998400-1806999600@cathedralofhope.org
SUMMARY:Online Prayer Service
DESCRIPTION:ELPC offers an online prayer group each Tuesday morning\, hosted by ELPC member Steve Evrard. These 20-minute sessions feature scripture readings\, responsive prayer\, and interactive dialogue. All are welcome at this opportunity for fellowship and prayer. \nJoin us by clicking the link below\, or you may call in by dialing 929.205.6099. Enter meeting ID 896 9680 6662 and passcode 116 when prompted. \nJoin via Zoom
URL:https://cathedralofhope.org/event/online-prayer-service/2027-04-06/
LOCATION:ELPC – Online\, 116 South Highland Avenue\, Pittsburgh\, PA\, 15206\, United States
CATEGORIES:Church Life
END:VEVENT
BEGIN:VEVENT
DTSTART;TZID=America/New_York:20270413T080000
DTEND;TZID=America/New_York:20270413T082000
DTSTAMP:20260423T120129
CREATED:20220715T121047Z
LAST-MODIFIED:20240313T135046Z
UID:10004021-1807603200-1807604400@cathedralofhope.org
SUMMARY:Online Prayer Service
DESCRIPTION:ELPC offers an online prayer group each Tuesday morning\, hosted by ELPC member Steve Evrard. These 20-minute sessions feature scripture readings\, responsive prayer\, and interactive dialogue. All are welcome at this opportunity for fellowship and prayer. \nJoin us by clicking the link below\, or you may call in by dialing 929.205.6099. Enter meeting ID 896 9680 6662 and passcode 116 when prompted. \nJoin via Zoom
URL:https://cathedralofhope.org/event/online-prayer-service/2027-04-13/
LOCATION:ELPC – Online\, 116 South Highland Avenue\, Pittsburgh\, PA\, 15206\, United States
CATEGORIES:Church Life
END:VEVENT
BEGIN:VEVENT
DTSTART;TZID=America/New_York:20270420T080000
DTEND;TZID=America/New_York:20270420T082000
DTSTAMP:20260423T120129
CREATED:20220715T121047Z
LAST-MODIFIED:20240313T135046Z
UID:10004022-1808208000-1808209200@cathedralofhope.org
SUMMARY:Online Prayer Service
DESCRIPTION:ELPC offers an online prayer group each Tuesday morning\, hosted by ELPC member Steve Evrard. These 20-minute sessions feature scripture readings\, responsive prayer\, and interactive dialogue. All are welcome at this opportunity for fellowship and prayer. \nJoin us by clicking the link below\, or you may call in by dialing 929.205.6099. Enter meeting ID 896 9680 6662 and passcode 116 when prompted. \nJoin via Zoom
URL:https://cathedralofhope.org/event/online-prayer-service/2027-04-20/
LOCATION:ELPC – Online\, 116 South Highland Avenue\, Pittsburgh\, PA\, 15206\, United States
CATEGORIES:Church Life
END:VEVENT
BEGIN:VEVENT
DTSTART;TZID=America/New_York:20270427T080000
DTEND;TZID=America/New_York:20270427T082000
DTSTAMP:20260423T120129
CREATED:20220715T121047Z
LAST-MODIFIED:20240313T135046Z
UID:10004023-1808812800-1808814000@cathedralofhope.org
SUMMARY:Online Prayer Service
DESCRIPTION:ELPC offers an online prayer group each Tuesday morning\, hosted by ELPC member Steve Evrard. These 20-minute sessions feature scripture readings\, responsive prayer\, and interactive dialogue. All are welcome at this opportunity for fellowship and prayer. \nJoin us by clicking the link below\, or you may call in by dialing 929.205.6099. Enter meeting ID 896 9680 6662 and passcode 116 when prompted. \nJoin via Zoom
URL:https://cathedralofhope.org/event/online-prayer-service/2027-04-27/
LOCATION:ELPC – Online\, 116 South Highland Avenue\, Pittsburgh\, PA\, 15206\, United States
CATEGORIES:Church Life
END:VEVENT
BEGIN:VEVENT
DTSTART;TZID=America/New_York:20270504T080000
DTEND;TZID=America/New_York:20270504T082000
DTSTAMP:20260423T120129
CREATED:20220715T121047Z
LAST-MODIFIED:20240313T135046Z
UID:10004024-1809417600-1809418800@cathedralofhope.org
SUMMARY:Online Prayer Service
DESCRIPTION:ELPC offers an online prayer group each Tuesday morning\, hosted by ELPC member Steve Evrard. These 20-minute sessions feature scripture readings\, responsive prayer\, and interactive dialogue. All are welcome at this opportunity for fellowship and prayer. \nJoin us by clicking the link below\, or you may call in by dialing 929.205.6099. Enter meeting ID 896 9680 6662 and passcode 116 when prompted. \nJoin via Zoom
URL:https://cathedralofhope.org/event/online-prayer-service/2027-05-04/
LOCATION:ELPC – Online\, 116 South Highland Avenue\, Pittsburgh\, PA\, 15206\, United States
CATEGORIES:Church Life
END:VEVENT
BEGIN:VEVENT
DTSTART;TZID=America/New_York:20270511T080000
DTEND;TZID=America/New_York:20270511T082000
DTSTAMP:20260423T120129
CREATED:20220715T121047Z
LAST-MODIFIED:20240313T135046Z
UID:10004025-1810022400-1810023600@cathedralofhope.org
SUMMARY:Online Prayer Service
DESCRIPTION:ELPC offers an online prayer group each Tuesday morning\, hosted by ELPC member Steve Evrard. These 20-minute sessions feature scripture readings\, responsive prayer\, and interactive dialogue. All are welcome at this opportunity for fellowship and prayer. \nJoin us by clicking the link below\, or you may call in by dialing 929.205.6099. Enter meeting ID 896 9680 6662 and passcode 116 when prompted. \nJoin via Zoom
URL:https://cathedralofhope.org/event/online-prayer-service/2027-05-11/
LOCATION:ELPC – Online\, 116 South Highland Avenue\, Pittsburgh\, PA\, 15206\, United States
CATEGORIES:Church Life
END:VEVENT
BEGIN:VEVENT
DTSTART;TZID=America/New_York:20270518T080000
DTEND;TZID=America/New_York:20270518T082000
DTSTAMP:20260423T120129
CREATED:20220715T121047Z
LAST-MODIFIED:20240313T135046Z
UID:10004026-1810627200-1810628400@cathedralofhope.org
SUMMARY:Online Prayer Service
DESCRIPTION:ELPC offers an online prayer group each Tuesday morning\, hosted by ELPC member Steve Evrard. These 20-minute sessions feature scripture readings\, responsive prayer\, and interactive dialogue. All are welcome at this opportunity for fellowship and prayer. \nJoin us by clicking the link below\, or you may call in by dialing 929.205.6099. Enter meeting ID 896 9680 6662 and passcode 116 when prompted. \nJoin via Zoom
URL:https://cathedralofhope.org/event/online-prayer-service/2027-05-18/
LOCATION:ELPC – Online\, 116 South Highland Avenue\, Pittsburgh\, PA\, 15206\, United States
CATEGORIES:Church Life
END:VEVENT
BEGIN:VEVENT
DTSTART;TZID=America/New_York:20270525T080000
DTEND;TZID=America/New_York:20270525T082000
DTSTAMP:20260423T120129
CREATED:20220715T121047Z
LAST-MODIFIED:20240313T135046Z
UID:10004027-1811232000-1811233200@cathedralofhope.org
SUMMARY:Online Prayer Service
DESCRIPTION:ELPC offers an online prayer group each Tuesday morning\, hosted by ELPC member Steve Evrard. These 20-minute sessions feature scripture readings\, responsive prayer\, and interactive dialogue. All are welcome at this opportunity for fellowship and prayer. \nJoin us by clicking the link below\, or you may call in by dialing 929.205.6099. Enter meeting ID 896 9680 6662 and passcode 116 when prompted. \nJoin via Zoom
URL:https://cathedralofhope.org/event/online-prayer-service/2027-05-25/
LOCATION:ELPC – Online\, 116 South Highland Avenue\, Pittsburgh\, PA\, 15206\, United States
CATEGORIES:Church Life
END:VEVENT
BEGIN:VEVENT
DTSTART;TZID=America/New_York:20270601T080000
DTEND;TZID=America/New_York:20270601T082000
DTSTAMP:20260423T120129
CREATED:20220715T121047Z
LAST-MODIFIED:20240313T135046Z
UID:10004028-1811836800-1811838000@cathedralofhope.org
SUMMARY:Online Prayer Service
DESCRIPTION:ELPC offers an online prayer group each Tuesday morning\, hosted by ELPC member Steve Evrard. These 20-minute sessions feature scripture readings\, responsive prayer\, and interactive dialogue. All are welcome at this opportunity for fellowship and prayer. \nJoin us by clicking the link below\, or you may call in by dialing 929.205.6099. Enter meeting ID 896 9680 6662 and passcode 116 when prompted. \nJoin via Zoom
URL:https://cathedralofhope.org/event/online-prayer-service/2027-06-01/
LOCATION:ELPC – Online\, 116 South Highland Avenue\, Pittsburgh\, PA\, 15206\, United States
CATEGORIES:Church Life
END:VEVENT
BEGIN:VEVENT
DTSTART;TZID=America/New_York:20270608T080000
DTEND;TZID=America/New_York:20270608T082000
DTSTAMP:20260423T120129
CREATED:20220715T121047Z
LAST-MODIFIED:20240313T135046Z
UID:10004029-1812441600-1812442800@cathedralofhope.org
SUMMARY:Online Prayer Service
DESCRIPTION:ELPC offers an online prayer group each Tuesday morning\, hosted by ELPC member Steve Evrard. These 20-minute sessions feature scripture readings\, responsive prayer\, and interactive dialogue. All are welcome at this opportunity for fellowship and prayer. \nJoin us by clicking the link below\, or you may call in by dialing 929.205.6099. Enter meeting ID 896 9680 6662 and passcode 116 when prompted. \nJoin via Zoom
URL:https://cathedralofhope.org/event/online-prayer-service/2027-06-08/
LOCATION:ELPC – Online\, 116 South Highland Avenue\, Pittsburgh\, PA\, 15206\, United States
CATEGORIES:Church Life
END:VEVENT
BEGIN:VEVENT
DTSTART;TZID=America/New_York:20270615T080000
DTEND;TZID=America/New_York:20270615T082000
DTSTAMP:20260423T120129
CREATED:20220715T121047Z
LAST-MODIFIED:20240313T135046Z
UID:10004030-1813046400-1813047600@cathedralofhope.org
SUMMARY:Online Prayer Service
DESCRIPTION:ELPC offers an online prayer group each Tuesday morning\, hosted by ELPC member Steve Evrard. These 20-minute sessions feature scripture readings\, responsive prayer\, and interactive dialogue. All are welcome at this opportunity for fellowship and prayer. \nJoin us by clicking the link below\, or you may call in by dialing 929.205.6099. Enter meeting ID 896 9680 6662 and passcode 116 when prompted. \nJoin via Zoom
URL:https://cathedralofhope.org/event/online-prayer-service/2027-06-15/
LOCATION:ELPC – Online\, 116 South Highland Avenue\, Pittsburgh\, PA\, 15206\, United States
CATEGORIES:Church Life
END:VEVENT
BEGIN:VEVENT
DTSTART;TZID=America/New_York:20270622T080000
DTEND;TZID=America/New_York:20270622T082000
DTSTAMP:20260423T120129
CREATED:20220715T121047Z
LAST-MODIFIED:20240313T135046Z
UID:10004031-1813651200-1813652400@cathedralofhope.org
SUMMARY:Online Prayer Service
DESCRIPTION:ELPC offers an online prayer group each Tuesday morning\, hosted by ELPC member Steve Evrard. These 20-minute sessions feature scripture readings\, responsive prayer\, and interactive dialogue. All are welcome at this opportunity for fellowship and prayer. \nJoin us by clicking the link below\, or you may call in by dialing 929.205.6099. Enter meeting ID 896 9680 6662 and passcode 116 when prompted. \nJoin via Zoom
URL:https://cathedralofhope.org/event/online-prayer-service/2027-06-22/
LOCATION:ELPC – Online\, 116 South Highland Avenue\, Pittsburgh\, PA\, 15206\, United States
CATEGORIES:Church Life
END:VEVENT
BEGIN:VEVENT
DTSTART;TZID=America/New_York:20270629T080000
DTEND;TZID=America/New_York:20270629T082000
DTSTAMP:20260423T120129
CREATED:20220715T121047Z
LAST-MODIFIED:20240313T135046Z
UID:10004032-1814256000-1814257200@cathedralofhope.org
SUMMARY:Online Prayer Service
DESCRIPTION:ELPC offers an online prayer group each Tuesday morning\, hosted by ELPC member Steve Evrard. These 20-minute sessions feature scripture readings\, responsive prayer\, and interactive dialogue. All are welcome at this opportunity for fellowship and prayer. \nJoin us by clicking the link below\, or you may call in by dialing 929.205.6099. Enter meeting ID 896 9680 6662 and passcode 116 when prompted. \nJoin via Zoom
URL:https://cathedralofhope.org/event/online-prayer-service/2027-06-29/
LOCATION:ELPC – Online\, 116 South Highland Avenue\, Pittsburgh\, PA\, 15206\, United States
CATEGORIES:Church Life
END:VEVENT
END:VCALENDAR