BEGIN:VCALENDAR
VERSION:2.0
PRODID:-//East Liberty Presbyterian Church - ECPv6.15.20//NONSGML v1.0//EN
CALSCALE:GREGORIAN
METHOD:PUBLISH
X-WR-CALNAME:East Liberty Presbyterian Church
X-ORIGINAL-URL:https://cathedralofhope.org
X-WR-CALDESC:Events for East Liberty Presbyterian Church
REFRESH-INTERVAL;VALUE=DURATION:PT1H
X-Robots-Tag:noindex
X-PUBLISHED-TTL:PT1H
BEGIN:VTIMEZONE
TZID:America/New_York
BEGIN:DAYLIGHT
TZOFFSETFROM:-0500
TZOFFSETTO:-0400
TZNAME:EDT
DTSTART:20240310T070000
END:DAYLIGHT
BEGIN:STANDARD
TZOFFSETFROM:-0400
TZOFFSETTO:-0500
TZNAME:EST
DTSTART:20241103T060000
END:STANDARD
BEGIN:DAYLIGHT
TZOFFSETFROM:-0500
TZOFFSETTO:-0400
TZNAME:EDT
DTSTART:20250309T070000
END:DAYLIGHT
BEGIN:STANDARD
TZOFFSETFROM:-0400
TZOFFSETTO:-0500
TZNAME:EST
DTSTART:20251102T060000
END:STANDARD
BEGIN:DAYLIGHT
TZOFFSETFROM:-0500
TZOFFSETTO:-0400
TZNAME:EDT
DTSTART:20260308T070000
END:DAYLIGHT
BEGIN:STANDARD
TZOFFSETFROM:-0400
TZOFFSETTO:-0500
TZNAME:EST
DTSTART:20261101T060000
END:STANDARD
END:VTIMEZONE
BEGIN:VEVENT
DTSTART;TZID=America/New_York:20250923T080000
DTEND;TZID=America/New_York:20250923T082000
DTSTAMP:20260423T170439
CREATED:20220715T121047Z
LAST-MODIFIED:20240313T135046Z
UID:10003940-1758614400-1758615600@cathedralofhope.org
SUMMARY:Online Prayer Service
DESCRIPTION:ELPC offers an online prayer group each Tuesday morning\, hosted by ELPC member Steve Evrard. These 20-minute sessions feature scripture readings\, responsive prayer\, and interactive dialogue. All are welcome at this opportunity for fellowship and prayer. \nJoin us by clicking the link below\, or you may call in by dialing 929.205.6099. Enter meeting ID 896 9680 6662 and passcode 116 when prompted. \nJoin via Zoom
URL:https://cathedralofhope.org/event/online-prayer-service/2025-09-23/
LOCATION:ELPC – Online\, 116 South Highland Avenue\, Pittsburgh\, PA\, 15206\, United States
CATEGORIES:Church Life
END:VEVENT
BEGIN:VEVENT
DTSTART;TZID=America/New_York:20250922T073000
DTEND;TZID=America/New_York:20250922T080000
DTSTAMP:20260423T170439
CREATED:20230906T134447Z
LAST-MODIFIED:20250520T183648Z
UID:10006585-1758526200-1758528000@cathedralofhope.org
SUMMARY:Contemplative Prayer
DESCRIPTION:Contemplation has been described as a long-loving look at the real. Contemplation is about waking up\, listening\, noticing\, and paying attention. In the words of Adele Calhoun\, “A contemplative person recognizes that every experience offers more than meets the eye. They know that ‘bidden or unbidden’ God is present.” \nThis takes practice. \nJoin the Rev. BJ Woodworth for a time to practice a variety of contemplative prayer practices\, utilizing fixed prayers\, scripture\, music\, silence\, art\, and our bodies to help us start our day in communion with God and one another. \nClick the button below at the scheduled time to join via Zoom or call in by dialing 312.626.6799 and entering meeting ID\, 959 8065 3992. \n\nPasscode: bestill\n\nDial-in Passcode: 6787603\nJOIN VIA ZOOM
URL:https://cathedralofhope.org/event/contemplative-prayer/2025-09-22/
LOCATION:ELPC – Online\, 116 South Highland Avenue\, Pittsburgh\, PA\, 15206\, United States
CATEGORIES:Church Life,Educational & Spiritual Life
ORGANIZER;CN="Rev. BJ Woodworth":MAILTO:BJW@coh.net
END:VEVENT
BEGIN:VEVENT
DTSTART;TZID=America/New_York:20250916T080000
DTEND;TZID=America/New_York:20250916T082000
DTSTAMP:20260423T170439
CREATED:20220715T121047Z
LAST-MODIFIED:20240313T135046Z
UID:10003939-1758009600-1758010800@cathedralofhope.org
SUMMARY:Online Prayer Service
DESCRIPTION:ELPC offers an online prayer group each Tuesday morning\, hosted by ELPC member Steve Evrard. These 20-minute sessions feature scripture readings\, responsive prayer\, and interactive dialogue. All are welcome at this opportunity for fellowship and prayer. \nJoin us by clicking the link below\, or you may call in by dialing 929.205.6099. Enter meeting ID 896 9680 6662 and passcode 116 when prompted. \nJoin via Zoom
URL:https://cathedralofhope.org/event/online-prayer-service/2025-09-16/
LOCATION:ELPC – Online\, 116 South Highland Avenue\, Pittsburgh\, PA\, 15206\, United States
CATEGORIES:Church Life
END:VEVENT
BEGIN:VEVENT
DTSTART;TZID=America/New_York:20250915T073000
DTEND;TZID=America/New_York:20250915T080000
DTSTAMP:20260423T170439
CREATED:20230906T134447Z
LAST-MODIFIED:20250520T183648Z
UID:10006584-1757921400-1757923200@cathedralofhope.org
SUMMARY:Contemplative Prayer
DESCRIPTION:Contemplation has been described as a long-loving look at the real. Contemplation is about waking up\, listening\, noticing\, and paying attention. In the words of Adele Calhoun\, “A contemplative person recognizes that every experience offers more than meets the eye. They know that ‘bidden or unbidden’ God is present.” \nThis takes practice. \nJoin the Rev. BJ Woodworth for a time to practice a variety of contemplative prayer practices\, utilizing fixed prayers\, scripture\, music\, silence\, art\, and our bodies to help us start our day in communion with God and one another. \nClick the button below at the scheduled time to join via Zoom or call in by dialing 312.626.6799 and entering meeting ID\, 959 8065 3992. \n\nPasscode: bestill\n\nDial-in Passcode: 6787603\nJOIN VIA ZOOM
URL:https://cathedralofhope.org/event/contemplative-prayer/2025-09-15/
LOCATION:ELPC – Online\, 116 South Highland Avenue\, Pittsburgh\, PA\, 15206\, United States
CATEGORIES:Church Life,Educational & Spiritual Life
ORGANIZER;CN="Rev. BJ Woodworth":MAILTO:BJW@coh.net
END:VEVENT
BEGIN:VEVENT
DTSTART;TZID=America/New_York:20250909T080000
DTEND;TZID=America/New_York:20250909T082000
DTSTAMP:20260423T170439
CREATED:20220715T121047Z
LAST-MODIFIED:20240313T135046Z
UID:10003938-1757404800-1757406000@cathedralofhope.org
SUMMARY:Online Prayer Service
DESCRIPTION:ELPC offers an online prayer group each Tuesday morning\, hosted by ELPC member Steve Evrard. These 20-minute sessions feature scripture readings\, responsive prayer\, and interactive dialogue. All are welcome at this opportunity for fellowship and prayer. \nJoin us by clicking the link below\, or you may call in by dialing 929.205.6099. Enter meeting ID 896 9680 6662 and passcode 116 when prompted. \nJoin via Zoom
URL:https://cathedralofhope.org/event/online-prayer-service/2025-09-09/
LOCATION:ELPC – Online\, 116 South Highland Avenue\, Pittsburgh\, PA\, 15206\, United States
CATEGORIES:Church Life
END:VEVENT
BEGIN:VEVENT
DTSTART;TZID=America/New_York:20250908T073000
DTEND;TZID=America/New_York:20250908T080000
DTSTAMP:20260423T170439
CREATED:20230906T134447Z
LAST-MODIFIED:20250520T183648Z
UID:10006583-1757316600-1757318400@cathedralofhope.org
SUMMARY:Contemplative Prayer
DESCRIPTION:Contemplation has been described as a long-loving look at the real. Contemplation is about waking up\, listening\, noticing\, and paying attention. In the words of Adele Calhoun\, “A contemplative person recognizes that every experience offers more than meets the eye. They know that ‘bidden or unbidden’ God is present.” \nThis takes practice. \nJoin the Rev. BJ Woodworth for a time to practice a variety of contemplative prayer practices\, utilizing fixed prayers\, scripture\, music\, silence\, art\, and our bodies to help us start our day in communion with God and one another. \nClick the button below at the scheduled time to join via Zoom or call in by dialing 312.626.6799 and entering meeting ID\, 959 8065 3992. \n\nPasscode: bestill\n\nDial-in Passcode: 6787603\nJOIN VIA ZOOM
URL:https://cathedralofhope.org/event/contemplative-prayer/2025-09-08/
LOCATION:ELPC – Online\, 116 South Highland Avenue\, Pittsburgh\, PA\, 15206\, United States
CATEGORIES:Church Life,Educational & Spiritual Life
ORGANIZER;CN="Rev. BJ Woodworth":MAILTO:BJW@coh.net
END:VEVENT
BEGIN:VEVENT
DTSTART;TZID=America/New_York:20250902T080000
DTEND;TZID=America/New_York:20250902T082000
DTSTAMP:20260423T170439
CREATED:20220715T121047Z
LAST-MODIFIED:20240313T135046Z
UID:10003937-1756800000-1756801200@cathedralofhope.org
SUMMARY:Online Prayer Service
DESCRIPTION:ELPC offers an online prayer group each Tuesday morning\, hosted by ELPC member Steve Evrard. These 20-minute sessions feature scripture readings\, responsive prayer\, and interactive dialogue. All are welcome at this opportunity for fellowship and prayer. \nJoin us by clicking the link below\, or you may call in by dialing 929.205.6099. Enter meeting ID 896 9680 6662 and passcode 116 when prompted. \nJoin via Zoom
URL:https://cathedralofhope.org/event/online-prayer-service/2025-09-02/
LOCATION:ELPC – Online\, 116 South Highland Avenue\, Pittsburgh\, PA\, 15206\, United States
CATEGORIES:Church Life
END:VEVENT
BEGIN:VEVENT
DTSTART;TZID=America/New_York:20250826T080000
DTEND;TZID=America/New_York:20250826T082000
DTSTAMP:20260423T170439
CREATED:20220715T121047Z
LAST-MODIFIED:20240313T135046Z
UID:10003936-1756195200-1756196400@cathedralofhope.org
SUMMARY:Online Prayer Service
DESCRIPTION:ELPC offers an online prayer group each Tuesday morning\, hosted by ELPC member Steve Evrard. These 20-minute sessions feature scripture readings\, responsive prayer\, and interactive dialogue. All are welcome at this opportunity for fellowship and prayer. \nJoin us by clicking the link below\, or you may call in by dialing 929.205.6099. Enter meeting ID 896 9680 6662 and passcode 116 when prompted. \nJoin via Zoom
URL:https://cathedralofhope.org/event/online-prayer-service/2025-08-26/
LOCATION:ELPC – Online\, 116 South Highland Avenue\, Pittsburgh\, PA\, 15206\, United States
CATEGORIES:Church Life
END:VEVENT
BEGIN:VEVENT
DTSTART;TZID=America/New_York:20250819T080000
DTEND;TZID=America/New_York:20250819T082000
DTSTAMP:20260423T170439
CREATED:20220715T121047Z
LAST-MODIFIED:20240313T135046Z
UID:10003935-1755590400-1755591600@cathedralofhope.org
SUMMARY:Online Prayer Service
DESCRIPTION:ELPC offers an online prayer group each Tuesday morning\, hosted by ELPC member Steve Evrard. These 20-minute sessions feature scripture readings\, responsive prayer\, and interactive dialogue. All are welcome at this opportunity for fellowship and prayer. \nJoin us by clicking the link below\, or you may call in by dialing 929.205.6099. Enter meeting ID 896 9680 6662 and passcode 116 when prompted. \nJoin via Zoom
URL:https://cathedralofhope.org/event/online-prayer-service/2025-08-19/
LOCATION:ELPC – Online\, 116 South Highland Avenue\, Pittsburgh\, PA\, 15206\, United States
CATEGORIES:Church Life
END:VEVENT
BEGIN:VEVENT
DTSTART;TZID=America/New_York:20250812T080000
DTEND;TZID=America/New_York:20250812T082000
DTSTAMP:20260423T170439
CREATED:20220715T121047Z
LAST-MODIFIED:20240313T135046Z
UID:10003934-1754985600-1754986800@cathedralofhope.org
SUMMARY:Online Prayer Service
DESCRIPTION:ELPC offers an online prayer group each Tuesday morning\, hosted by ELPC member Steve Evrard. These 20-minute sessions feature scripture readings\, responsive prayer\, and interactive dialogue. All are welcome at this opportunity for fellowship and prayer. \nJoin us by clicking the link below\, or you may call in by dialing 929.205.6099. Enter meeting ID 896 9680 6662 and passcode 116 when prompted. \nJoin via Zoom
URL:https://cathedralofhope.org/event/online-prayer-service/2025-08-12/
LOCATION:ELPC – Online\, 116 South Highland Avenue\, Pittsburgh\, PA\, 15206\, United States
CATEGORIES:Church Life
END:VEVENT
BEGIN:VEVENT
DTSTART;TZID=America/New_York:20250805T080000
DTEND;TZID=America/New_York:20250805T082000
DTSTAMP:20260423T170439
CREATED:20220715T121047Z
LAST-MODIFIED:20240313T135046Z
UID:10003933-1754380800-1754382000@cathedralofhope.org
SUMMARY:Online Prayer Service
DESCRIPTION:ELPC offers an online prayer group each Tuesday morning\, hosted by ELPC member Steve Evrard. These 20-minute sessions feature scripture readings\, responsive prayer\, and interactive dialogue. All are welcome at this opportunity for fellowship and prayer. \nJoin us by clicking the link below\, or you may call in by dialing 929.205.6099. Enter meeting ID 896 9680 6662 and passcode 116 when prompted. \nJoin via Zoom
URL:https://cathedralofhope.org/event/online-prayer-service/2025-08-05/
LOCATION:ELPC – Online\, 116 South Highland Avenue\, Pittsburgh\, PA\, 15206\, United States
CATEGORIES:Church Life
END:VEVENT
BEGIN:VEVENT
DTSTART;TZID=America/New_York:20250729T080000
DTEND;TZID=America/New_York:20250729T082000
DTSTAMP:20260423T170439
CREATED:20220715T121047Z
LAST-MODIFIED:20240313T135046Z
UID:10003932-1753776000-1753777200@cathedralofhope.org
SUMMARY:Online Prayer Service
DESCRIPTION:ELPC offers an online prayer group each Tuesday morning\, hosted by ELPC member Steve Evrard. These 20-minute sessions feature scripture readings\, responsive prayer\, and interactive dialogue. All are welcome at this opportunity for fellowship and prayer. \nJoin us by clicking the link below\, or you may call in by dialing 929.205.6099. Enter meeting ID 896 9680 6662 and passcode 116 when prompted. \nJoin via Zoom
URL:https://cathedralofhope.org/event/online-prayer-service/2025-07-29/
LOCATION:ELPC – Online\, 116 South Highland Avenue\, Pittsburgh\, PA\, 15206\, United States
CATEGORIES:Church Life
END:VEVENT
BEGIN:VEVENT
DTSTART;TZID=America/New_York:20250722T080000
DTEND;TZID=America/New_York:20250722T082000
DTSTAMP:20260423T170439
CREATED:20220715T121047Z
LAST-MODIFIED:20240313T135046Z
UID:10003931-1753171200-1753172400@cathedralofhope.org
SUMMARY:Online Prayer Service
DESCRIPTION:ELPC offers an online prayer group each Tuesday morning\, hosted by ELPC member Steve Evrard. These 20-minute sessions feature scripture readings\, responsive prayer\, and interactive dialogue. All are welcome at this opportunity for fellowship and prayer. \nJoin us by clicking the link below\, or you may call in by dialing 929.205.6099. Enter meeting ID 896 9680 6662 and passcode 116 when prompted. \nJoin via Zoom
URL:https://cathedralofhope.org/event/online-prayer-service/2025-07-22/
LOCATION:ELPC – Online\, 116 South Highland Avenue\, Pittsburgh\, PA\, 15206\, United States
CATEGORIES:Church Life
END:VEVENT
BEGIN:VEVENT
DTSTART;TZID=America/New_York:20250715T080000
DTEND;TZID=America/New_York:20250715T082000
DTSTAMP:20260423T170439
CREATED:20220715T121047Z
LAST-MODIFIED:20240313T135046Z
UID:10003930-1752566400-1752567600@cathedralofhope.org
SUMMARY:Online Prayer Service
DESCRIPTION:ELPC offers an online prayer group each Tuesday morning\, hosted by ELPC member Steve Evrard. These 20-minute sessions feature scripture readings\, responsive prayer\, and interactive dialogue. All are welcome at this opportunity for fellowship and prayer. \nJoin us by clicking the link below\, or you may call in by dialing 929.205.6099. Enter meeting ID 896 9680 6662 and passcode 116 when prompted. \nJoin via Zoom
URL:https://cathedralofhope.org/event/online-prayer-service/2025-07-15/
LOCATION:ELPC – Online\, 116 South Highland Avenue\, Pittsburgh\, PA\, 15206\, United States
CATEGORIES:Church Life
END:VEVENT
BEGIN:VEVENT
DTSTART;TZID=America/New_York:20250708T080000
DTEND;TZID=America/New_York:20250708T082000
DTSTAMP:20260423T170439
CREATED:20220715T121047Z
LAST-MODIFIED:20240313T135046Z
UID:10003929-1751961600-1751962800@cathedralofhope.org
SUMMARY:Online Prayer Service
DESCRIPTION:ELPC offers an online prayer group each Tuesday morning\, hosted by ELPC member Steve Evrard. These 20-minute sessions feature scripture readings\, responsive prayer\, and interactive dialogue. All are welcome at this opportunity for fellowship and prayer. \nJoin us by clicking the link below\, or you may call in by dialing 929.205.6099. Enter meeting ID 896 9680 6662 and passcode 116 when prompted. \nJoin via Zoom
URL:https://cathedralofhope.org/event/online-prayer-service/2025-07-08/
LOCATION:ELPC – Online\, 116 South Highland Avenue\, Pittsburgh\, PA\, 15206\, United States
CATEGORIES:Church Life
END:VEVENT
BEGIN:VEVENT
DTSTART;TZID=America/New_York:20250701T080000
DTEND;TZID=America/New_York:20250701T082000
DTSTAMP:20260423T170439
CREATED:20220715T121047Z
LAST-MODIFIED:20240313T135046Z
UID:10003928-1751356800-1751358000@cathedralofhope.org
SUMMARY:Online Prayer Service
DESCRIPTION:ELPC offers an online prayer group each Tuesday morning\, hosted by ELPC member Steve Evrard. These 20-minute sessions feature scripture readings\, responsive prayer\, and interactive dialogue. All are welcome at this opportunity for fellowship and prayer. \nJoin us by clicking the link below\, or you may call in by dialing 929.205.6099. Enter meeting ID 896 9680 6662 and passcode 116 when prompted. \nJoin via Zoom
URL:https://cathedralofhope.org/event/online-prayer-service/2025-07-01/
LOCATION:ELPC – Online\, 116 South Highland Avenue\, Pittsburgh\, PA\, 15206\, United States
CATEGORIES:Church Life
END:VEVENT
BEGIN:VEVENT
DTSTART;TZID=America/New_York:20250624T080000
DTEND;TZID=America/New_York:20250624T082000
DTSTAMP:20260423T170439
CREATED:20220715T121047Z
LAST-MODIFIED:20240313T135046Z
UID:10003927-1750752000-1750753200@cathedralofhope.org
SUMMARY:Online Prayer Service
DESCRIPTION:ELPC offers an online prayer group each Tuesday morning\, hosted by ELPC member Steve Evrard. These 20-minute sessions feature scripture readings\, responsive prayer\, and interactive dialogue. All are welcome at this opportunity for fellowship and prayer. \nJoin us by clicking the link below\, or you may call in by dialing 929.205.6099. Enter meeting ID 896 9680 6662 and passcode 116 when prompted. \nJoin via Zoom
URL:https://cathedralofhope.org/event/online-prayer-service/2025-06-24/
LOCATION:ELPC – Online\, 116 South Highland Avenue\, Pittsburgh\, PA\, 15206\, United States
CATEGORIES:Church Life
END:VEVENT
BEGIN:VEVENT
DTSTART;TZID=America/New_York:20250617T080000
DTEND;TZID=America/New_York:20250617T082000
DTSTAMP:20260423T170439
CREATED:20220715T121047Z
LAST-MODIFIED:20240313T135046Z
UID:10003926-1750147200-1750148400@cathedralofhope.org
SUMMARY:Online Prayer Service
DESCRIPTION:ELPC offers an online prayer group each Tuesday morning\, hosted by ELPC member Steve Evrard. These 20-minute sessions feature scripture readings\, responsive prayer\, and interactive dialogue. All are welcome at this opportunity for fellowship and prayer. \nJoin us by clicking the link below\, or you may call in by dialing 929.205.6099. Enter meeting ID 896 9680 6662 and passcode 116 when prompted. \nJoin via Zoom
URL:https://cathedralofhope.org/event/online-prayer-service/2025-06-17/
LOCATION:ELPC – Online\, 116 South Highland Avenue\, Pittsburgh\, PA\, 15206\, United States
CATEGORIES:Church Life
END:VEVENT
BEGIN:VEVENT
DTSTART;TZID=America/New_York:20250610T080000
DTEND;TZID=America/New_York:20250610T082000
DTSTAMP:20260423T170439
CREATED:20220715T121047Z
LAST-MODIFIED:20240313T135046Z
UID:10003925-1749542400-1749543600@cathedralofhope.org
SUMMARY:Online Prayer Service
DESCRIPTION:ELPC offers an online prayer group each Tuesday morning\, hosted by ELPC member Steve Evrard. These 20-minute sessions feature scripture readings\, responsive prayer\, and interactive dialogue. All are welcome at this opportunity for fellowship and prayer. \nJoin us by clicking the link below\, or you may call in by dialing 929.205.6099. Enter meeting ID 896 9680 6662 and passcode 116 when prompted. \nJoin via Zoom
URL:https://cathedralofhope.org/event/online-prayer-service/2025-06-10/
LOCATION:ELPC – Online\, 116 South Highland Avenue\, Pittsburgh\, PA\, 15206\, United States
CATEGORIES:Church Life
END:VEVENT
BEGIN:VEVENT
DTSTART;TZID=America/New_York:20250603T080000
DTEND;TZID=America/New_York:20250603T082000
DTSTAMP:20260423T170439
CREATED:20220715T121047Z
LAST-MODIFIED:20240313T135046Z
UID:10003924-1748937600-1748938800@cathedralofhope.org
SUMMARY:Online Prayer Service
DESCRIPTION:ELPC offers an online prayer group each Tuesday morning\, hosted by ELPC member Steve Evrard. These 20-minute sessions feature scripture readings\, responsive prayer\, and interactive dialogue. All are welcome at this opportunity for fellowship and prayer. \nJoin us by clicking the link below\, or you may call in by dialing 929.205.6099. Enter meeting ID 896 9680 6662 and passcode 116 when prompted. \nJoin via Zoom
URL:https://cathedralofhope.org/event/online-prayer-service/2025-06-03/
LOCATION:ELPC – Online\, 116 South Highland Avenue\, Pittsburgh\, PA\, 15206\, United States
CATEGORIES:Church Life
END:VEVENT
BEGIN:VEVENT
DTSTART;TZID=America/New_York:20250527T080000
DTEND;TZID=America/New_York:20250527T082000
DTSTAMP:20260423T170439
CREATED:20220715T121047Z
LAST-MODIFIED:20240313T135046Z
UID:10003923-1748332800-1748334000@cathedralofhope.org
SUMMARY:Online Prayer Service
DESCRIPTION:ELPC offers an online prayer group each Tuesday morning\, hosted by ELPC member Steve Evrard. These 20-minute sessions feature scripture readings\, responsive prayer\, and interactive dialogue. All are welcome at this opportunity for fellowship and prayer. \nJoin us by clicking the link below\, or you may call in by dialing 929.205.6099. Enter meeting ID 896 9680 6662 and passcode 116 when prompted. \nJoin via Zoom
URL:https://cathedralofhope.org/event/online-prayer-service/2025-05-27/
LOCATION:ELPC – Online\, 116 South Highland Avenue\, Pittsburgh\, PA\, 15206\, United States
CATEGORIES:Church Life
END:VEVENT
BEGIN:VEVENT
DTSTART;TZID=America/New_York:20250520T080000
DTEND;TZID=America/New_York:20250520T082000
DTSTAMP:20260423T170439
CREATED:20220715T121047Z
LAST-MODIFIED:20240313T135046Z
UID:10003922-1747728000-1747729200@cathedralofhope.org
SUMMARY:Online Prayer Service
DESCRIPTION:ELPC offers an online prayer group each Tuesday morning\, hosted by ELPC member Steve Evrard. These 20-minute sessions feature scripture readings\, responsive prayer\, and interactive dialogue. All are welcome at this opportunity for fellowship and prayer. \nJoin us by clicking the link below\, or you may call in by dialing 929.205.6099. Enter meeting ID 896 9680 6662 and passcode 116 when prompted. \nJoin via Zoom
URL:https://cathedralofhope.org/event/online-prayer-service/2025-05-20/
LOCATION:ELPC – Online\, 116 South Highland Avenue\, Pittsburgh\, PA\, 15206\, United States
CATEGORIES:Church Life
END:VEVENT
BEGIN:VEVENT
DTSTART;TZID=America/New_York:20250513T080000
DTEND;TZID=America/New_York:20250513T082000
DTSTAMP:20260423T170439
CREATED:20220715T121047Z
LAST-MODIFIED:20240313T135046Z
UID:10003921-1747123200-1747124400@cathedralofhope.org
SUMMARY:Online Prayer Service
DESCRIPTION:ELPC offers an online prayer group each Tuesday morning\, hosted by ELPC member Steve Evrard. These 20-minute sessions feature scripture readings\, responsive prayer\, and interactive dialogue. All are welcome at this opportunity for fellowship and prayer. \nJoin us by clicking the link below\, or you may call in by dialing 929.205.6099. Enter meeting ID 896 9680 6662 and passcode 116 when prompted. \nJoin via Zoom
URL:https://cathedralofhope.org/event/online-prayer-service/2025-05-13/
LOCATION:ELPC – Online\, 116 South Highland Avenue\, Pittsburgh\, PA\, 15206\, United States
CATEGORIES:Church Life
END:VEVENT
BEGIN:VEVENT
DTSTART;TZID=America/New_York:20250506T080000
DTEND;TZID=America/New_York:20250506T082000
DTSTAMP:20260423T170439
CREATED:20220715T121047Z
LAST-MODIFIED:20240313T135046Z
UID:10003920-1746518400-1746519600@cathedralofhope.org
SUMMARY:Online Prayer Service
DESCRIPTION:ELPC offers an online prayer group each Tuesday morning\, hosted by ELPC member Steve Evrard. These 20-minute sessions feature scripture readings\, responsive prayer\, and interactive dialogue. All are welcome at this opportunity for fellowship and prayer. \nJoin us by clicking the link below\, or you may call in by dialing 929.205.6099. Enter meeting ID 896 9680 6662 and passcode 116 when prompted. \nJoin via Zoom
URL:https://cathedralofhope.org/event/online-prayer-service/2025-05-06/
LOCATION:ELPC – Online\, 116 South Highland Avenue\, Pittsburgh\, PA\, 15206\, United States
CATEGORIES:Church Life
END:VEVENT
BEGIN:VEVENT
DTSTART;TZID=America/New_York:20250429T080000
DTEND;TZID=America/New_York:20250429T082000
DTSTAMP:20260423T170439
CREATED:20220715T121047Z
LAST-MODIFIED:20240313T135046Z
UID:10003919-1745913600-1745914800@cathedralofhope.org
SUMMARY:Online Prayer Service
DESCRIPTION:ELPC offers an online prayer group each Tuesday morning\, hosted by ELPC member Steve Evrard. These 20-minute sessions feature scripture readings\, responsive prayer\, and interactive dialogue. All are welcome at this opportunity for fellowship and prayer. \nJoin us by clicking the link below\, or you may call in by dialing 929.205.6099. Enter meeting ID 896 9680 6662 and passcode 116 when prompted. \nJoin via Zoom
URL:https://cathedralofhope.org/event/online-prayer-service/2025-04-29/
LOCATION:ELPC – Online\, 116 South Highland Avenue\, Pittsburgh\, PA\, 15206\, United States
CATEGORIES:Church Life
END:VEVENT
BEGIN:VEVENT
DTSTART;TZID=America/New_York:20250422T080000
DTEND;TZID=America/New_York:20250422T082000
DTSTAMP:20260423T170439
CREATED:20220715T121047Z
LAST-MODIFIED:20240313T135046Z
UID:10003918-1745308800-1745310000@cathedralofhope.org
SUMMARY:Online Prayer Service
DESCRIPTION:ELPC offers an online prayer group each Tuesday morning\, hosted by ELPC member Steve Evrard. These 20-minute sessions feature scripture readings\, responsive prayer\, and interactive dialogue. All are welcome at this opportunity for fellowship and prayer. \nJoin us by clicking the link below\, or you may call in by dialing 929.205.6099. Enter meeting ID 896 9680 6662 and passcode 116 when prompted. \nJoin via Zoom
URL:https://cathedralofhope.org/event/online-prayer-service/2025-04-22/
LOCATION:ELPC – Online\, 116 South Highland Avenue\, Pittsburgh\, PA\, 15206\, United States
CATEGORIES:Church Life
END:VEVENT
BEGIN:VEVENT
DTSTART;TZID=America/New_York:20250415T080000
DTEND;TZID=America/New_York:20250415T082000
DTSTAMP:20260423T170439
CREATED:20220715T121047Z
LAST-MODIFIED:20240313T135046Z
UID:10003917-1744704000-1744705200@cathedralofhope.org
SUMMARY:Online Prayer Service
DESCRIPTION:ELPC offers an online prayer group each Tuesday morning\, hosted by ELPC member Steve Evrard. These 20-minute sessions feature scripture readings\, responsive prayer\, and interactive dialogue. All are welcome at this opportunity for fellowship and prayer. \nJoin us by clicking the link below\, or you may call in by dialing 929.205.6099. Enter meeting ID 896 9680 6662 and passcode 116 when prompted. \nJoin via Zoom
URL:https://cathedralofhope.org/event/online-prayer-service/2025-04-15/
LOCATION:ELPC – Online\, 116 South Highland Avenue\, Pittsburgh\, PA\, 15206\, United States
CATEGORIES:Church Life
END:VEVENT
BEGIN:VEVENT
DTSTART;TZID=America/New_York:20250408T080000
DTEND;TZID=America/New_York:20250408T082000
DTSTAMP:20260423T170439
CREATED:20220715T121047Z
LAST-MODIFIED:20240313T135046Z
UID:10003916-1744099200-1744100400@cathedralofhope.org
SUMMARY:Online Prayer Service
DESCRIPTION:ELPC offers an online prayer group each Tuesday morning\, hosted by ELPC member Steve Evrard. These 20-minute sessions feature scripture readings\, responsive prayer\, and interactive dialogue. All are welcome at this opportunity for fellowship and prayer. \nJoin us by clicking the link below\, or you may call in by dialing 929.205.6099. Enter meeting ID 896 9680 6662 and passcode 116 when prompted. \nJoin via Zoom
URL:https://cathedralofhope.org/event/online-prayer-service/2025-04-08/
LOCATION:ELPC – Online\, 116 South Highland Avenue\, Pittsburgh\, PA\, 15206\, United States
CATEGORIES:Church Life
END:VEVENT
BEGIN:VEVENT
DTSTART;TZID=America/New_York:20250401T080000
DTEND;TZID=America/New_York:20250401T082000
DTSTAMP:20260423T170439
CREATED:20220715T121047Z
LAST-MODIFIED:20240313T135046Z
UID:10003915-1743494400-1743495600@cathedralofhope.org
SUMMARY:Online Prayer Service
DESCRIPTION:ELPC offers an online prayer group each Tuesday morning\, hosted by ELPC member Steve Evrard. These 20-minute sessions feature scripture readings\, responsive prayer\, and interactive dialogue. All are welcome at this opportunity for fellowship and prayer. \nJoin us by clicking the link below\, or you may call in by dialing 929.205.6099. Enter meeting ID 896 9680 6662 and passcode 116 when prompted. \nJoin via Zoom
URL:https://cathedralofhope.org/event/online-prayer-service/2025-04-01/
LOCATION:ELPC – Online\, 116 South Highland Avenue\, Pittsburgh\, PA\, 15206\, United States
CATEGORIES:Church Life
END:VEVENT
BEGIN:VEVENT
DTSTART;TZID=America/New_York:20250325T080000
DTEND;TZID=America/New_York:20250325T082000
DTSTAMP:20260423T170439
CREATED:20220715T121047Z
LAST-MODIFIED:20240313T135046Z
UID:10003914-1742889600-1742890800@cathedralofhope.org
SUMMARY:Online Prayer Service
DESCRIPTION:ELPC offers an online prayer group each Tuesday morning\, hosted by ELPC member Steve Evrard. These 20-minute sessions feature scripture readings\, responsive prayer\, and interactive dialogue. All are welcome at this opportunity for fellowship and prayer. \nJoin us by clicking the link below\, or you may call in by dialing 929.205.6099. Enter meeting ID 896 9680 6662 and passcode 116 when prompted. \nJoin via Zoom
URL:https://cathedralofhope.org/event/online-prayer-service/2025-03-25/
LOCATION:ELPC – Online\, 116 South Highland Avenue\, Pittsburgh\, PA\, 15206\, United States
CATEGORIES:Church Life
END:VEVENT
END:VCALENDAR