BEGIN:VCALENDAR
VERSION:2.0
PRODID:-//East Liberty Presbyterian Church - ECPv6.15.20//NONSGML v1.0//EN
CALSCALE:GREGORIAN
METHOD:PUBLISH
X-ORIGINAL-URL:https://cathedralofhope.org
X-WR-CALDESC:Events for East Liberty Presbyterian Church
REFRESH-INTERVAL;VALUE=DURATION:PT1H
X-Robots-Tag:noindex
X-PUBLISHED-TTL:PT1H
BEGIN:VTIMEZONE
TZID:America/New_York
BEGIN:DAYLIGHT
TZOFFSETFROM:-0500
TZOFFSETTO:-0400
TZNAME:EDT
DTSTART:20260308T070000
END:DAYLIGHT
BEGIN:STANDARD
TZOFFSETFROM:-0400
TZOFFSETTO:-0500
TZNAME:EST
DTSTART:20261101T060000
END:STANDARD
BEGIN:DAYLIGHT
TZOFFSETFROM:-0500
TZOFFSETTO:-0400
TZNAME:EDT
DTSTART:20270314T070000
END:DAYLIGHT
BEGIN:STANDARD
TZOFFSETFROM:-0400
TZOFFSETTO:-0500
TZNAME:EST
DTSTART:20271107T060000
END:STANDARD
BEGIN:DAYLIGHT
TZOFFSETFROM:-0500
TZOFFSETTO:-0400
TZNAME:EDT
DTSTART:20280312T070000
END:DAYLIGHT
BEGIN:STANDARD
TZOFFSETFROM:-0400
TZOFFSETTO:-0500
TZNAME:EST
DTSTART:20281105T060000
END:STANDARD
END:VTIMEZONE
BEGIN:VEVENT
DTSTART;TZID=America/New_York:20270525T080000
DTEND;TZID=America/New_York:20270525T082000
DTSTAMP:20260423T151748
CREATED:20220715T121047Z
LAST-MODIFIED:20240313T135046Z
UID:10004027-1811232000-1811233200@cathedralofhope.org
SUMMARY:Online Prayer Service
DESCRIPTION:ELPC offers an online prayer group each Tuesday morning\, hosted by ELPC member Steve Evrard. These 20-minute sessions feature scripture readings\, responsive prayer\, and interactive dialogue. All are welcome at this opportunity for fellowship and prayer. \nJoin us by clicking the link below\, or you may call in by dialing 929.205.6099. Enter meeting ID 896 9680 6662 and passcode 116 when prompted. \nJoin via Zoom
URL:https://cathedralofhope.org/event/online-prayer-service/2027-05-25/
LOCATION:ELPC – Online\, 116 South Highland Avenue\, Pittsburgh\, PA\, 15206\, United States
CATEGORIES:Church Life
END:VEVENT
BEGIN:VEVENT
DTSTART;TZID=America/New_York:20270601T080000
DTEND;TZID=America/New_York:20270601T082000
DTSTAMP:20260423T151748
CREATED:20220715T121047Z
LAST-MODIFIED:20240313T135046Z
UID:10004028-1811836800-1811838000@cathedralofhope.org
SUMMARY:Online Prayer Service
DESCRIPTION:ELPC offers an online prayer group each Tuesday morning\, hosted by ELPC member Steve Evrard. These 20-minute sessions feature scripture readings\, responsive prayer\, and interactive dialogue. All are welcome at this opportunity for fellowship and prayer. \nJoin us by clicking the link below\, or you may call in by dialing 929.205.6099. Enter meeting ID 896 9680 6662 and passcode 116 when prompted. \nJoin via Zoom
URL:https://cathedralofhope.org/event/online-prayer-service/2027-06-01/
LOCATION:ELPC – Online\, 116 South Highland Avenue\, Pittsburgh\, PA\, 15206\, United States
CATEGORIES:Church Life
END:VEVENT
BEGIN:VEVENT
DTSTART;TZID=America/New_York:20270608T080000
DTEND;TZID=America/New_York:20270608T082000
DTSTAMP:20260423T151748
CREATED:20220715T121047Z
LAST-MODIFIED:20240313T135046Z
UID:10004029-1812441600-1812442800@cathedralofhope.org
SUMMARY:Online Prayer Service
DESCRIPTION:ELPC offers an online prayer group each Tuesday morning\, hosted by ELPC member Steve Evrard. These 20-minute sessions feature scripture readings\, responsive prayer\, and interactive dialogue. All are welcome at this opportunity for fellowship and prayer. \nJoin us by clicking the link below\, or you may call in by dialing 929.205.6099. Enter meeting ID 896 9680 6662 and passcode 116 when prompted. \nJoin via Zoom
URL:https://cathedralofhope.org/event/online-prayer-service/2027-06-08/
LOCATION:ELPC – Online\, 116 South Highland Avenue\, Pittsburgh\, PA\, 15206\, United States
CATEGORIES:Church Life
END:VEVENT
BEGIN:VEVENT
DTSTART;TZID=America/New_York:20270615T080000
DTEND;TZID=America/New_York:20270615T082000
DTSTAMP:20260423T151748
CREATED:20220715T121047Z
LAST-MODIFIED:20240313T135046Z
UID:10004030-1813046400-1813047600@cathedralofhope.org
SUMMARY:Online Prayer Service
DESCRIPTION:ELPC offers an online prayer group each Tuesday morning\, hosted by ELPC member Steve Evrard. These 20-minute sessions feature scripture readings\, responsive prayer\, and interactive dialogue. All are welcome at this opportunity for fellowship and prayer. \nJoin us by clicking the link below\, or you may call in by dialing 929.205.6099. Enter meeting ID 896 9680 6662 and passcode 116 when prompted. \nJoin via Zoom
URL:https://cathedralofhope.org/event/online-prayer-service/2027-06-15/
LOCATION:ELPC – Online\, 116 South Highland Avenue\, Pittsburgh\, PA\, 15206\, United States
CATEGORIES:Church Life
END:VEVENT
BEGIN:VEVENT
DTSTART;TZID=America/New_York:20270622T080000
DTEND;TZID=America/New_York:20270622T082000
DTSTAMP:20260423T151748
CREATED:20220715T121047Z
LAST-MODIFIED:20240313T135046Z
UID:10004031-1813651200-1813652400@cathedralofhope.org
SUMMARY:Online Prayer Service
DESCRIPTION:ELPC offers an online prayer group each Tuesday morning\, hosted by ELPC member Steve Evrard. These 20-minute sessions feature scripture readings\, responsive prayer\, and interactive dialogue. All are welcome at this opportunity for fellowship and prayer. \nJoin us by clicking the link below\, or you may call in by dialing 929.205.6099. Enter meeting ID 896 9680 6662 and passcode 116 when prompted. \nJoin via Zoom
URL:https://cathedralofhope.org/event/online-prayer-service/2027-06-22/
LOCATION:ELPC – Online\, 116 South Highland Avenue\, Pittsburgh\, PA\, 15206\, United States
CATEGORIES:Church Life
END:VEVENT
BEGIN:VEVENT
DTSTART;TZID=America/New_York:20270629T080000
DTEND;TZID=America/New_York:20270629T082000
DTSTAMP:20260423T151748
CREATED:20220715T121047Z
LAST-MODIFIED:20240313T135046Z
UID:10004032-1814256000-1814257200@cathedralofhope.org
SUMMARY:Online Prayer Service
DESCRIPTION:ELPC offers an online prayer group each Tuesday morning\, hosted by ELPC member Steve Evrard. These 20-minute sessions feature scripture readings\, responsive prayer\, and interactive dialogue. All are welcome at this opportunity for fellowship and prayer. \nJoin us by clicking the link below\, or you may call in by dialing 929.205.6099. Enter meeting ID 896 9680 6662 and passcode 116 when prompted. \nJoin via Zoom
URL:https://cathedralofhope.org/event/online-prayer-service/2027-06-29/
LOCATION:ELPC – Online\, 116 South Highland Avenue\, Pittsburgh\, PA\, 15206\, United States
CATEGORIES:Church Life
END:VEVENT
BEGIN:VEVENT
DTSTART;TZID=America/New_York:20270706T080000
DTEND;TZID=America/New_York:20270706T082000
DTSTAMP:20260423T151748
CREATED:20220715T121047Z
LAST-MODIFIED:20240313T135046Z
UID:10004033-1814860800-1814862000@cathedralofhope.org
SUMMARY:Online Prayer Service
DESCRIPTION:ELPC offers an online prayer group each Tuesday morning\, hosted by ELPC member Steve Evrard. These 20-minute sessions feature scripture readings\, responsive prayer\, and interactive dialogue. All are welcome at this opportunity for fellowship and prayer. \nJoin us by clicking the link below\, or you may call in by dialing 929.205.6099. Enter meeting ID 896 9680 6662 and passcode 116 when prompted. \nJoin via Zoom
URL:https://cathedralofhope.org/event/online-prayer-service/2027-07-06/
LOCATION:ELPC – Online\, 116 South Highland Avenue\, Pittsburgh\, PA\, 15206\, United States
CATEGORIES:Church Life
END:VEVENT
BEGIN:VEVENT
DTSTART;TZID=America/New_York:20270713T080000
DTEND;TZID=America/New_York:20270713T082000
DTSTAMP:20260423T151748
CREATED:20220715T121047Z
LAST-MODIFIED:20240313T135046Z
UID:10004034-1815465600-1815466800@cathedralofhope.org
SUMMARY:Online Prayer Service
DESCRIPTION:ELPC offers an online prayer group each Tuesday morning\, hosted by ELPC member Steve Evrard. These 20-minute sessions feature scripture readings\, responsive prayer\, and interactive dialogue. All are welcome at this opportunity for fellowship and prayer. \nJoin us by clicking the link below\, or you may call in by dialing 929.205.6099. Enter meeting ID 896 9680 6662 and passcode 116 when prompted. \nJoin via Zoom
URL:https://cathedralofhope.org/event/online-prayer-service/2027-07-13/
LOCATION:ELPC – Online\, 116 South Highland Avenue\, Pittsburgh\, PA\, 15206\, United States
CATEGORIES:Church Life
END:VEVENT
BEGIN:VEVENT
DTSTART;TZID=America/New_York:20270720T080000
DTEND;TZID=America/New_York:20270720T082000
DTSTAMP:20260423T151748
CREATED:20220715T121047Z
LAST-MODIFIED:20240313T135046Z
UID:10004035-1816070400-1816071600@cathedralofhope.org
SUMMARY:Online Prayer Service
DESCRIPTION:ELPC offers an online prayer group each Tuesday morning\, hosted by ELPC member Steve Evrard. These 20-minute sessions feature scripture readings\, responsive prayer\, and interactive dialogue. All are welcome at this opportunity for fellowship and prayer. \nJoin us by clicking the link below\, or you may call in by dialing 929.205.6099. Enter meeting ID 896 9680 6662 and passcode 116 when prompted. \nJoin via Zoom
URL:https://cathedralofhope.org/event/online-prayer-service/2027-07-20/
LOCATION:ELPC – Online\, 116 South Highland Avenue\, Pittsburgh\, PA\, 15206\, United States
CATEGORIES:Church Life
END:VEVENT
BEGIN:VEVENT
DTSTART;TZID=America/New_York:20270727T080000
DTEND;TZID=America/New_York:20270727T082000
DTSTAMP:20260423T151748
CREATED:20220715T121047Z
LAST-MODIFIED:20240313T135046Z
UID:10004036-1816675200-1816676400@cathedralofhope.org
SUMMARY:Online Prayer Service
DESCRIPTION:ELPC offers an online prayer group each Tuesday morning\, hosted by ELPC member Steve Evrard. These 20-minute sessions feature scripture readings\, responsive prayer\, and interactive dialogue. All are welcome at this opportunity for fellowship and prayer. \nJoin us by clicking the link below\, or you may call in by dialing 929.205.6099. Enter meeting ID 896 9680 6662 and passcode 116 when prompted. \nJoin via Zoom
URL:https://cathedralofhope.org/event/online-prayer-service/2027-07-27/
LOCATION:ELPC – Online\, 116 South Highland Avenue\, Pittsburgh\, PA\, 15206\, United States
CATEGORIES:Church Life
END:VEVENT
BEGIN:VEVENT
DTSTART;TZID=America/New_York:20270803T080000
DTEND;TZID=America/New_York:20270803T082000
DTSTAMP:20260423T151748
CREATED:20220715T121047Z
LAST-MODIFIED:20240313T135046Z
UID:10004037-1817280000-1817281200@cathedralofhope.org
SUMMARY:Online Prayer Service
DESCRIPTION:ELPC offers an online prayer group each Tuesday morning\, hosted by ELPC member Steve Evrard. These 20-minute sessions feature scripture readings\, responsive prayer\, and interactive dialogue. All are welcome at this opportunity for fellowship and prayer. \nJoin us by clicking the link below\, or you may call in by dialing 929.205.6099. Enter meeting ID 896 9680 6662 and passcode 116 when prompted. \nJoin via Zoom
URL:https://cathedralofhope.org/event/online-prayer-service/2027-08-03/
LOCATION:ELPC – Online\, 116 South Highland Avenue\, Pittsburgh\, PA\, 15206\, United States
CATEGORIES:Church Life
END:VEVENT
BEGIN:VEVENT
DTSTART;TZID=America/New_York:20270810T080000
DTEND;TZID=America/New_York:20270810T082000
DTSTAMP:20260423T151748
CREATED:20220715T121047Z
LAST-MODIFIED:20240313T135046Z
UID:10004038-1817884800-1817886000@cathedralofhope.org
SUMMARY:Online Prayer Service
DESCRIPTION:ELPC offers an online prayer group each Tuesday morning\, hosted by ELPC member Steve Evrard. These 20-minute sessions feature scripture readings\, responsive prayer\, and interactive dialogue. All are welcome at this opportunity for fellowship and prayer. \nJoin us by clicking the link below\, or you may call in by dialing 929.205.6099. Enter meeting ID 896 9680 6662 and passcode 116 when prompted. \nJoin via Zoom
URL:https://cathedralofhope.org/event/online-prayer-service/2027-08-10/
LOCATION:ELPC – Online\, 116 South Highland Avenue\, Pittsburgh\, PA\, 15206\, United States
CATEGORIES:Church Life
END:VEVENT
BEGIN:VEVENT
DTSTART;TZID=America/New_York:20270817T080000
DTEND;TZID=America/New_York:20270817T082000
DTSTAMP:20260423T151748
CREATED:20220715T121047Z
LAST-MODIFIED:20240313T135046Z
UID:10004039-1818489600-1818490800@cathedralofhope.org
SUMMARY:Online Prayer Service
DESCRIPTION:ELPC offers an online prayer group each Tuesday morning\, hosted by ELPC member Steve Evrard. These 20-minute sessions feature scripture readings\, responsive prayer\, and interactive dialogue. All are welcome at this opportunity for fellowship and prayer. \nJoin us by clicking the link below\, or you may call in by dialing 929.205.6099. Enter meeting ID 896 9680 6662 and passcode 116 when prompted. \nJoin via Zoom
URL:https://cathedralofhope.org/event/online-prayer-service/2027-08-17/
LOCATION:ELPC – Online\, 116 South Highland Avenue\, Pittsburgh\, PA\, 15206\, United States
CATEGORIES:Church Life
END:VEVENT
BEGIN:VEVENT
DTSTART;TZID=America/New_York:20270824T080000
DTEND;TZID=America/New_York:20270824T082000
DTSTAMP:20260423T151748
CREATED:20220715T121047Z
LAST-MODIFIED:20240313T135046Z
UID:10004040-1819094400-1819095600@cathedralofhope.org
SUMMARY:Online Prayer Service
DESCRIPTION:ELPC offers an online prayer group each Tuesday morning\, hosted by ELPC member Steve Evrard. These 20-minute sessions feature scripture readings\, responsive prayer\, and interactive dialogue. All are welcome at this opportunity for fellowship and prayer. \nJoin us by clicking the link below\, or you may call in by dialing 929.205.6099. Enter meeting ID 896 9680 6662 and passcode 116 when prompted. \nJoin via Zoom
URL:https://cathedralofhope.org/event/online-prayer-service/2027-08-24/
LOCATION:ELPC – Online\, 116 South Highland Avenue\, Pittsburgh\, PA\, 15206\, United States
CATEGORIES:Church Life
END:VEVENT
BEGIN:VEVENT
DTSTART;TZID=America/New_York:20270831T080000
DTEND;TZID=America/New_York:20270831T082000
DTSTAMP:20260423T151748
CREATED:20220715T121047Z
LAST-MODIFIED:20240313T135046Z
UID:10004041-1819699200-1819700400@cathedralofhope.org
SUMMARY:Online Prayer Service
DESCRIPTION:ELPC offers an online prayer group each Tuesday morning\, hosted by ELPC member Steve Evrard. These 20-minute sessions feature scripture readings\, responsive prayer\, and interactive dialogue. All are welcome at this opportunity for fellowship and prayer. \nJoin us by clicking the link below\, or you may call in by dialing 929.205.6099. Enter meeting ID 896 9680 6662 and passcode 116 when prompted. \nJoin via Zoom
URL:https://cathedralofhope.org/event/online-prayer-service/2027-08-31/
LOCATION:ELPC – Online\, 116 South Highland Avenue\, Pittsburgh\, PA\, 15206\, United States
CATEGORIES:Church Life
END:VEVENT
BEGIN:VEVENT
DTSTART;TZID=America/New_York:20270907T080000
DTEND;TZID=America/New_York:20270907T082000
DTSTAMP:20260423T151748
CREATED:20220715T121047Z
LAST-MODIFIED:20240313T135046Z
UID:10004042-1820304000-1820305200@cathedralofhope.org
SUMMARY:Online Prayer Service
DESCRIPTION:ELPC offers an online prayer group each Tuesday morning\, hosted by ELPC member Steve Evrard. These 20-minute sessions feature scripture readings\, responsive prayer\, and interactive dialogue. All are welcome at this opportunity for fellowship and prayer. \nJoin us by clicking the link below\, or you may call in by dialing 929.205.6099. Enter meeting ID 896 9680 6662 and passcode 116 when prompted. \nJoin via Zoom
URL:https://cathedralofhope.org/event/online-prayer-service/2027-09-07/
LOCATION:ELPC – Online\, 116 South Highland Avenue\, Pittsburgh\, PA\, 15206\, United States
CATEGORIES:Church Life
END:VEVENT
BEGIN:VEVENT
DTSTART;TZID=America/New_York:20270914T080000
DTEND;TZID=America/New_York:20270914T082000
DTSTAMP:20260423T151748
CREATED:20220715T121047Z
LAST-MODIFIED:20240313T135046Z
UID:10004043-1820908800-1820910000@cathedralofhope.org
SUMMARY:Online Prayer Service
DESCRIPTION:ELPC offers an online prayer group each Tuesday morning\, hosted by ELPC member Steve Evrard. These 20-minute sessions feature scripture readings\, responsive prayer\, and interactive dialogue. All are welcome at this opportunity for fellowship and prayer. \nJoin us by clicking the link below\, or you may call in by dialing 929.205.6099. Enter meeting ID 896 9680 6662 and passcode 116 when prompted. \nJoin via Zoom
URL:https://cathedralofhope.org/event/online-prayer-service/2027-09-14/
LOCATION:ELPC – Online\, 116 South Highland Avenue\, Pittsburgh\, PA\, 15206\, United States
CATEGORIES:Church Life
END:VEVENT
BEGIN:VEVENT
DTSTART;TZID=America/New_York:20270921T080000
DTEND;TZID=America/New_York:20270921T082000
DTSTAMP:20260423T151748
CREATED:20220715T121047Z
LAST-MODIFIED:20240313T135046Z
UID:10004044-1821513600-1821514800@cathedralofhope.org
SUMMARY:Online Prayer Service
DESCRIPTION:ELPC offers an online prayer group each Tuesday morning\, hosted by ELPC member Steve Evrard. These 20-minute sessions feature scripture readings\, responsive prayer\, and interactive dialogue. All are welcome at this opportunity for fellowship and prayer. \nJoin us by clicking the link below\, or you may call in by dialing 929.205.6099. Enter meeting ID 896 9680 6662 and passcode 116 when prompted. \nJoin via Zoom
URL:https://cathedralofhope.org/event/online-prayer-service/2027-09-21/
LOCATION:ELPC – Online\, 116 South Highland Avenue\, Pittsburgh\, PA\, 15206\, United States
CATEGORIES:Church Life
END:VEVENT
BEGIN:VEVENT
DTSTART;TZID=America/New_York:20270928T080000
DTEND;TZID=America/New_York:20270928T082000
DTSTAMP:20260423T151748
CREATED:20220715T121047Z
LAST-MODIFIED:20240313T135046Z
UID:10004045-1822118400-1822119600@cathedralofhope.org
SUMMARY:Online Prayer Service
DESCRIPTION:ELPC offers an online prayer group each Tuesday morning\, hosted by ELPC member Steve Evrard. These 20-minute sessions feature scripture readings\, responsive prayer\, and interactive dialogue. All are welcome at this opportunity for fellowship and prayer. \nJoin us by clicking the link below\, or you may call in by dialing 929.205.6099. Enter meeting ID 896 9680 6662 and passcode 116 when prompted. \nJoin via Zoom
URL:https://cathedralofhope.org/event/online-prayer-service/2027-09-28/
LOCATION:ELPC – Online\, 116 South Highland Avenue\, Pittsburgh\, PA\, 15206\, United States
CATEGORIES:Church Life
END:VEVENT
BEGIN:VEVENT
DTSTART;TZID=America/New_York:20271005T080000
DTEND;TZID=America/New_York:20271005T082000
DTSTAMP:20260423T151748
CREATED:20220715T121047Z
LAST-MODIFIED:20240313T135046Z
UID:10004046-1822723200-1822724400@cathedralofhope.org
SUMMARY:Online Prayer Service
DESCRIPTION:ELPC offers an online prayer group each Tuesday morning\, hosted by ELPC member Steve Evrard. These 20-minute sessions feature scripture readings\, responsive prayer\, and interactive dialogue. All are welcome at this opportunity for fellowship and prayer. \nJoin us by clicking the link below\, or you may call in by dialing 929.205.6099. Enter meeting ID 896 9680 6662 and passcode 116 when prompted. \nJoin via Zoom
URL:https://cathedralofhope.org/event/online-prayer-service/2027-10-05/
LOCATION:ELPC – Online\, 116 South Highland Avenue\, Pittsburgh\, PA\, 15206\, United States
CATEGORIES:Church Life
END:VEVENT
BEGIN:VEVENT
DTSTART;TZID=America/New_York:20271012T080000
DTEND;TZID=America/New_York:20271012T082000
DTSTAMP:20260423T151748
CREATED:20220715T121047Z
LAST-MODIFIED:20240313T135046Z
UID:10004047-1823328000-1823329200@cathedralofhope.org
SUMMARY:Online Prayer Service
DESCRIPTION:ELPC offers an online prayer group each Tuesday morning\, hosted by ELPC member Steve Evrard. These 20-minute sessions feature scripture readings\, responsive prayer\, and interactive dialogue. All are welcome at this opportunity for fellowship and prayer. \nJoin us by clicking the link below\, or you may call in by dialing 929.205.6099. Enter meeting ID 896 9680 6662 and passcode 116 when prompted. \nJoin via Zoom
URL:https://cathedralofhope.org/event/online-prayer-service/2027-10-12/
LOCATION:ELPC – Online\, 116 South Highland Avenue\, Pittsburgh\, PA\, 15206\, United States
CATEGORIES:Church Life
END:VEVENT
BEGIN:VEVENT
DTSTART;TZID=America/New_York:20271019T080000
DTEND;TZID=America/New_York:20271019T082000
DTSTAMP:20260423T151748
CREATED:20220715T121047Z
LAST-MODIFIED:20240313T135046Z
UID:10004048-1823932800-1823934000@cathedralofhope.org
SUMMARY:Online Prayer Service
DESCRIPTION:ELPC offers an online prayer group each Tuesday morning\, hosted by ELPC member Steve Evrard. These 20-minute sessions feature scripture readings\, responsive prayer\, and interactive dialogue. All are welcome at this opportunity for fellowship and prayer. \nJoin us by clicking the link below\, or you may call in by dialing 929.205.6099. Enter meeting ID 896 9680 6662 and passcode 116 when prompted. \nJoin via Zoom
URL:https://cathedralofhope.org/event/online-prayer-service/2027-10-19/
LOCATION:ELPC – Online\, 116 South Highland Avenue\, Pittsburgh\, PA\, 15206\, United States
CATEGORIES:Church Life
END:VEVENT
BEGIN:VEVENT
DTSTART;TZID=America/New_York:20271026T080000
DTEND;TZID=America/New_York:20271026T082000
DTSTAMP:20260423T151748
CREATED:20220715T121047Z
LAST-MODIFIED:20240313T135046Z
UID:10004049-1824537600-1824538800@cathedralofhope.org
SUMMARY:Online Prayer Service
DESCRIPTION:ELPC offers an online prayer group each Tuesday morning\, hosted by ELPC member Steve Evrard. These 20-minute sessions feature scripture readings\, responsive prayer\, and interactive dialogue. All are welcome at this opportunity for fellowship and prayer. \nJoin us by clicking the link below\, or you may call in by dialing 929.205.6099. Enter meeting ID 896 9680 6662 and passcode 116 when prompted. \nJoin via Zoom
URL:https://cathedralofhope.org/event/online-prayer-service/2027-10-26/
LOCATION:ELPC – Online\, 116 South Highland Avenue\, Pittsburgh\, PA\, 15206\, United States
CATEGORIES:Church Life
END:VEVENT
BEGIN:VEVENT
DTSTART;TZID=America/New_York:20271102T080000
DTEND;TZID=America/New_York:20271102T082000
DTSTAMP:20260423T151748
CREATED:20220715T121047Z
LAST-MODIFIED:20240313T135046Z
UID:10004050-1825142400-1825143600@cathedralofhope.org
SUMMARY:Online Prayer Service
DESCRIPTION:ELPC offers an online prayer group each Tuesday morning\, hosted by ELPC member Steve Evrard. These 20-minute sessions feature scripture readings\, responsive prayer\, and interactive dialogue. All are welcome at this opportunity for fellowship and prayer. \nJoin us by clicking the link below\, or you may call in by dialing 929.205.6099. Enter meeting ID 896 9680 6662 and passcode 116 when prompted. \nJoin via Zoom
URL:https://cathedralofhope.org/event/online-prayer-service/2027-11-02/
LOCATION:ELPC – Online\, 116 South Highland Avenue\, Pittsburgh\, PA\, 15206\, United States
CATEGORIES:Church Life
END:VEVENT
BEGIN:VEVENT
DTSTART;TZID=America/New_York:20271109T080000
DTEND;TZID=America/New_York:20271109T082000
DTSTAMP:20260423T151748
CREATED:20220715T121047Z
LAST-MODIFIED:20240313T135046Z
UID:10004051-1825747200-1825748400@cathedralofhope.org
SUMMARY:Online Prayer Service
DESCRIPTION:ELPC offers an online prayer group each Tuesday morning\, hosted by ELPC member Steve Evrard. These 20-minute sessions feature scripture readings\, responsive prayer\, and interactive dialogue. All are welcome at this opportunity for fellowship and prayer. \nJoin us by clicking the link below\, or you may call in by dialing 929.205.6099. Enter meeting ID 896 9680 6662 and passcode 116 when prompted. \nJoin via Zoom
URL:https://cathedralofhope.org/event/online-prayer-service/2027-11-09/
LOCATION:ELPC – Online\, 116 South Highland Avenue\, Pittsburgh\, PA\, 15206\, United States
CATEGORIES:Church Life
END:VEVENT
BEGIN:VEVENT
DTSTART;TZID=America/New_York:20271116T080000
DTEND;TZID=America/New_York:20271116T082000
DTSTAMP:20260423T151748
CREATED:20220715T121047Z
LAST-MODIFIED:20240313T135046Z
UID:10004052-1826352000-1826353200@cathedralofhope.org
SUMMARY:Online Prayer Service
DESCRIPTION:ELPC offers an online prayer group each Tuesday morning\, hosted by ELPC member Steve Evrard. These 20-minute sessions feature scripture readings\, responsive prayer\, and interactive dialogue. All are welcome at this opportunity for fellowship and prayer. \nJoin us by clicking the link below\, or you may call in by dialing 929.205.6099. Enter meeting ID 896 9680 6662 and passcode 116 when prompted. \nJoin via Zoom
URL:https://cathedralofhope.org/event/online-prayer-service/2027-11-16/
LOCATION:ELPC – Online\, 116 South Highland Avenue\, Pittsburgh\, PA\, 15206\, United States
CATEGORIES:Church Life
END:VEVENT
BEGIN:VEVENT
DTSTART;TZID=America/New_York:20271123T080000
DTEND;TZID=America/New_York:20271123T082000
DTSTAMP:20260423T151748
CREATED:20220715T121047Z
LAST-MODIFIED:20240313T135046Z
UID:10004053-1826956800-1826958000@cathedralofhope.org
SUMMARY:Online Prayer Service
DESCRIPTION:ELPC offers an online prayer group each Tuesday morning\, hosted by ELPC member Steve Evrard. These 20-minute sessions feature scripture readings\, responsive prayer\, and interactive dialogue. All are welcome at this opportunity for fellowship and prayer. \nJoin us by clicking the link below\, or you may call in by dialing 929.205.6099. Enter meeting ID 896 9680 6662 and passcode 116 when prompted. \nJoin via Zoom
URL:https://cathedralofhope.org/event/online-prayer-service/2027-11-23/
LOCATION:ELPC – Online\, 116 South Highland Avenue\, Pittsburgh\, PA\, 15206\, United States
CATEGORIES:Church Life
END:VEVENT
BEGIN:VEVENT
DTSTART;TZID=America/New_York:20271130T080000
DTEND;TZID=America/New_York:20271130T082000
DTSTAMP:20260423T151748
CREATED:20220715T121047Z
LAST-MODIFIED:20240313T135046Z
UID:10004054-1827561600-1827562800@cathedralofhope.org
SUMMARY:Online Prayer Service
DESCRIPTION:ELPC offers an online prayer group each Tuesday morning\, hosted by ELPC member Steve Evrard. These 20-minute sessions feature scripture readings\, responsive prayer\, and interactive dialogue. All are welcome at this opportunity for fellowship and prayer. \nJoin us by clicking the link below\, or you may call in by dialing 929.205.6099. Enter meeting ID 896 9680 6662 and passcode 116 when prompted. \nJoin via Zoom
URL:https://cathedralofhope.org/event/online-prayer-service/2027-11-30/
LOCATION:ELPC – Online\, 116 South Highland Avenue\, Pittsburgh\, PA\, 15206\, United States
CATEGORIES:Church Life
END:VEVENT
BEGIN:VEVENT
DTSTART;TZID=America/New_York:20271207T080000
DTEND;TZID=America/New_York:20271207T082000
DTSTAMP:20260423T151748
CREATED:20220715T121047Z
LAST-MODIFIED:20240313T135046Z
UID:10004055-1828166400-1828167600@cathedralofhope.org
SUMMARY:Online Prayer Service
DESCRIPTION:ELPC offers an online prayer group each Tuesday morning\, hosted by ELPC member Steve Evrard. These 20-minute sessions feature scripture readings\, responsive prayer\, and interactive dialogue. All are welcome at this opportunity for fellowship and prayer. \nJoin us by clicking the link below\, or you may call in by dialing 929.205.6099. Enter meeting ID 896 9680 6662 and passcode 116 when prompted. \nJoin via Zoom
URL:https://cathedralofhope.org/event/online-prayer-service/2027-12-07/
LOCATION:ELPC – Online\, 116 South Highland Avenue\, Pittsburgh\, PA\, 15206\, United States
CATEGORIES:Church Life
END:VEVENT
BEGIN:VEVENT
DTSTART;TZID=America/New_York:20271214T080000
DTEND;TZID=America/New_York:20271214T082000
DTSTAMP:20260423T151748
CREATED:20220715T121047Z
LAST-MODIFIED:20240313T135046Z
UID:10004056-1828771200-1828772400@cathedralofhope.org
SUMMARY:Online Prayer Service
DESCRIPTION:ELPC offers an online prayer group each Tuesday morning\, hosted by ELPC member Steve Evrard. These 20-minute sessions feature scripture readings\, responsive prayer\, and interactive dialogue. All are welcome at this opportunity for fellowship and prayer. \nJoin us by clicking the link below\, or you may call in by dialing 929.205.6099. Enter meeting ID 896 9680 6662 and passcode 116 when prompted. \nJoin via Zoom
URL:https://cathedralofhope.org/event/online-prayer-service/2027-12-14/
LOCATION:ELPC – Online\, 116 South Highland Avenue\, Pittsburgh\, PA\, 15206\, United States
CATEGORIES:Church Life
END:VEVENT
END:VCALENDAR