BEGIN:VCALENDAR
VERSION:2.0
PRODID:-//East Liberty Presbyterian Church - ECPv6.15.20//NONSGML v1.0//EN
CALSCALE:GREGORIAN
METHOD:PUBLISH
X-ORIGINAL-URL:https://cathedralofhope.org
X-WR-CALDESC:Events for East Liberty Presbyterian Church
REFRESH-INTERVAL;VALUE=DURATION:PT1H
X-Robots-Tag:noindex
X-PUBLISHED-TTL:PT1H
BEGIN:VTIMEZONE
TZID:America/Halifax
BEGIN:DAYLIGHT
TZOFFSETFROM:-0400
TZOFFSETTO:-0300
TZNAME:ADT
DTSTART:20130310T060000
END:DAYLIGHT
BEGIN:STANDARD
TZOFFSETFROM:-0300
TZOFFSETTO:-0400
TZNAME:AST
DTSTART:20131103T050000
END:STANDARD
BEGIN:DAYLIGHT
TZOFFSETFROM:-0400
TZOFFSETTO:-0300
TZNAME:ADT
DTSTART:20140309T060000
END:DAYLIGHT
BEGIN:STANDARD
TZOFFSETFROM:-0300
TZOFFSETTO:-0400
TZNAME:AST
DTSTART:20141102T050000
END:STANDARD
BEGIN:DAYLIGHT
TZOFFSETFROM:-0400
TZOFFSETTO:-0300
TZNAME:ADT
DTSTART:20150308T060000
END:DAYLIGHT
BEGIN:STANDARD
TZOFFSETFROM:-0300
TZOFFSETTO:-0400
TZNAME:AST
DTSTART:20151101T050000
END:STANDARD
BEGIN:DAYLIGHT
TZOFFSETFROM:-0400
TZOFFSETTO:-0300
TZNAME:ADT
DTSTART:20160313T060000
END:DAYLIGHT
BEGIN:STANDARD
TZOFFSETFROM:-0300
TZOFFSETTO:-0400
TZNAME:AST
DTSTART:20161106T050000
END:STANDARD
END:VTIMEZONE
BEGIN:VEVENT
DTSTART;TZID=America/Halifax:20151206T094500
DTEND;TZID=America/Halifax:20151206T104500
DTSTAMP:20260423T170705
CREATED:20150823T010041Z
LAST-MODIFIED:20150823T010041Z
UID:10002437-1449395100-1449398700@cathedralofhope.org
SUMMARY:YAM Sunday Class: Coming Out....as a Christian
DESCRIPTION:Let’s explore what it means to be a Christian and other related topics in light of a common reading experience – The Cross in the Closet. Café Justo coffee served and childcare available. This is a young adult event.
URL:https://cathedralofhope.org/event/yam-sunday-class-coming-out-as-a-christian/
LOCATION:ELPC – Pastor’s Conference Room\, 116 S Highland Avenue\, Pittsburgh\, PA\, 15206\, United States
CATEGORIES:Educational & Spiritual Life,Young Adult
ORGANIZER;CN="Jim DiGiorgio":MAILTO:JimD@coh.net
GEO:40.461033;-79.925503
X-APPLE-STRUCTURED-LOCATION;VALUE=URI;X-ADDRESS=ELPC – Pastor’s Conference Room 116 S Highland Avenue Pittsburgh PA 15206 United States;X-APPLE-RADIUS=500;X-TITLE=116 S Highland Avenue:geo:-79.925503,40.461033
END:VEVENT
BEGIN:VEVENT
DTSTART;TZID=America/Halifax:20151115T094500
DTEND;TZID=America/Halifax:20151115T104500
DTSTAMP:20260423T170705
CREATED:20150823T005430Z
LAST-MODIFIED:20150823T005430Z
UID:10002435-1447580700-1447584300@cathedralofhope.org
SUMMARY:YAM Sunday Class: Finding Jesus on the Margins
DESCRIPTION:Come seek Jesus on the margins in light of a common reading experience – The Cross in the Closet. All are welcome and are able to participate whether or not they have read the book.  Café Justo coffee served and childcare available.  This is a young adult event.
URL:https://cathedralofhope.org/event/yam-sunday-class-finding-jesus-on-the-margins/
LOCATION:ELPC – Pastor’s Conference Room\, 116 S Highland Avenue\, Pittsburgh\, PA\, 15206\, United States
CATEGORIES:Educational & Spiritual Life,Young Adult
ORGANIZER;CN="Jim DiGiorgio":MAILTO:JimD@coh.net
GEO:40.461033;-79.925503
X-APPLE-STRUCTURED-LOCATION;VALUE=URI;X-ADDRESS=ELPC – Pastor’s Conference Room 116 S Highland Avenue Pittsburgh PA 15206 United States;X-APPLE-RADIUS=500;X-TITLE=116 S Highland Avenue:geo:-79.925503,40.461033
END:VEVENT
BEGIN:VEVENT
DTSTART;TZID=America/Halifax:20151025T094500
DTEND;TZID=America/Halifax:20151025T104500
DTSTAMP:20260423T170705
CREATED:20150823T002244Z
LAST-MODIFIED:20150823T002244Z
UID:10002434-1445766300-1445769900@cathedralofhope.org
SUMMARY:YAM Sunday Class: Conservative & Progressive Theology
DESCRIPTION:Come explore current topics in light of a common reading experience.  The shared experience of Kurek’s The Cross in the Closet will enhance the conversation\, but it is not necessary to read it to fully participate. Café Justo coffee served and childcare available.  This is a young adult event.
URL:https://cathedralofhope.org/event/yam-sunday-class-conservative-progressive-theology/
LOCATION:ELPC – Pastor’s Conference Room\, 116 S Highland Avenue\, Pittsburgh\, PA\, 15206\, United States
CATEGORIES:Educational & Spiritual Life,Young Adult
ORGANIZER;CN="Jim DiGiorgio":MAILTO:JimD@coh.net
GEO:40.461033;-79.925503
X-APPLE-STRUCTURED-LOCATION;VALUE=URI;X-ADDRESS=ELPC – Pastor’s Conference Room 116 S Highland Avenue Pittsburgh PA 15206 United States;X-APPLE-RADIUS=500;X-TITLE=116 S Highland Avenue:geo:-79.925503,40.461033
END:VEVENT
BEGIN:VEVENT
DTSTART;TZID=America/Halifax:20150118T094500
DTEND;TZID=America/Halifax:20150118T104500
DTSTAMP:20260423T170705
CREATED:20141208T043622Z
LAST-MODIFIED:20141208T043622Z
UID:10002553-1421574300-1421577900@cathedralofhope.org
SUMMARY:Origins: Being Formed and Reformed
DESCRIPTION:Who are we as Christians and as Presbyterians – and how did we get to this point?\nLed by Rev. Heather Vacek\, PTS History Professor. \nThis is a YAM Church School class.
URL:https://cathedralofhope.org/event/origins-formed-reformed/
LOCATION:ELPC – Pastor’s Conference Room\, 116 S Highland Avenue\, Pittsburgh\, PA\, 15206\, United States
CATEGORIES:Educational & Spiritual Life,Young Adult
ORGANIZER;CN="Jim DiGiorgio":MAILTO:JimD@coh.net
GEO:40.461033;-79.925503
X-APPLE-STRUCTURED-LOCATION;VALUE=URI;X-ADDRESS=ELPC – Pastor’s Conference Room 116 S Highland Avenue Pittsburgh PA 15206 United States;X-APPLE-RADIUS=500;X-TITLE=116 S Highland Avenue:geo:-79.925503,40.461033
END:VEVENT
BEGIN:VEVENT
DTSTART;TZID=America/Halifax:20141207T094500
DTEND;TZID=America/Halifax:20141207T104500
DTSTAMP:20260423T170705
CREATED:20140819T032818Z
LAST-MODIFIED:20140819T032818Z
UID:10002481-1417945500-1417949100@cathedralofhope.org
SUMMARY:YAM Sunday Class
DESCRIPTION:How do I reconcile that God is love and at the same time God has taken so many lives in the Bible?  The young adult fall theme of Scriptures that challenge us as Christians concludes as Pastor Randy leads this class focusing on violence and God in the Bible.  Café Justo coffee served and childcare available in the nursery.
URL:https://cathedralofhope.org/event/yam-sunday-class-4/
LOCATION:ELPC – Pastor’s Conference Room\, 116 S Highland Avenue\, Pittsburgh\, PA\, 15206\, United States
CATEGORIES:Educational & Spiritual Life,Young Adult
ORGANIZER;CN="Jim DiGiorgio":MAILTO:JimD@coh.net
GEO:40.461033;-79.925503
X-APPLE-STRUCTURED-LOCATION;VALUE=URI;X-ADDRESS=ELPC – Pastor’s Conference Room 116 S Highland Avenue Pittsburgh PA 15206 United States;X-APPLE-RADIUS=500;X-TITLE=116 S Highland Avenue:geo:-79.925503,40.461033
END:VEVENT
BEGIN:VEVENT
DTSTART;TZID=America/Halifax:20141130T123000
DTEND;TZID=America/Halifax:20141130T140000
DTSTAMP:20260423T170705
CREATED:20140819T034623Z
LAST-MODIFIED:20140819T034623Z
UID:10002491-1417350600-1417356000@cathedralofhope.org
SUMMARY:LGBTQ Ministry Business Meeting
DESCRIPTION:All LGBTQ individuals and allies are welcome at this quarterly business meeting. Contact Wil Forrest for more detail.
URL:https://cathedralofhope.org/event/lgbtq-ministry-business-meeting-2/
LOCATION:ELPC – Pastor’s Conference Room\, 116 S Highland Avenue\, Pittsburgh\, PA\, 15206\, United States
CATEGORIES:Committee Meetings,LGBTQIA+
ORGANIZER;CN="Jim DiGiorgio":MAILTO:JimD@coh.net
GEO:40.461033;-79.925503
X-APPLE-STRUCTURED-LOCATION;VALUE=URI;X-ADDRESS=ELPC – Pastor’s Conference Room 116 S Highland Avenue Pittsburgh PA 15206 United States;X-APPLE-RADIUS=500;X-TITLE=116 S Highland Avenue:geo:-79.925503,40.461033
END:VEVENT
BEGIN:VEVENT
DTSTART;TZID=America/Halifax:20141109T094500
DTEND;TZID=America/Halifax:20141109T104500
DTSTAMP:20260423T170705
CREATED:20140819T031638Z
LAST-MODIFIED:20140819T031638Z
UID:10002472-1415526300-1415529900@cathedralofhope.org
SUMMARY:YAM Sunday Class
DESCRIPTION:But doesn’t the Bible call homosexuality an “abomination” and mandate death?  The fall young adult class theme of Scriptures that challenge us as Christians continues as Pastor Heather leads this class focusing on the so-called Clobber Texts that have been used against LGBTQ people.  Café Justo coffee served and childcare available in the nursery.
URL:https://cathedralofhope.org/event/yam-sunday-class-3/
LOCATION:ELPC – Pastor’s Conference Room\, 116 S Highland Avenue\, Pittsburgh\, PA\, 15206\, United States
CATEGORIES:Educational & Spiritual Life,Young Adult
ORGANIZER;CN="Jim DiGiorgio":MAILTO:JimD@coh.net
GEO:40.461033;-79.925503
X-APPLE-STRUCTURED-LOCATION;VALUE=URI;X-ADDRESS=ELPC – Pastor’s Conference Room 116 S Highland Avenue Pittsburgh PA 15206 United States;X-APPLE-RADIUS=500;X-TITLE=116 S Highland Avenue:geo:-79.925503,40.461033
END:VEVENT
BEGIN:VEVENT
DTSTART;TZID=America/Halifax:20141012T094500
DTEND;TZID=America/Halifax:20141012T104500
DTSTAMP:20260423T170705
CREATED:20140819T030921Z
LAST-MODIFIED:20140819T030921Z
UID:10002469-1413107100-1413110700@cathedralofhope.org
SUMMARY:YAM Sunday Class
DESCRIPTION:Do you have to choose between the Bible and Science?  The young adult fall class theme of Scriptures that challenge us as Christians continues as PTS professor Dr. Steven Tuell leads this class focusing on the interaction between Genesis and science.  Café Justo coffee served and childcare available in the nursery.
URL:https://cathedralofhope.org/event/yam-sunday-class-2/
LOCATION:ELPC – Pastor’s Conference Room\, 116 S Highland Avenue\, Pittsburgh\, PA\, 15206\, United States
CATEGORIES:Educational & Spiritual Life,Young Adult
ORGANIZER;CN="Jim DiGiorgio":MAILTO:JimD@coh.net
GEO:40.461033;-79.925503
X-APPLE-STRUCTURED-LOCATION;VALUE=URI;X-ADDRESS=ELPC – Pastor’s Conference Room 116 S Highland Avenue Pittsburgh PA 15206 United States;X-APPLE-RADIUS=500;X-TITLE=116 S Highland Avenue:geo:-79.925503,40.461033
END:VEVENT
BEGIN:VEVENT
DTSTART;TZID=America/Halifax:20140921T094500
DTEND;TZID=America/Halifax:20140921T104500
DTSTAMP:20260423T170705
CREATED:20140819T030036Z
LAST-MODIFIED:20140819T030036Z
UID:10002467-1411292700-1411296300@cathedralofhope.org
SUMMARY:YAM Sunday Class
DESCRIPTION:Doesn’t the Bible say that women are not to speak in church?  The young adult fall class theme is Scriptures that challenge us as Christians and our very own young adult member Tucker Ferda will lead this class focusing on Paul’s view of women.  Café Justo coffee served and childcare available in the nursery.
URL:https://cathedralofhope.org/event/yam-sunday-class/
LOCATION:ELPC – Pastor’s Conference Room\, 116 S Highland Avenue\, Pittsburgh\, PA\, 15206\, United States
CATEGORIES:Educational & Spiritual Life,Young Adult
ORGANIZER;CN="Jim DiGiorgio":MAILTO:JimD@coh.net
GEO:40.461033;-79.925503
X-APPLE-STRUCTURED-LOCATION;VALUE=URI;X-ADDRESS=ELPC – Pastor’s Conference Room 116 S Highland Avenue Pittsburgh PA 15206 United States;X-APPLE-RADIUS=500;X-TITLE=116 S Highland Avenue:geo:-79.925503,40.461033
END:VEVENT
BEGIN:VEVENT
DTSTART;TZID=America/Halifax:20140601T113000
DTEND;TZID=America/Halifax:20140601T130000
DTSTAMP:20260423T170705
CREATED:20140510T161910Z
LAST-MODIFIED:20140510T161910Z
UID:10002394-1401622200-1401627600@cathedralofhope.org
SUMMARY:Business Meeting
DESCRIPTION:The members of the LGBTQ Ministry and allies gather for this monthly business meeting.  All are welcome.
URL:https://cathedralofhope.org/event/business-meeting/
LOCATION:ELPC – Pastor’s Conference Room\, 116 S Highland Avenue\, Pittsburgh\, PA\, 15206\, United States
CATEGORIES:Committee Meetings,LGBTQIA+
GEO:40.461033;-79.925503
X-APPLE-STRUCTURED-LOCATION;VALUE=URI;X-ADDRESS=ELPC – Pastor’s Conference Room 116 S Highland Avenue Pittsburgh PA 15206 United States;X-APPLE-RADIUS=500;X-TITLE=116 S Highland Avenue:geo:-79.925503,40.461033
END:VEVENT
END:VCALENDAR