BEGIN:VCALENDAR
VERSION:2.0
PRODID:-//East Liberty Presbyterian Church - ECPv6.15.20//NONSGML v1.0//EN
CALSCALE:GREGORIAN
METHOD:PUBLISH
X-ORIGINAL-URL:https://cathedralofhope.org
X-WR-CALDESC:Events for East Liberty Presbyterian Church
REFRESH-INTERVAL;VALUE=DURATION:PT1H
X-Robots-Tag:noindex
X-PUBLISHED-TTL:PT1H
BEGIN:VTIMEZONE
TZID:America/Halifax
BEGIN:DAYLIGHT
TZOFFSETFROM:-0400
TZOFFSETTO:-0300
TZNAME:ADT
DTSTART:20150308T060000
END:DAYLIGHT
BEGIN:STANDARD
TZOFFSETFROM:-0300
TZOFFSETTO:-0400
TZNAME:AST
DTSTART:20151101T050000
END:STANDARD
BEGIN:DAYLIGHT
TZOFFSETFROM:-0400
TZOFFSETTO:-0300
TZNAME:ADT
DTSTART:20160313T060000
END:DAYLIGHT
BEGIN:STANDARD
TZOFFSETFROM:-0300
TZOFFSETTO:-0400
TZNAME:AST
DTSTART:20161106T050000
END:STANDARD
BEGIN:DAYLIGHT
TZOFFSETFROM:-0400
TZOFFSETTO:-0300
TZNAME:ADT
DTSTART:20170312T060000
END:DAYLIGHT
BEGIN:STANDARD
TZOFFSETFROM:-0300
TZOFFSETTO:-0400
TZNAME:AST
DTSTART:20171105T050000
END:STANDARD
BEGIN:DAYLIGHT
TZOFFSETFROM:-0400
TZOFFSETTO:-0300
TZNAME:ADT
DTSTART:20180311T060000
END:DAYLIGHT
BEGIN:STANDARD
TZOFFSETFROM:-0300
TZOFFSETTO:-0400
TZNAME:AST
DTSTART:20181104T050000
END:STANDARD
BEGIN:DAYLIGHT
TZOFFSETFROM:-0400
TZOFFSETTO:-0300
TZNAME:ADT
DTSTART:20190310T060000
END:DAYLIGHT
BEGIN:STANDARD
TZOFFSETFROM:-0300
TZOFFSETTO:-0400
TZNAME:AST
DTSTART:20191103T050000
END:STANDARD
END:VTIMEZONE
BEGIN:VEVENT
DTSTART;TZID=America/Halifax:20181011T183000
DTEND;TZID=America/Halifax:20181011T190000
DTSTAMP:20260425T205118
CREATED:20160921T153012Z
LAST-MODIFIED:20160921T153012Z
UID:10003120-1539282600-1539284400@cathedralofhope.org
SUMMARY:Canceled: Qigong
DESCRIPTION:We will take a break this week. Qigong will return on Wednesday\, October 18\, 6:30 pm. \n\nQigong is an ancient Chinese health care system that integrates physical postures\, breathing techniques and focused intention. The word Qigong (Chi Kung) is made up of two Chinese words. “Qi” is pronounced “chee” and is usually translated to mean the life force or vital-energy that flows through all things in the universe. “Gong” is pronounced “gung” and means accomplishment\, or skill that is cultivated through steady practice. Together\, Qigong (Chi Kung) means cultivating energy\, it is a contemplative system practiced for health maintenance\, healing and increasing vitality. \nLinda Harrington will lead half hour of Qigong on Thursdays\, 6:30 pm\, in the Prayer and Meditation Room before Mindfulness Meditation. Beginners are always welcome!
URL:https://cathedralofhope.org/event/qigong-2018-10-11/
LOCATION:ELPC – Prayer Room (Room 135)\, 116 S. Highland Avenue\, Pittsburgh\, 15206\, United States
CATEGORIES:Church Life,Educational & Spiritual Life,Health
ORGANIZER;CN="Rev. Mary Lynn Callahan":MAILTO:MaryLynn@coh.net
GEO:40.4609708;-79.9253554
X-APPLE-STRUCTURED-LOCATION;VALUE=URI;X-ADDRESS=ELPC – Prayer Room (Room 135) 116 S. Highland Avenue Pittsburgh 15206 United States;X-APPLE-RADIUS=500;X-TITLE=116 S. Highland Avenue:geo:-79.9253554,40.4609708
END:VEVENT
BEGIN:VEVENT
DTSTART;TZID=America/Halifax:20180809T190000
DTEND;TZID=America/Halifax:20180809T200000
DTSTAMP:20260425T205118
CREATED:20140930T181321Z
LAST-MODIFIED:20140930T181321Z
UID:10002310-1533841200-1533844800@cathedralofhope.org
SUMMARY:Canceled: Mindfulness Meditation
DESCRIPTION:We will not meet on Thursday\, August 9. Our regular schedule will resume next Thursday\, August 16. \n\nJoin us and Susan Spangler as we learn more about Mindfulness Meditation and engage in this ancient prayer form together. We begin with Qi Gong and move into meditation instruction\, guided meditations\, and practices for supporting mindfulness in everyday life. \nMindfulness is the moment-to-moment awareness of our experience with an accepting\, non-judgmental\, kind attention. In this ongoing practice\, we’ll explore and deepen our experience of mindfulness. Our weekly time together will include meditation instruction\, guided meditations\, and practices for supporting mindfulness in everyday life. \nBoth those who are new to meditation and those with meditation experience are heartily welcome.
URL:https://cathedralofhope.org/event/mindfulness-meditation-2018-08-09/
LOCATION:ELPC – Prayer Room (Room 135)\, 116 S. Highland Avenue\, Pittsburgh\, 15206\, United States
CATEGORIES:Church Life,Educational & Spiritual Life
ORGANIZER;CN="Rev. Mary Lynn Callahan":MAILTO:MaryLynn@coh.net
GEO:40.4609708;-79.9253554
X-APPLE-STRUCTURED-LOCATION;VALUE=URI;X-ADDRESS=ELPC – Prayer Room (Room 135) 116 S. Highland Avenue Pittsburgh 15206 United States;X-APPLE-RADIUS=500;X-TITLE=116 S. Highland Avenue:geo:-79.9253554,40.4609708
END:VEVENT
BEGIN:VEVENT
DTSTART;TZID=America/Halifax:20180704T090000
DTEND;TZID=America/Halifax:20180704T092000
DTSTAMP:20260425T205118
CREATED:20140509T160958Z
LAST-MODIFIED:20140509T160958Z
UID:10000040-1530694800-1530696000@cathedralofhope.org
SUMMARY:Canceled: Centering Meditation
DESCRIPTION:There will be no Centering Meditation on Wed.\, July 4. Our regular schedule resumes on Wed.\, July 11. \n\nDrawn from the ancient Christian contemplative tradition\, centering prayer is presented in an updated\, accessible four-step method. The Centering Prayer group aims to sit in silence for 20 minutes of prayer\, and supports its members in their ongoing practice of this transforming way of being with God. Centering Prayer is a relationship with God and a discipline to foster that relationship. This method of prayer is a movement beyond conversation with Christ to communion with Christ. Attendance every week is not required–you are welcome to join us anytime. The group meets every Thursday evening throughout the year. \n 
URL:https://cathedralofhope.org/event/centering-meditation-2018-07-04/
LOCATION:ELPC – Prayer Room (Room 135)\, 116 S. Highland Avenue\, Pittsburgh\, 15206\, United States
CATEGORIES:Church Life,Educational & Spiritual Life
GEO:40.4609708;-79.9253554
X-APPLE-STRUCTURED-LOCATION;VALUE=URI;X-ADDRESS=ELPC – Prayer Room (Room 135) 116 S. Highland Avenue Pittsburgh 15206 United States;X-APPLE-RADIUS=500;X-TITLE=116 S. Highland Avenue:geo:-79.9253554,40.4609708
END:VEVENT
BEGIN:VEVENT
DTSTART;TZID=America/Halifax:20180329T190000
DTEND;TZID=America/Halifax:20180329T200000
DTSTAMP:20260425T205118
CREATED:20140930T181321Z
LAST-MODIFIED:20140930T181321Z
UID:10002309-1522350000-1522353600@cathedralofhope.org
SUMMARY:Canceled: Mindfulness Meditation
DESCRIPTION:We will not meet for Qi Gong or Mindfulness Meditation on Maundy Thursday. Please join us for our Maundy Thursday service\, 7 pm\, led by Pastor Patrice. \n\nJoin us and Susan Spangler as we learn more about Mindfulness Meditation and engage in this ancient prayer form together. We begin with Qi Gong and move into meditation instruction\, guided meditations\, and practices for supporting mindfulness in everyday life. \nMindfulness is the moment-to-moment awareness of our experience with an accepting\, non-judgmental\, kind attention. In this ongoing practice\, we’ll explore and deepen our experience of mindfulness. Our weekly time together will include meditation instruction\, guided meditations\, and practices for supporting mindfulness in everyday life. \nBoth those who are new to meditation and those with meditation experience are heartily welcome.
URL:https://cathedralofhope.org/event/mindfulness-meditation-2018-03-29/
LOCATION:ELPC – Prayer Room (Room 135)\, 116 S. Highland Avenue\, Pittsburgh\, 15206\, United States
CATEGORIES:Church Life,Educational & Spiritual Life
ORGANIZER;CN="Rev. Mary Lynn Callahan":MAILTO:MaryLynn@coh.net
GEO:40.4609708;-79.9253554
X-APPLE-STRUCTURED-LOCATION;VALUE=URI;X-ADDRESS=ELPC – Prayer Room (Room 135) 116 S. Highland Avenue Pittsburgh 15206 United States;X-APPLE-RADIUS=500;X-TITLE=116 S. Highland Avenue:geo:-79.9253554,40.4609708
END:VEVENT
BEGIN:VEVENT
DTSTART;TZID=America/Halifax:20171207T190000
DTEND;TZID=America/Halifax:20171207T200000
DTSTAMP:20260425T205118
CREATED:20140930T181321Z
LAST-MODIFIED:20140930T181321Z
UID:10002308-1512673200-1512676800@cathedralofhope.org
SUMMARY:Cancelled: Mindfulness Meditation
DESCRIPTION:This week’s Qi Gong and Mindfulness Meditation session is cancelled. We will return to our normal schedule next Thursday at 7 pm. \n\nJoin us and Susan Spangler as we learn more about Mindfulness Meditation and engage in this ancient prayer form together. We begin with Qi Gong and move into meditation instruction\, guided meditations\, and practices for supporting mindfulness in everyday life. \nMindfulness is the moment-to-moment awareness of our experience with an accepting\, non-judgmental\, kind attention. In this ongoing practice\, we’ll explore and deepen our experience of mindfulness. Our weekly time together will include meditation instruction\, guided meditations\, and practices for supporting mindfulness in everyday life. \nBoth those who are new to meditation and those with meditation experience are heartily welcome.
URL:https://cathedralofhope.org/event/mindfulness-meditation-2017-12-07/
LOCATION:ELPC – Prayer Room (Room 135)\, 116 S. Highland Avenue\, Pittsburgh\, 15206\, United States
CATEGORIES:Church Life,Educational & Spiritual Life
ORGANIZER;CN="Rev. Mary Lynn Callahan":MAILTO:MaryLynn@coh.net
GEO:40.4609708;-79.9253554
X-APPLE-STRUCTURED-LOCATION;VALUE=URI;X-ADDRESS=ELPC – Prayer Room (Room 135) 116 S. Highland Avenue Pittsburgh 15206 United States;X-APPLE-RADIUS=500;X-TITLE=116 S. Highland Avenue:geo:-79.9253554,40.4609708
END:VEVENT
BEGIN:VEVENT
DTSTART;TZID=America/Halifax:20161113T121500
DTEND;TZID=America/Halifax:20161113T133000
DTSTAMP:20260425T205118
CREATED:20161111T135952Z
LAST-MODIFIED:20161111T135952Z
UID:10003149-1479039300-1479043800@cathedralofhope.org
SUMMARY:Post-Election Support
DESCRIPTION:In the wake of the election outcome\, you are welcome to gather in the Prayer and Meditation Room following Sanctuary worship. Individuals will be on hand to offer prayers and anointing for those who wish to be supported.
URL:https://cathedralofhope.org/event/post-election-support/
LOCATION:ELPC – Prayer Room (Room 135)\, 116 S. Highland Avenue\, Pittsburgh\, 15206\, United States
CATEGORIES:Community,Featured Events,LGBTQIA+,Young Adult
ATTACH;FMTTYPE=image/jpeg:https://cathedralofhope.org/wp-content/uploads/2016/11/Prayer-Room.jpg
ORGANIZER;CN="Rev. Mary Lynn Callahan":MAILTO:MaryLynn@coh.net
GEO:40.4609708;-79.9253554
X-APPLE-STRUCTURED-LOCATION;VALUE=URI;X-ADDRESS=ELPC – Prayer Room (Room 135) 116 S. Highland Avenue Pittsburgh 15206 United States;X-APPLE-RADIUS=500;X-TITLE=116 S. Highland Avenue:geo:-79.9253554,40.4609708
END:VEVENT
BEGIN:VEVENT
DTSTART;TZID=America/Halifax:20160323T182000
DTEND;TZID=America/Halifax:20160323T184000
DTSTAMP:20260425T205118
CREATED:20160323T141648Z
LAST-MODIFIED:20160323T141648Z
UID:10002522-1458757200-1458758400@cathedralofhope.org
SUMMARY:Centering Prayer
DESCRIPTION:Drawn from the ancient Christian contemplative tradition\, centering prayer is presented in an updated\, accessible four-step method. The Centering Prayer group aims to sit in silence for 20 minutes of prayer\, and supports its members in their ongoing practice of this transforming way of being with God. Centering Prayer is a relationship with God and a discipline to foster that relationship. This method of prayer is a movement beyond conversation with Christ to communion with Christ. Attendance every week is not required–you are welcome to join us anytime.
URL:https://cathedralofhope.org/event/centering-prayer-2/
LOCATION:ELPC – Prayer Room (Room 135)\, 116 S. Highland Avenue\, Pittsburgh\, 15206\, United States
CATEGORIES:Church Life,Educational & Spiritual Life
GEO:40.4609708;-79.9253554
X-APPLE-STRUCTURED-LOCATION;VALUE=URI;X-ADDRESS=ELPC – Prayer Room (Room 135) 116 S. Highland Avenue Pittsburgh 15206 United States;X-APPLE-RADIUS=500;X-TITLE=116 S. Highland Avenue:geo:-79.9253554,40.4609708
END:VEVENT
END:VCALENDAR