BEGIN:VCALENDAR
VERSION:2.0
PRODID:-//East Liberty Presbyterian Church - ECPv6.15.20//NONSGML v1.0//EN
CALSCALE:GREGORIAN
METHOD:PUBLISH
X-WR-CALNAME:East Liberty Presbyterian Church
X-ORIGINAL-URL:https://cathedralofhope.org
X-WR-CALDESC:Events for East Liberty Presbyterian Church
REFRESH-INTERVAL;VALUE=DURATION:PT1H
X-Robots-Tag:noindex
X-PUBLISHED-TTL:PT1H
BEGIN:VTIMEZONE
TZID:America/Halifax
BEGIN:DAYLIGHT
TZOFFSETFROM:-0400
TZOFFSETTO:-0300
TZNAME:ADT
DTSTART:20130310T060000
END:DAYLIGHT
BEGIN:STANDARD
TZOFFSETFROM:-0300
TZOFFSETTO:-0400
TZNAME:AST
DTSTART:20131103T050000
END:STANDARD
BEGIN:DAYLIGHT
TZOFFSETFROM:-0400
TZOFFSETTO:-0300
TZNAME:ADT
DTSTART:20140309T060000
END:DAYLIGHT
BEGIN:STANDARD
TZOFFSETFROM:-0300
TZOFFSETTO:-0400
TZNAME:AST
DTSTART:20141102T050000
END:STANDARD
BEGIN:DAYLIGHT
TZOFFSETFROM:-0400
TZOFFSETTO:-0300
TZNAME:ADT
DTSTART:20150308T060000
END:DAYLIGHT
BEGIN:STANDARD
TZOFFSETFROM:-0300
TZOFFSETTO:-0400
TZNAME:AST
DTSTART:20151101T050000
END:STANDARD
BEGIN:DAYLIGHT
TZOFFSETFROM:-0400
TZOFFSETTO:-0300
TZNAME:ADT
DTSTART:20160313T060000
END:DAYLIGHT
BEGIN:STANDARD
TZOFFSETFROM:-0300
TZOFFSETTO:-0400
TZNAME:AST
DTSTART:20161106T050000
END:STANDARD
BEGIN:DAYLIGHT
TZOFFSETFROM:-0400
TZOFFSETTO:-0300
TZNAME:ADT
DTSTART:20170312T060000
END:DAYLIGHT
BEGIN:STANDARD
TZOFFSETFROM:-0300
TZOFFSETTO:-0400
TZNAME:AST
DTSTART:20171105T050000
END:STANDARD
END:VTIMEZONE
BEGIN:VEVENT
DTSTART;TZID=America/Halifax:20160117T111500
DTEND;TZID=America/Halifax:20160117T140000
DTSTAMP:20260423T155608
CREATED:20151230T181426Z
LAST-MODIFIED:20151230T181426Z
UID:10002891-1453029300-1453039200@cathedralofhope.org
SUMMARY:The God Test
DESCRIPTION:The Spiritual Life Committee invites you to take the God test following Sanctuary worship on Sun.\, Jan. 17\, in Room 234. Lunch will be served. \nDespite the hype surrounding the “New Atheism\,” the United States remains one of the world’s most religious nations. In fact\, as many as 95% of Americans believe in God—a rare consensus in American life. The nation’s greatest rifts are not between atheists and believers\, or between those of different faiths. What divides us is how we conceive God and the role God plays in our lives. \nDrawing on the most comprehensive and illuminating survey of Americans’ religious beliefs ever conducted\, Baylor University professors\, Paul Froese and Christopher Bader\, argue that many of America’s most intractable social and political divisions arise from religious convictions held deeply but rarely discussed. Working with original survey data from thousands of Americans and a wealth of in-depth interviews\, Froese and Bader trace America’s cultural diversity to its ultimate source—differing beliefs about God. They show that regardless of religious tradition (or lack thereof)\, Americans typically worship God in one of four distinct divine expressions\, definitions of God that form the basis of our worldviews and are among the most powerful predictors of our feelings on America’s contentious issues. \nJoin us as the Rev. Mary Lynn Callahan leads us in an exploration of America’s “four Gods.”
URL:https://cathedralofhope.org/event/the-god-test/
LOCATION:ELPC – Room 234\, 116 South Highland Avenue\, Pittsburgh\, PA\, 15206\, United States
CATEGORIES:Educational & Spiritual Life,Featured Events
ORGANIZER;CN="Rev. Mary Lynn Callahan":MAILTO:MaryLynn@coh.net
GEO:40.461033;-79.925503
X-APPLE-STRUCTURED-LOCATION;VALUE=URI;X-ADDRESS=ELPC – Room 234 116 South Highland Avenue Pittsburgh PA 15206 United States;X-APPLE-RADIUS=500;X-TITLE=116 South Highland Avenue:geo:-79.925503,40.461033
END:VEVENT
BEGIN:VEVENT
DTSTART;TZID=America/Halifax:20150816T110000
DTEND;TZID=America/Halifax:20150816T140000
DTSTAMP:20260423T155608
CREATED:20150421T224505Z
LAST-MODIFIED:20150421T224505Z
UID:10002649-1439722800-1439733600@cathedralofhope.org
SUMMARY:Business Meeting & Spiritual Gathering
DESCRIPTION:All are invited as we will begin with our quarterly LGBTQ Ministry Business Meeting and then have lunch as we start our monthly Spiritual Gathering.
URL:https://cathedralofhope.org/event/business-meeting-spiritual-gathering/
LOCATION:ELPC – Room 234\, 116 South Highland Avenue\, Pittsburgh\, PA\, 15206\, United States
CATEGORIES:Church Life,Committee Meetings,Community,Educational & Spiritual Life,LGBTQIA+
ATTACH;FMTTYPE=image/jpeg:https://cathedralofhope.org/wp-content/uploads/2015/04/Dec-2014-1.jpg
ORGANIZER;CN="Jim DiGiorgio":MAILTO:JimD@coh.net
GEO:40.461033;-79.925503
X-APPLE-STRUCTURED-LOCATION;VALUE=URI;X-ADDRESS=ELPC – Room 234 116 South Highland Avenue Pittsburgh PA 15206 United States;X-APPLE-RADIUS=500;X-TITLE=116 South Highland Avenue:geo:-79.925503,40.461033
END:VEVENT
BEGIN:VEVENT
DTSTART;TZID=America/Halifax:20150802T113000
DTEND;TZID=America/Halifax:20150802T121500
DTSTAMP:20260423T155608
CREATED:20150709T191548Z
LAST-MODIFIED:20150709T191548Z
UID:10002677-1438515000-1438517700@cathedralofhope.org
SUMMARY:Film Festival: Families Held Captive
DESCRIPTION:The Neighbors\, Justice\, and Peace Committees of the Mission Board are teaming up to sponsor our fourth annual Summer Film Festival. Films will be shown after our Courtyard Worship service\, along with a light\, potluck lunch. \nThe Justice Committee will screen this film. The Office of the General Assembly (OGA) of the PC(USA) recently joined denomination and community partners to spotlight the inhumanity of detention centers in South Texas\, housing Central American mothers and their children. Persons of faith and conscience are organizing to provide outreach to these families and end this disturbing practice by the U.S. government. Families Held Captive\, produced by OGA\, examines these prison-like facilities and the lives most affected. \nFollowing the film\, there will be information sharing and discussion led by ELPC members who recently attended the Ecumenical Advocacy Days in Washington\, D.C. \nClick here for more information. \nRun time: 30 minutes
URL:https://cathedralofhope.org/event/film-festival-families-held-captive/
LOCATION:ELPC – Room 234\, 116 South Highland Avenue\, Pittsburgh\, PA\, 15206\, United States
CATEGORIES:Community,Featured Events,Mission Activities
ATTACH;FMTTYPE=image/jpeg:https://cathedralofhope.org/wp-content/uploads/2015/07/families-held-captive.jpg
GEO:40.461033;-79.925503
X-APPLE-STRUCTURED-LOCATION;VALUE=URI;X-ADDRESS=ELPC – Room 234 116 South Highland Avenue Pittsburgh PA 15206 United States;X-APPLE-RADIUS=500;X-TITLE=116 South Highland Avenue:geo:-79.925503,40.461033
END:VEVENT
BEGIN:VEVENT
DTSTART;TZID=America/Halifax:20150726T113000
DTEND;TZID=America/Halifax:20150726T121500
DTSTAMP:20260423T155608
CREATED:20150622T133516Z
LAST-MODIFIED:20150622T133516Z
UID:10002666-1437910200-1437912900@cathedralofhope.org
SUMMARY:Film Festival: The Stones Cry Out
DESCRIPTION:The Neighbors\, Justice\, and Peace Committees of the Mission Board are teaming up to sponsor our fourth annual Summer Film Festival. Films will be shown after our Courtyard Worship service\, along with a light\, potluck lunch. \nThe Peace Committee will show this film about Palestinian Christians. Christianity was born in Palestine two thousand years ago. From there\, it spread throughout the Middle East and to the rest of the world. Yet many are unaware Christians still live in the land. For more than 60 years\, the Palestinians\, Christians\, and Muslims have suffered displacement\, expulsion\, wars\, occupation and oppression. The voices of Palestinian Christians have all too often been drowned out in the turmoil of events. This is their story\, in their voices\, from the Nakba of 1948 until today. \nClick here for more information. \nRun time: 56 minutes \n  \n 
URL:https://cathedralofhope.org/event/film-festival-stones-cry-out/
LOCATION:ELPC – Room 234\, 116 South Highland Avenue\, Pittsburgh\, PA\, 15206\, United States
CATEGORIES:Community,Featured Events,Mission Activities
ATTACH;FMTTYPE=image/png:https://cathedralofhope.org/wp-content/uploads/2015/06/stones-cry-out.png
GEO:40.461033;-79.925503
X-APPLE-STRUCTURED-LOCATION;VALUE=URI;X-ADDRESS=ELPC – Room 234 116 South Highland Avenue Pittsburgh PA 15206 United States;X-APPLE-RADIUS=500;X-TITLE=116 South Highland Avenue:geo:-79.925503,40.461033
END:VEVENT
BEGIN:VEVENT
DTSTART;TZID=America/Halifax:20150719T113000
DTEND;TZID=America/Halifax:20150719T130000
DTSTAMP:20260423T155608
CREATED:20150622T133112Z
LAST-MODIFIED:20150622T133112Z
UID:10002664-1437305400-1437310800@cathedralofhope.org
SUMMARY:Film Festival: Prison State
DESCRIPTION:The Neighbors\, Justice\, and Peace Committees of the Mission Board are teaming up to sponsor our fourth annual Summer Film Festival. Films will be shown after our Courtyard Worship service\, along with a light\, potluck lunch. \nThe Justice Committee will screen this PBS Frontline documentary\, which examines the impact of mass incarceration in America. The film follows the lives of four individuals from one neighborhood as they move in and out of custody. \nClick here for more information. \nFollowing the film\, we will discuss ELPC’s involvement with Project Hope and Amachi—two local programs. \nRun time: 45 minutes
URL:https://cathedralofhope.org/event/film-festival-prison-state/
LOCATION:ELPC – Room 234\, 116 South Highland Avenue\, Pittsburgh\, PA\, 15206\, United States
CATEGORIES:Community,Featured Events,Mission Activities
ATTACH;FMTTYPE=image/jpeg:https://cathedralofhope.org/wp-content/uploads/2015/06/Locked-up-in-America-Prison-State.jpg
GEO:40.461033;-79.925503
X-APPLE-STRUCTURED-LOCATION;VALUE=URI;X-ADDRESS=ELPC – Room 234 116 South Highland Avenue Pittsburgh PA 15206 United States;X-APPLE-RADIUS=500;X-TITLE=116 South Highland Avenue:geo:-79.925503,40.461033
END:VEVENT
BEGIN:VEVENT
DTSTART;TZID=America/Halifax:20150712T113000
DTEND;TZID=America/Halifax:20150712T123000
DTSTAMP:20260423T155608
CREATED:20150622T132235Z
LAST-MODIFIED:20150622T132235Z
UID:10002662-1436700600-1436704200@cathedralofhope.org
SUMMARY:Film Festival: Spent: Looking for Change
DESCRIPTION:The Neighbors\, Justice\, and Peace Committees of the Mission Board are teaming up to sponsor our fourth annual Summer Film Festival. Films will be shown after our Courtyard Worship service\, along with a light\, potluck lunch. \nPresented by the Neighbors Committee\, this film is about everyday Americans without the financial options most of us take for granted and the movement giving them renewed hope. Turning to pawn shops\, check-cashing services\, and payday loans to meet basic financial needs can be costly for many of us\, with $89 billion a year going to fees and interest for using these types of alternative financial services. It’s time for change. New technology\, new ideas\, and encouraging dialogue around this issue can help make managing money simple and more affordable. \nClick here for more information. \nRun time: 40 minutes \n  \n 
URL:https://cathedralofhope.org/event/film-festival-spent-looking-for-change/
LOCATION:ELPC – Room 234\, 116 South Highland Avenue\, Pittsburgh\, PA\, 15206\, United States
CATEGORIES:Community,Featured Events,Mission Activities
ATTACH;FMTTYPE=image/jpeg:https://cathedralofhope.org/wp-content/uploads/2015/06/Spent_key_art-e1434979484711.jpg
GEO:40.461033;-79.925503
X-APPLE-STRUCTURED-LOCATION;VALUE=URI;X-ADDRESS=ELPC – Room 234 116 South Highland Avenue Pittsburgh PA 15206 United States;X-APPLE-RADIUS=500;X-TITLE=116 South Highland Avenue:geo:-79.925503,40.461033
END:VEVENT
BEGIN:VEVENT
DTSTART;TZID=America/Halifax:20150517T123000
DTEND;TZID=America/Halifax:20150517T140000
DTSTAMP:20260423T155608
CREATED:20150506T180613Z
LAST-MODIFIED:20150506T180613Z
UID:10002420-1431865800-1431871200@cathedralofhope.org
SUMMARY:Move Toward Fitness
DESCRIPTION:Following Sanctuary worship\, join our discussion on Move Toward Fitness to learn how even minor changes in your routine—adding movement to sedentary lives—can bring about positive changes toward better fitness. \nCaterina Rosano\, MD\, MPH\, will share information on the benefits of movement\, the downsides of sedentary lifestyles\, and examples of minor changes that can make a positive difference. \nLight refreshments will be served. There likely will be standing room only!
URL:https://cathedralofhope.org/event/move-toward-fitness/
LOCATION:ELPC – Room 234\, 116 South Highland Avenue\, Pittsburgh\, PA\, 15206\, United States
CATEGORIES:Featured Events,Health
GEO:40.461033;-79.925503
X-APPLE-STRUCTURED-LOCATION;VALUE=URI;X-ADDRESS=ELPC – Room 234 116 South Highland Avenue Pittsburgh PA 15206 United States;X-APPLE-RADIUS=500;X-TITLE=116 South Highland Avenue:geo:-79.925503,40.461033
END:VEVENT
BEGIN:VEVENT
DTSTART;TZID=America/Halifax:20150412T123000
DTEND;TZID=America/Halifax:20150412T140000
DTSTAMP:20260423T155608
CREATED:20150406T194839Z
LAST-MODIFIED:20150406T194839Z
UID:10002625-1428841800-1428847200@cathedralofhope.org
SUMMARY:Roots of the Israel/Palestine Conflict
DESCRIPTION:The Peace Committee is sponsoring a presentation\, The Roots of the Conflict: Israel/Palestine from 1896 to the Present. Dr. Robert Ross\, chair of advocacy for the Israel/Palestine Mission Network of the Presbyterian Church (USA)\, will present the discussion about the origins of the conflict and what people are doing now to bring about change.  \nA light luncheon will be offered.
URL:https://cathedralofhope.org/event/roots-of-the-israelpalestine-conflict/
LOCATION:ELPC – Room 234\, 116 South Highland Avenue\, Pittsburgh\, PA\, 15206\, United States
CATEGORIES:Educational & Spiritual Life,Featured Events
GEO:40.461033;-79.925503
X-APPLE-STRUCTURED-LOCATION;VALUE=URI;X-ADDRESS=ELPC – Room 234 116 South Highland Avenue Pittsburgh PA 15206 United States;X-APPLE-RADIUS=500;X-TITLE=116 South Highland Avenue:geo:-79.925503,40.461033
END:VEVENT
BEGIN:VEVENT
DTSTART;TZID=America/Halifax:20150316T173000
DTEND;TZID=America/Halifax:20150316T190000
DTSTAMP:20260423T155608
CREATED:20150310T181529Z
LAST-MODIFIED:20150310T181529Z
UID:10002395-1426527000-1426532400@cathedralofhope.org
SUMMARY:Renovations Focus Group
DESCRIPTION:Interested in offering feedback about ELPC’s proposed renovations? Join us at our focus group gathering on Mon.\, March 16\, to review renovations to the Second Floor\, from 5:30–7 pm\, in Room 234. \nClick here for more information about the proposed renovations.
URL:https://cathedralofhope.org/event/renovations-focus-group/
LOCATION:ELPC – Room 234\, 116 South Highland Avenue\, Pittsburgh\, PA\, 15206\, United States
CATEGORIES:Featured Events
GEO:40.461033;-79.925503
X-APPLE-STRUCTURED-LOCATION;VALUE=URI;X-ADDRESS=ELPC – Room 234 116 South Highland Avenue Pittsburgh PA 15206 United States;X-APPLE-RADIUS=500;X-TITLE=116 South Highland Avenue:geo:-79.925503,40.461033
END:VEVENT
BEGIN:VEVENT
DTSTART;TZID=America/Halifax:20150311T173000
DTEND;TZID=America/Halifax:20150311T190000
DTSTAMP:20260423T155608
CREATED:20150310T181305Z
LAST-MODIFIED:20150310T181305Z
UID:10002393-1426095000-1426100400@cathedralofhope.org
SUMMARY:Renovations Focus Group
DESCRIPTION:Interested in offering feedback about ELPC’s proposed renovations? Join us at our focus group gathering on Wed.\, March 11\, from 5:30–6:55 pm\, to discuss the renovations to the first floor. Then on Mon.\, March 16\, we will review renovations to the Second Floor\, from 5:30–7 pm\, in Room 234. \nClick here for more information about the proposed renovations.
URL:https://cathedralofhope.org/event/renovations-focus-groups/
LOCATION:ELPC – Room 234\, 116 South Highland Avenue\, Pittsburgh\, PA\, 15206\, United States
CATEGORIES:Featured Events
GEO:40.461033;-79.925503
X-APPLE-STRUCTURED-LOCATION;VALUE=URI;X-ADDRESS=ELPC – Room 234 116 South Highland Avenue Pittsburgh PA 15206 United States;X-APPLE-RADIUS=500;X-TITLE=116 South Highland Avenue:geo:-79.925503,40.461033
END:VEVENT
BEGIN:VEVENT
DTSTART;TZID=America/Halifax:20141012T123000
DTEND;TZID=America/Halifax:20141012T150000
DTSTAMP:20260423T155608
CREATED:20140930T180344Z
LAST-MODIFIED:20140930T180344Z
UID:10002513-1413117000-1413126000@cathedralofhope.org
SUMMARY:Discussion on Jesus and Buddha: Meditation\, Prayer and the Brain
DESCRIPTION:During October and November\, the Spiritual Life Committee invites you to explore Contemplative Practice. As we begin\, join us as we take a look together at the Christian and interfaith background of these practices as well as learn of more recent evidence of their physical and emotional healing power. A light lunch will be served.
URL:https://cathedralofhope.org/event/discussion-jesus-buddha-meditation-prayer-brain/
LOCATION:ELPC – Room 234\, 116 South Highland Avenue\, Pittsburgh\, PA\, 15206\, United States
CATEGORIES:Educational & Spiritual Life
GEO:40.461033;-79.925503
X-APPLE-STRUCTURED-LOCATION;VALUE=URI;X-ADDRESS=ELPC – Room 234 116 South Highland Avenue Pittsburgh PA 15206 United States;X-APPLE-RADIUS=500;X-TITLE=116 South Highland Avenue:geo:-79.925503,40.461033
END:VEVENT
BEGIN:VEVENT
DTSTART;TZID=America/Halifax:20140823T100000
DTEND;TZID=America/Halifax:20140823T143000
DTSTAMP:20260423T155609
CREATED:20140520T001951Z
LAST-MODIFIED:20140520T001951Z
UID:10000781-1408788000-1408804200@cathedralofhope.org
SUMMARY:A "Difficult" Day
DESCRIPTION:Not sure what to do with some parts of the Bible?  Does it seem to contradict itself and tell stories that don’t seem very “Christian?”  Along with our young adult presenter Rev. Sarah Robbins\, come and wrestle some “difficult” Scriptures that challenge us as people of faith.  We will spend part of the day together exploring this topic and Scripture as well as sharing lunch\, fellowship and a time of prayer.  This is a Young Adult Ministry event.
URL:https://cathedralofhope.org/event/difficult-day/
LOCATION:ELPC – Room 234\, 116 South Highland Avenue\, Pittsburgh\, PA\, 15206\, United States
CATEGORIES:Church Life,Young Adult
GEO:40.461033;-79.925503
X-APPLE-STRUCTURED-LOCATION;VALUE=URI;X-ADDRESS=ELPC – Room 234 116 South Highland Avenue Pittsburgh PA 15206 United States;X-APPLE-RADIUS=500;X-TITLE=116 South Highland Avenue:geo:-79.925503,40.461033
END:VEVENT
BEGIN:VEVENT
DTSTART;TZID=America/Halifax:20140810T113000
DTEND;TZID=America/Halifax:20140810T133000
DTSTAMP:20260423T155609
CREATED:20140708T210458Z
LAST-MODIFIED:20140708T210458Z
UID:10002449-1407670200-1407677400@cathedralofhope.org
SUMMARY:Mission Film Series: The End of Poverty
DESCRIPTION:The Justice\, Peace\, and Poverty Committees of the Mission Board are teaming up to sponsor our Summer Film Festival. The films will be shown after the Courtyard Worship service\, with a light potluck lunch. \nThe aphorism\, “The poor are always with us\,” dates back to the New Testament. But while the phrase is still sadly apt today\, few seem to be able to explain why poverty is so widespread. Presented by the Poverty Committee\, The End of Poverty (106 minutes) is a phenomenal discourse on why poverty exists when there is so much wealth in the world. A must-see for anyone wanting to understand\, not only the U.S. economic system\, but the foundations of today’s global economy.
URL:https://cathedralofhope.org/event/mission-film-series-end-poverty/
LOCATION:ELPC – Room 234\, 116 South Highland Avenue\, Pittsburgh\, PA\, 15206\, United States
CATEGORIES:Featured Events
GEO:40.461033;-79.925503
X-APPLE-STRUCTURED-LOCATION;VALUE=URI;X-ADDRESS=ELPC – Room 234 116 South Highland Avenue Pittsburgh PA 15206 United States;X-APPLE-RADIUS=500;X-TITLE=116 South Highland Avenue:geo:-79.925503,40.461033
END:VEVENT
BEGIN:VEVENT
DTSTART;TZID=America/Halifax:20140803T113000
DTEND;TZID=America/Halifax:20140803T133000
DTSTAMP:20260423T155609
CREATED:20140708T210258Z
LAST-MODIFIED:20140708T210258Z
UID:10002448-1407065400-1407072600@cathedralofhope.org
SUMMARY:Mission Film Series: Global Warming: The Signs and the Science
DESCRIPTION:The Justice\, Peace\, and Poverty Committees of the Mission Board are teaming up to sponsor our Summer Film Festival. The films will be shown after the Courtyard Worship service\, with a light potluck lunch. \nPresented by the Justice Committee\, this documentary explores how Earth’s temperatures have been rising for the last century and a half – faster than any time in the last 10\,000 years. What are the signs and what does our science say about it?
URL:https://cathedralofhope.org/event/mission-film-series-global-warming/
LOCATION:ELPC – Room 234\, 116 South Highland Avenue\, Pittsburgh\, PA\, 15206\, United States
CATEGORIES:Featured Events
GEO:40.461033;-79.925503
X-APPLE-STRUCTURED-LOCATION;VALUE=URI;X-ADDRESS=ELPC – Room 234 116 South Highland Avenue Pittsburgh PA 15206 United States;X-APPLE-RADIUS=500;X-TITLE=116 South Highland Avenue:geo:-79.925503,40.461033
END:VEVENT
BEGIN:VEVENT
DTSTART;TZID=America/Halifax:20140727T113000
DTEND;TZID=America/Halifax:20140727T133000
DTSTAMP:20260423T155609
CREATED:20140708T205826Z
LAST-MODIFIED:20140708T205826Z
UID:10002447-1406460600-1406467800@cathedralofhope.org
SUMMARY:Third Annual Mission Film Series: The Stranger
DESCRIPTION:The Justice\, Peace\, and Poverty Committees of the Mission Board are teaming up to sponsor our Summer Film Festival. The films will be shown after the Courtyard Worship service\, with a light potluck lunch. \nThe Justice Committee will screen The Stranger (45 minutes) created to introduce Christians to the stories and lives of immigrants living in our country. Interviews with pastors\, Christian leaders\, and policy experts examine the immigration challenges that our country faces. The film\, commissioned by the Evangelical Immigration Table\, was produced by Emmy award-winning producer Linda Midgett.
URL:https://cathedralofhope.org/event/third-annual-mission-film-series-the-stranger/
LOCATION:ELPC – Room 234\, 116 South Highland Avenue\, Pittsburgh\, PA\, 15206\, United States
CATEGORIES:Featured Events
GEO:40.461033;-79.925503
X-APPLE-STRUCTURED-LOCATION;VALUE=URI;X-ADDRESS=ELPC – Room 234 116 South Highland Avenue Pittsburgh PA 15206 United States;X-APPLE-RADIUS=500;X-TITLE=116 South Highland Avenue:geo:-79.925503,40.461033
END:VEVENT
BEGIN:VEVENT
DTSTART;TZID=America/Halifax:20140720T113000
DTEND;TZID=America/Halifax:20140720T133000
DTSTAMP:20260423T155609
CREATED:20140708T205335Z
LAST-MODIFIED:20140708T205335Z
UID:10002446-1405855800-1405863000@cathedralofhope.org
SUMMARY:Third Annual Mission Film Series: The Redemption of the Prosecutor
DESCRIPTION:The Justice\, Peace\, and Poverty Committees of the Mission Board are teaming up to sponsor our Summer Film Festival. The films will be shown after the Courtyard Worship service\, with a light potluck lunch. \nThis documentary\, presented by the Justice Committee\, asserts that sometimes it’s no the prisoner who needs forgiveness. When devout Christian and prosecutor Preston Shipp began teaching in a Nashville prison\, he never thought he would be the one to be schooled.
URL:https://cathedralofhope.org/event/third-annual-mission-film-series-redemption-prosecutor/
LOCATION:ELPC – Room 234\, 116 South Highland Avenue\, Pittsburgh\, PA\, 15206\, United States
CATEGORIES:Featured Events
GEO:40.461033;-79.925503
X-APPLE-STRUCTURED-LOCATION;VALUE=URI;X-ADDRESS=ELPC – Room 234 116 South Highland Avenue Pittsburgh PA 15206 United States;X-APPLE-RADIUS=500;X-TITLE=116 South Highland Avenue:geo:-79.925503,40.461033
END:VEVENT
BEGIN:VEVENT
DTSTART;TZID=America/Halifax:20140713T113000
DTEND;TZID=America/Halifax:20140713T133000
DTSTAMP:20260423T155609
CREATED:20140708T204809Z
LAST-MODIFIED:20140708T204809Z
UID:10002445-1405251000-1405258200@cathedralofhope.org
SUMMARY:Third Annual Mission Film Series: Lemon Tree
DESCRIPTION:The Justice\, Peace\, and Poverty Committees of the Mission Board are teaming up to sponsor our Summer Film Festival. The films will be shown after the Courtyard Worship service\, with a light potluck lunch. The Peace Committee brings us Lemon Tree (106 minutes)\, the story of a Palestinian widow who must defend her lemon tree field when a new Israeli Defense Minister moves in next door and threatens to have her lemon grove torn down.
URL:https://cathedralofhope.org/event/third-annual-mission-film-series-lemon-tree/
LOCATION:ELPC – Room 234\, 116 South Highland Avenue\, Pittsburgh\, PA\, 15206\, United States
CATEGORIES:Featured Events
GEO:40.461033;-79.925503
X-APPLE-STRUCTURED-LOCATION;VALUE=URI;X-ADDRESS=ELPC – Room 234 116 South Highland Avenue Pittsburgh PA 15206 United States;X-APPLE-RADIUS=500;X-TITLE=116 South Highland Avenue:geo:-79.925503,40.461033
END:VEVENT
END:VCALENDAR