BEGIN:VCALENDAR
VERSION:2.0
PRODID:-//East Liberty Presbyterian Church - ECPv6.15.20//NONSGML v1.0//EN
CALSCALE:GREGORIAN
METHOD:PUBLISH
X-WR-CALNAME:East Liberty Presbyterian Church
X-ORIGINAL-URL:https://cathedralofhope.org
X-WR-CALDESC:Events for East Liberty Presbyterian Church
REFRESH-INTERVAL;VALUE=DURATION:PT1H
X-Robots-Tag:noindex
X-PUBLISHED-TTL:PT1H
BEGIN:VTIMEZONE
TZID:America/Halifax
BEGIN:DAYLIGHT
TZOFFSETFROM:-0400
TZOFFSETTO:-0300
TZNAME:ADT
DTSTART:20130310T060000
END:DAYLIGHT
BEGIN:STANDARD
TZOFFSETFROM:-0300
TZOFFSETTO:-0400
TZNAME:AST
DTSTART:20131103T050000
END:STANDARD
BEGIN:DAYLIGHT
TZOFFSETFROM:-0400
TZOFFSETTO:-0300
TZNAME:ADT
DTSTART:20140309T060000
END:DAYLIGHT
BEGIN:STANDARD
TZOFFSETFROM:-0300
TZOFFSETTO:-0400
TZNAME:AST
DTSTART:20141102T050000
END:STANDARD
BEGIN:DAYLIGHT
TZOFFSETFROM:-0400
TZOFFSETTO:-0300
TZNAME:ADT
DTSTART:20150308T060000
END:DAYLIGHT
BEGIN:STANDARD
TZOFFSETFROM:-0300
TZOFFSETTO:-0400
TZNAME:AST
DTSTART:20151101T050000
END:STANDARD
BEGIN:DAYLIGHT
TZOFFSETFROM:-0400
TZOFFSETTO:-0300
TZNAME:ADT
DTSTART:20160313T060000
END:DAYLIGHT
BEGIN:STANDARD
TZOFFSETFROM:-0300
TZOFFSETTO:-0400
TZNAME:AST
DTSTART:20161106T050000
END:STANDARD
BEGIN:DAYLIGHT
TZOFFSETFROM:-0400
TZOFFSETTO:-0300
TZNAME:ADT
DTSTART:20170312T060000
END:DAYLIGHT
BEGIN:STANDARD
TZOFFSETFROM:-0300
TZOFFSETTO:-0400
TZNAME:AST
DTSTART:20171105T050000
END:STANDARD
END:VTIMEZONE
BEGIN:VEVENT
DTSTART;TZID=America/Halifax:20160305T090000
DTEND;TZID=America/Halifax:20160305T110000
DTSTAMP:20260423T191935
CREATED:20160222T155738Z
LAST-MODIFIED:20160222T155738Z
UID:10002920-1457168400-1457175600@cathedralofhope.org
SUMMARY:Neighbor Book Study
DESCRIPTION:The Justice Committee will hold a book study on Neighbor\, by Ben Daniel\, about the struggles facing those who are crossing our southern borders. We will learn about the plight of people seeking asylum\, safety\, and a healthy life in our country. Check the Bulletin and Bulletin Boards for more information.
URL:https://cathedralofhope.org/event/neighbor-book-study/
LOCATION:ELPC – Second Floor Parlor\, 116 S Highland Avenue\, Pittsburgh\, PA\, 15206\, United States
CATEGORIES:Featured Events,Mission Activities
ATTACH;FMTTYPE=image/jpeg:https://cathedralofhope.org/wp-content/uploads/2016/02/ben-daniels-neighbor.jpg
GEO:40.461033;-79.925503
X-APPLE-STRUCTURED-LOCATION;VALUE=URI;X-ADDRESS=ELPC – Second Floor Parlor 116 S Highland Avenue Pittsburgh PA 15206 United States;X-APPLE-RADIUS=500;X-TITLE=116 S Highland Avenue:geo:-79.925503,40.461033
END:VEVENT
BEGIN:VEVENT
DTSTART;TZID=America/Halifax:20160229T140000
DTEND;TZID=America/Halifax:20160229T150000
DTSTAMP:20260423T191935
CREATED:20160222T160547Z
LAST-MODIFIED:20160222T160547Z
UID:10002922-1456754400-1456758000@cathedralofhope.org
SUMMARY:Ruth Donalson's Piano Program
DESCRIPTION:Enjoy and hour of piano music with Mrs. Ruth Donalson! Take a stroll down memory lane as requests will be honored. Come join her for this time of musical relaxation.
URL:https://cathedralofhope.org/event/ruth-donalsons-piano-program/
LOCATION:ELPC – Second Floor Parlor\, 116 S Highland Avenue\, Pittsburgh\, PA\, 15206\, United States
CATEGORIES:Featured Events,Music
GEO:40.461033;-79.925503
X-APPLE-STRUCTURED-LOCATION;VALUE=URI;X-ADDRESS=ELPC – Second Floor Parlor 116 S Highland Avenue Pittsburgh PA 15206 United States;X-APPLE-RADIUS=500;X-TITLE=116 S Highland Avenue:geo:-79.925503,40.461033
END:VEVENT
BEGIN:VEVENT
DTSTART;TZID=America/Halifax:20160213T090000
DTEND;TZID=America/Halifax:20160213T160000
DTSTAMP:20260423T191935
CREATED:20160126T162049Z
LAST-MODIFIED:20160126T162049Z
UID:10002903-1455354000-1455379200@cathedralofhope.org
SUMMARY:Experience Healing Hands
DESCRIPTION:The Spiritual Life Committee is happy to repeat a popular program from two years ago. We will have practitioners of Reiki\, Heart Hands\, and Therapeutic Massage (all members of ELPC) available to answer questions about their work and to provide an opportunity for participants to experience healing and wholeness through their healing hands.
URL:https://cathedralofhope.org/event/experience-healing-hands/
LOCATION:ELPC – Second Floor Parlor\, 116 S Highland Avenue\, Pittsburgh\, PA\, 15206\, United States
CATEGORIES:Educational & Spiritual Life,Featured Events,Health
ORGANIZER;CN="Rev. Mary Lynn Callahan":MAILTO:MaryLynn@coh.net
GEO:40.461033;-79.925503
X-APPLE-STRUCTURED-LOCATION;VALUE=URI;X-ADDRESS=ELPC – Second Floor Parlor 116 S Highland Avenue Pittsburgh PA 15206 United States;X-APPLE-RADIUS=500;X-TITLE=116 S Highland Avenue:geo:-79.925503,40.461033
END:VEVENT
BEGIN:VEVENT
DTSTART;TZID=America/Halifax:20160207T120000
DTEND;TZID=America/Halifax:20160207T150000
DTSTAMP:20260423T191935
CREATED:20160125T195355Z
LAST-MODIFIED:20160125T195355Z
UID:10002901-1454846400-1454857200@cathedralofhope.org
SUMMARY:An Interfaith Look at Images of God
DESCRIPTION:Join us as ELPC hosts an Interfaith Panel featuring local religious leaders in the Second Floor Parlor. Each panelist will share their own image of God and how it has been shaped by their faith tradition. Lunch will be served. \nPanelists include: \n\nRev. Dr. Randy Bush\, senior pastor at East Liberty Presbyterian Church\nKhenpo Choephel\, resident lama at Three Rivers Tibetan Culture Center\nRabbi Dr. Doris Dyen\, spiritual leader at Makom HaLev\, an independent chavurah in Pittsburgh and a founding member of the Greater Pittsburgh Interfaith Coalition\nDr. Ayres Freitas\, associate professor of Theoretical Particle Physics at the University of Pittsburgh (representing science\, the unnamed religion in our culture)\nAllya Khan\, an active member of the Muslim Community Center of Greater Pittsburgh (MCCGP) and a student of Islam who teaches classes on Islam at the Osher Institute of Life Long Learning at the University of Pittsburgh
URL:https://cathedralofhope.org/event/interfaith-panel-images-of-god/
LOCATION:ELPC – Second Floor Parlor\, 116 S Highland Avenue\, Pittsburgh\, PA\, 15206\, United States
CATEGORIES:Educational & Spiritual Life,Featured Events
ORGANIZER;CN="Rev. Mary Lynn Callahan":MAILTO:MaryLynn@coh.net
GEO:40.461033;-79.925503
X-APPLE-STRUCTURED-LOCATION;VALUE=URI;X-ADDRESS=ELPC – Second Floor Parlor 116 S Highland Avenue Pittsburgh PA 15206 United States;X-APPLE-RADIUS=500;X-TITLE=116 S Highland Avenue:geo:-79.925503,40.461033
END:VEVENT
BEGIN:VEVENT
DTSTART;TZID=America/Halifax:20160130T090000
DTEND;TZID=America/Halifax:20160130T160000
DTSTAMP:20260423T191935
CREATED:20151230T181932Z
LAST-MODIFIED:20151230T181932Z
UID:10002895-1454144400-1454169600@cathedralofhope.org
SUMMARY:Images of God: Whom do you say I am?
DESCRIPTION:Join us for a day retreat in the Parlor and explore in greater depth who God is for you. Through meditations and reflections\, guided imagery and silence\, discover your most fundamental image of the Divine and consider how it impacts your life\, relationships\, and prayer. Breakfast and lunch will be provided.
URL:https://cathedralofhope.org/event/images-of-god-whom-do-you-say-i-am/
LOCATION:ELPC – Second Floor Parlor\, 116 S Highland Avenue\, Pittsburgh\, PA\, 15206\, United States
CATEGORIES:Educational & Spiritual Life,Featured Events
ORGANIZER;CN="Rev. Mary Lynn Callahan":MAILTO:MaryLynn@coh.net
GEO:40.461033;-79.925503
X-APPLE-STRUCTURED-LOCATION;VALUE=URI;X-ADDRESS=ELPC – Second Floor Parlor 116 S Highland Avenue Pittsburgh PA 15206 United States;X-APPLE-RADIUS=500;X-TITLE=116 S Highland Avenue:geo:-79.925503,40.461033
END:VEVENT
BEGIN:VEVENT
DTSTART;TZID=America/Halifax:20160110T110000
DTEND;TZID=America/Halifax:20160110T150000
DTSTAMP:20260423T191935
CREATED:20151212T194051Z
LAST-MODIFIED:20151212T194051Z
UID:10002486-1452423600-1452438000@cathedralofhope.org
SUMMARY:Our Day Together: YAM
DESCRIPTION:Let’s begin our new year together as we share the day as a group. We will start with worship\, then lunch\, then service\, then fellowship. Our day will center around spending time together as we begin our spring theme of telling our stories to one another. This is a young adult event.
URL:https://cathedralofhope.org/event/our-day-together-yam/
LOCATION:ELPC – Second Floor Parlor\, 116 S Highland Avenue\, Pittsburgh\, PA\, 15206\, United States
CATEGORIES:Church Life,Young Adult
ATTACH;FMTTYPE=image/jpeg:https://cathedralofhope.org/wp-content/uploads/2013/10/YAM-Reflective-Evening-009.jpg
ORGANIZER;CN="Jim DiGiorgio":MAILTO:JimD@coh.net
GEO:40.461033;-79.925503
X-APPLE-STRUCTURED-LOCATION;VALUE=URI;X-ADDRESS=ELPC – Second Floor Parlor 116 S Highland Avenue Pittsburgh PA 15206 United States;X-APPLE-RADIUS=500;X-TITLE=116 S Highland Avenue:geo:-79.925503,40.461033
END:VEVENT
BEGIN:VEVENT
DTSTART;TZID=America/Halifax:20151212T170000
DTEND;TZID=America/Halifax:20151212T220000
DTSTAMP:20260423T191935
CREATED:20150823T010230Z
LAST-MODIFIED:20150823T010230Z
UID:10002439-1449939600-1449957600@cathedralofhope.org
SUMMARY:Dinner and a Show
DESCRIPTION:Come celebrate the season with a potluck dinner at 5pm and then attending the Renaissance City Choir’s holiday concert in our very own Sanctuary afterward.  See Wil about tickets and what you plan to bring for the potluck by December 6.  This is a young adult event.
URL:https://cathedralofhope.org/event/dinner-and-a-show/
LOCATION:ELPC – Second Floor Parlor\, 116 S Highland Avenue\, Pittsburgh\, PA\, 15206\, United States
CATEGORIES:Young Adult
ORGANIZER;CN="Jim DiGiorgio":MAILTO:JimD@coh.net
GEO:40.461033;-79.925503
X-APPLE-STRUCTURED-LOCATION;VALUE=URI;X-ADDRESS=ELPC – Second Floor Parlor 116 S Highland Avenue Pittsburgh PA 15206 United States;X-APPLE-RADIUS=500;X-TITLE=116 S Highland Avenue:geo:-79.925503,40.461033
END:VEVENT
BEGIN:VEVENT
DTSTART;TZID=America/Halifax:20151205T203000
DTEND;TZID=America/Halifax:20151205T203000
DTSTAMP:20260423T191935
CREATED:20151119T181406Z
LAST-MODIFIED:20151119T181406Z
UID:10002475-1449347400-1449347400@cathedralofhope.org
SUMMARY:Images of God: Creating God
DESCRIPTION:“The world is charged with the grandeur of God.”—Gerald Manley Hopkins \nJoin the Spiritual Life Committee for a rich and restful day “Creating God.”  We will explore images of God in art and poetry and then be lead through creative exercises to get in touch with and express our own image of God.  Leading us will be: Dr. Brent House\, Assistant Professor of English at California University of Pennsylvania\, who teaches students to more creatively read and write poetry; Elaine Wertheim\, an art historian who teaches both in Pittsburgh and at the Chautauqua Institution; and Margaret Baco\, a local artist and spiritual seeker who uses expressive art practices as a vehicle for exploring the relationship between self and the Divine. \nA continental breakfast and simple lunch will be served.  All materials are provided. There is no fee for this day of retreat and discovery\, but reservations are requested so that we can plan appropriately. \nClick here to download the registration form. \n  \n  \n  \n  \n  \n  \n 
URL:https://cathedralofhope.org/event/images-of-god-retreat-creating-god/
LOCATION:ELPC – Second Floor Parlor\, 116 S Highland Avenue\, Pittsburgh\, PA\, 15206\, United States
CATEGORIES:Educational & Spiritual Life,Featured Events
ATTACH;FMTTYPE=image/jpeg:https://cathedralofhope.org/wp-content/uploads/2015/11/images-of-god-december.jpg
ORGANIZER;CN="Rev. Mary Lynn Callahan":MAILTO:MaryLynn@coh.net
GEO:40.461033;-79.925503
X-APPLE-STRUCTURED-LOCATION;VALUE=URI;X-ADDRESS=ELPC – Second Floor Parlor 116 S Highland Avenue Pittsburgh PA 15206 United States;X-APPLE-RADIUS=500;X-TITLE=116 S Highland Avenue:geo:-79.925503,40.461033
END:VEVENT
BEGIN:VEVENT
DTSTART;TZID=America/Halifax:20151201T090000
DTEND;TZID=America/Halifax:20151231T200000
DTSTAMP:20260423T191935
CREATED:20151123T183831Z
LAST-MODIFIED:20151123T183831Z
UID:10002476-1448960400-1451592000@cathedralofhope.org
SUMMARY:An Exhibition of Madonnas and Mandalas
DESCRIPTION:In awe of the Incarnation and in anticipation of the coming Christmas celebration\, the Spiritual Life Committee will present a December-long exhibition of Madonnas and Mandalas from around the world\, representing a breadth of traditions. \nTake a few moments and stop by the Second Floor Parlor to come into the presence of these images and allow yourself to experience the awe and anticipation of this holy time.
URL:https://cathedralofhope.org/event/an-exhibition-of-madonnas-and-mandalas/
LOCATION:ELPC – Second Floor Parlor\, 116 S Highland Avenue\, Pittsburgh\, PA\, 15206\, United States
CATEGORIES:Educational & Spiritual Life,Featured Events
ATTACH;FMTTYPE=image/png:https://cathedralofhope.org/wp-content/uploads/2015/11/Mary-and-Jesus-icon.png
ORGANIZER;CN="Rev. Mary Lynn Callahan":MAILTO:MaryLynn@coh.net
GEO:40.461033;-79.925503
X-APPLE-STRUCTURED-LOCATION;VALUE=URI;X-ADDRESS=ELPC – Second Floor Parlor 116 S Highland Avenue Pittsburgh PA 15206 United States;X-APPLE-RADIUS=500;X-TITLE=116 S Highland Avenue:geo:-79.925503,40.461033
END:VEVENT
BEGIN:VEVENT
DTSTART;TZID=America/Halifax:20151107T190000
DTEND;TZID=America/Halifax:20151107T203000
DTSTAMP:20260423T191935
CREATED:20151030T143815Z
LAST-MODIFIED:20151030T143815Z
UID:10002800-1446922800-1446928200@cathedralofhope.org
SUMMARY:Get to Know Pastor Patrice
DESCRIPTION:Meet and become acquainted with the Rev. Patrice L. Fowler-Searcy. Light refreshments will be served. \nThen on.\, Sun.\, Nov. 8\, please join us for a Congregational Meeting following Sanctuary worship to hear a motion to call the Rev. Patrice L. Fowler-Searcy as Associate Pastor for Mission Ministries. A reception will follow the meeting in the Social Hall. \nPatrice will be preaching at our Journey and Sanctuary worship services as part of her candidacy.
URL:https://cathedralofhope.org/event/get-to-know-pastor-patrice/
LOCATION:ELPC – Second Floor Parlor\, 116 S Highland Avenue\, Pittsburgh\, PA\, 15206\, United States
CATEGORIES:Church Life,Special Events
ATTACH;FMTTYPE=image/jpeg:https://cathedralofhope.org/wp-content/uploads/2015/10/FOWLER-SEARCY-PATRICE-0-e1446215931945.jpg
GEO:40.461033;-79.925503
X-APPLE-STRUCTURED-LOCATION;VALUE=URI;X-ADDRESS=ELPC – Second Floor Parlor 116 S Highland Avenue Pittsburgh PA 15206 United States;X-APPLE-RADIUS=500;X-TITLE=116 S Highland Avenue:geo:-79.925503,40.461033
END:VEVENT
BEGIN:VEVENT
DTSTART;TZID=America/Halifax:20151010T090000
DTEND;TZID=America/Halifax:20151010T130000
DTSTAMP:20260423T191935
CREATED:20150812T153136Z
LAST-MODIFIED:20150812T153136Z
UID:10002693-1444467600-1444482000@cathedralofhope.org
SUMMARY:Discovering Prison Ministries
DESCRIPTION:The Justice Committee will host an informational meeting in the second floor Parlor with three local prison ministries\, Amachi Pittsburgh\, the Foundation of HOPE\, and Jail Worship at St. Andrew Lutheran Church. This gathering will assess the level of support for a prison ministry within ELPC and neighboring faith communities\, and start exploring partnership opportunities with these existing programs. Registration begins at 8:30 am. \n\nAmachi Pittsburgh empowers young people to overcome the challenges of parental incarceration through mentoring\, family strengthening\, and leadership development.\nThe Foundation of HOPE seeks to empower incarcerated and released individuals to restore their relationship with God\, rebuild their lives\, and reconcile to their communities.\nThrough its Jail Worship ministry\, St. Andrew Lutheran Church sends a team to lead monthly worship at the Allegheny County Jail to help bring hope to those in need and to remind the congregation members to make certain that they are striving to “Love Everyone Exclude No One.”
URL:https://cathedralofhope.org/event/discovering-prison-ministries/
LOCATION:ELPC – Second Floor Parlor\, 116 S Highland Avenue\, Pittsburgh\, PA\, 15206\, United States
CATEGORIES:Featured Events,Mission Activities
GEO:40.461033;-79.925503
X-APPLE-STRUCTURED-LOCATION;VALUE=URI;X-ADDRESS=ELPC – Second Floor Parlor 116 S Highland Avenue Pittsburgh PA 15206 United States;X-APPLE-RADIUS=500;X-TITLE=116 S Highland Avenue:geo:-79.925503,40.461033
END:VEVENT
BEGIN:VEVENT
DTSTART;TZID=America/Halifax:20150418T010000
DTEND;TZID=America/Halifax:20150418T150000
DTSTAMP:20260423T191935
CREATED:20150406T194341Z
LAST-MODIFIED:20150406T194341Z
UID:10002624-1429318800-1429369200@cathedralofhope.org
SUMMARY:Hospice and Palliative Care Programs
DESCRIPTION:Join us and hear two experts discuss hospice and palliative care treatment modalities to get a better understanding of what they provide. What lessons can we learn for encouraging greater awareness and benefits of the resources of hospice and palliative care programs? \nLight refreshments will be provided. RSVP to Kate Carlson at 412.441.3800 x16 or KateC@coh.net. \nAbout our experts: \nDiane Mead\, RN\, BSN\, ACC\, LNC\, President and CEO of Bethany Hospice\nDiane started as a Certified Nursing Assistant and worked her way up to become the vice president for the nations largest hospice provider for the northeast. Diane founded Bethany Hospice in 2005. \nJulie W. Childers\, MD\, Director of Supportive and Palliative Care at UPMC Presbyterian\nDr. Childers completed training in palliative care in 2009. She is Assistant Professor of Medicine in the section of Palliative Care and Medical Ethics at the University of Pittsburgh and has an outpatient palliative care clinic at Hillman Cancer Center.
URL:https://cathedralofhope.org/event/hospice-and-palliative-care-programs/
LOCATION:ELPC – Second Floor Parlor\, 116 S Highland Avenue\, Pittsburgh\, PA\, 15206\, United States
CATEGORIES:Church Life,Health
ATTACH;FMTTYPE=image/jpeg:https://cathedralofhope.org/wp-content/uploads/2015/04/img_hospice-palliative-event.jpg
GEO:40.461033;-79.925503
X-APPLE-STRUCTURED-LOCATION;VALUE=URI;X-ADDRESS=ELPC – Second Floor Parlor 116 S Highland Avenue Pittsburgh PA 15206 United States;X-APPLE-RADIUS=500;X-TITLE=116 S Highland Avenue:geo:-79.925503,40.461033
END:VEVENT
BEGIN:VEVENT
DTSTART;TZID=America/Halifax:20141213T170000
DTEND;TZID=America/Halifax:20141213T230000
DTSTAMP:20260423T191935
CREATED:20140819T033112Z
LAST-MODIFIED:20140819T033112Z
UID:10002483-1418490000-1418511600@cathedralofhope.org
SUMMARY:Dinner and a Show
DESCRIPTION:All young adults are invited to come celebrate the season with a potluck dinner at 5pm and then attending the Renaissance City Choir’s holiday concert in our very own Sanctuary at 7:30pm.  See Wil about tickets and what you plan to bring for the potluck by December 5.
URL:https://cathedralofhope.org/event/dinner-show/
LOCATION:ELPC – Second Floor Parlor\, 116 S Highland Avenue\, Pittsburgh\, PA\, 15206\, United States
CATEGORIES:Church Life,Community,Concerts,Young Adult
ORGANIZER;CN="Jim DiGiorgio":MAILTO:JimD@coh.net
GEO:40.461033;-79.925503
X-APPLE-STRUCTURED-LOCATION;VALUE=URI;X-ADDRESS=ELPC – Second Floor Parlor 116 S Highland Avenue Pittsburgh PA 15206 United States;X-APPLE-RADIUS=500;X-TITLE=116 S Highland Avenue:geo:-79.925503,40.461033
END:VEVENT
BEGIN:VEVENT
DTSTART;TZID=America/Halifax:20141206T090000
DTEND;TZID=America/Halifax:20141206T160000
DTSTAMP:20260423T191935
CREATED:20140930T182516Z
LAST-MODIFIED:20140930T182516Z
UID:10002523-1417856400-1417881600@cathedralofhope.org
SUMMARY:An Advent Day of Healing: Madonnas\, Meditation and Mandalas
DESCRIPTION:Explore spiritual practices to draw you deeper into yourself and into the meaning of the Incarnation.
URL:https://cathedralofhope.org/event/advent-day-healing-madonnas-meditation-mandalas/
LOCATION:ELPC – Second Floor Parlor\, 116 S Highland Avenue\, Pittsburgh\, PA\, 15206\, United States
CATEGORIES:Church Life,Educational & Spiritual Life
GEO:40.461033;-79.925503
X-APPLE-STRUCTURED-LOCATION;VALUE=URI;X-ADDRESS=ELPC – Second Floor Parlor 116 S Highland Avenue Pittsburgh PA 15206 United States;X-APPLE-RADIUS=500;X-TITLE=116 S Highland Avenue:geo:-79.925503,40.461033
END:VEVENT
BEGIN:VEVENT
DTSTART;TZID=America/Halifax:20140928T123000
DTEND;TZID=America/Halifax:20140928T140000
DTSTAMP:20260423T191935
CREATED:20140819T030308Z
LAST-MODIFIED:20140819T030308Z
UID:10002468-1411907400-1411912800@cathedralofhope.org
SUMMARY:Fairy Tales & Faith
DESCRIPTION:Come explore the universal morality of fairy tales and folklore; what that means to Christians then and now.  Young adults Matthew Anderson and Jackie Walker will co-present our time together.  A light lunch will be served. This is a young adult ministry event.
URL:https://cathedralofhope.org/event/fairy-tales-faith/
LOCATION:ELPC – Second Floor Parlor\, 116 S Highland Avenue\, Pittsburgh\, PA\, 15206\, United States
CATEGORIES:Church Life,Young Adult
ORGANIZER;CN="Jim DiGiorgio":MAILTO:JimD@coh.net
GEO:40.461033;-79.925503
X-APPLE-STRUCTURED-LOCATION;VALUE=URI;X-ADDRESS=ELPC – Second Floor Parlor 116 S Highland Avenue Pittsburgh PA 15206 United States;X-APPLE-RADIUS=500;X-TITLE=116 S Highland Avenue:geo:-79.925503,40.461033
END:VEVENT
BEGIN:VEVENT
DTSTART;TZID=America/Halifax:20140625T180000
DTEND;TZID=America/Halifax:20140625T200000
DTSTAMP:20260423T191935
CREATED:20140510T164605Z
LAST-MODIFIED:20140510T164605Z
UID:10002398-1403719200-1403726400@cathedralofhope.org
SUMMARY:Appe-Taize
DESCRIPTION:Relax and refresh after a long summer day as the young adults (20/30s) first gather for fellowship and appetizers\, but then we will join the Taize worship service. Come for the food and stay for the worship!
URL:https://cathedralofhope.org/event/appe-taize/
LOCATION:ELPC – Second Floor Parlor\, 116 S Highland Avenue\, Pittsburgh\, PA\, 15206\, United States
CATEGORIES:Church Life,Young Adult
GEO:40.461033;-79.925503
X-APPLE-STRUCTURED-LOCATION;VALUE=URI;X-ADDRESS=ELPC – Second Floor Parlor 116 S Highland Avenue Pittsburgh PA 15206 United States;X-APPLE-RADIUS=500;X-TITLE=116 S Highland Avenue:geo:-79.925503,40.461033
END:VEVENT
END:VCALENDAR