BEGIN:VCALENDAR
VERSION:2.0
PRODID:-//East Liberty Presbyterian Church - ECPv6.15.20//NONSGML v1.0//EN
CALSCALE:GREGORIAN
METHOD:PUBLISH
X-ORIGINAL-URL:https://cathedralofhope.org
X-WR-CALDESC:Events for East Liberty Presbyterian Church
REFRESH-INTERVAL;VALUE=DURATION:PT1H
X-Robots-Tag:noindex
X-PUBLISHED-TTL:PT1H
BEGIN:VTIMEZONE
TZID:America/Halifax
BEGIN:DAYLIGHT
TZOFFSETFROM:-0400
TZOFFSETTO:-0300
TZNAME:ADT
DTSTART:20250309T060000
END:DAYLIGHT
BEGIN:STANDARD
TZOFFSETFROM:-0300
TZOFFSETTO:-0400
TZNAME:AST
DTSTART:20251102T050000
END:STANDARD
BEGIN:DAYLIGHT
TZOFFSETFROM:-0400
TZOFFSETTO:-0300
TZNAME:ADT
DTSTART:20260308T060000
END:DAYLIGHT
BEGIN:STANDARD
TZOFFSETFROM:-0300
TZOFFSETTO:-0400
TZNAME:AST
DTSTART:20261101T050000
END:STANDARD
BEGIN:DAYLIGHT
TZOFFSETFROM:-0400
TZOFFSETTO:-0300
TZNAME:ADT
DTSTART:20270314T060000
END:DAYLIGHT
BEGIN:STANDARD
TZOFFSETFROM:-0300
TZOFFSETTO:-0400
TZNAME:AST
DTSTART:20271107T050000
END:STANDARD
END:VTIMEZONE
BEGIN:VEVENT
DTSTART;TZID=America/Halifax:20260426T084500
DTEND;TZID=America/Halifax:20260426T094500
DTSTAMP:20260423T085058
CREATED:20250822T120056Z
LAST-MODIFIED:20260325T174257Z
UID:10002965-1777193100-1777196700@cathedralofhope.org
SUMMARY:Journey Worship
DESCRIPTION:Join us for Journey worship in the Chapel each Sunday\, 8:45 am. \nClick here to see details for this week’s worship services. \n\nAbout ELPC’s Journey Worship Service\nOur Journey worship service is a lively service of spirit\, hope\, and praise in which we encounter God’s word in a fresh\, compelling way. The blending of contemporary music\, Gospel songs and hymns\, introspective worship\, and interactive communal praise helps to reflect the diverse\, creative spirit that is at the heart of ELPC. The service is led by ELPC’s pastoral staff.
URL:https://cathedralofhope.org/event/journey-worship/2026-04-26/
LOCATION:ELPC – Social Hall\, 116 South Highland Avenue\, Pittsburgh\, PA\, 15206\, United States
CATEGORIES:Worship Services
ATTACH;FMTTYPE=image/png:https://cathedralofhope.org/wp-content/uploads/2025/08/img_journey-worship-chapel.png
GEO:40.4610063;-79.925589
X-APPLE-STRUCTURED-LOCATION;VALUE=URI;X-ADDRESS=ELPC – Social Hall 116 South Highland Avenue Pittsburgh PA 15206 United States;X-APPLE-RADIUS=500;X-TITLE=116 South Highland Avenue:geo:-79.925589,40.4610063
END:VEVENT
BEGIN:VEVENT
DTSTART;TZID=America/Halifax:20260503T084500
DTEND;TZID=America/Halifax:20260503T094500
DTSTAMP:20260423T085058
CREATED:20250822T120056Z
LAST-MODIFIED:20260325T174257Z
UID:10002966-1777797900-1777801500@cathedralofhope.org
SUMMARY:Journey Worship
DESCRIPTION:Join us for Journey worship in the Chapel each Sunday\, 8:45 am. \nClick here to see details for this week’s worship services. \n\nAbout ELPC’s Journey Worship Service\nOur Journey worship service is a lively service of spirit\, hope\, and praise in which we encounter God’s word in a fresh\, compelling way. The blending of contemporary music\, Gospel songs and hymns\, introspective worship\, and interactive communal praise helps to reflect the diverse\, creative spirit that is at the heart of ELPC. The service is led by ELPC’s pastoral staff.
URL:https://cathedralofhope.org/event/journey-worship/2026-05-03/
LOCATION:ELPC – Social Hall\, 116 South Highland Avenue\, Pittsburgh\, PA\, 15206\, United States
CATEGORIES:Worship Services
ATTACH;FMTTYPE=image/png:https://cathedralofhope.org/wp-content/uploads/2025/08/img_journey-worship-chapel.png
GEO:40.4610063;-79.925589
X-APPLE-STRUCTURED-LOCATION;VALUE=URI;X-ADDRESS=ELPC – Social Hall 116 South Highland Avenue Pittsburgh PA 15206 United States;X-APPLE-RADIUS=500;X-TITLE=116 South Highland Avenue:geo:-79.925589,40.4610063
END:VEVENT
BEGIN:VEVENT
DTSTART;TZID=America/Halifax:20260510T084500
DTEND;TZID=America/Halifax:20260510T094500
DTSTAMP:20260423T085058
CREATED:20250822T120056Z
LAST-MODIFIED:20260325T174257Z
UID:10002967-1778402700-1778406300@cathedralofhope.org
SUMMARY:Journey Worship
DESCRIPTION:Join us for Journey worship in the Chapel each Sunday\, 8:45 am. \nClick here to see details for this week’s worship services. \n\nAbout ELPC’s Journey Worship Service\nOur Journey worship service is a lively service of spirit\, hope\, and praise in which we encounter God’s word in a fresh\, compelling way. The blending of contemporary music\, Gospel songs and hymns\, introspective worship\, and interactive communal praise helps to reflect the diverse\, creative spirit that is at the heart of ELPC. The service is led by ELPC’s pastoral staff.
URL:https://cathedralofhope.org/event/journey-worship/2026-05-10/
LOCATION:ELPC – Social Hall\, 116 South Highland Avenue\, Pittsburgh\, PA\, 15206\, United States
CATEGORIES:Worship Services
ATTACH;FMTTYPE=image/png:https://cathedralofhope.org/wp-content/uploads/2025/08/img_journey-worship-chapel.png
GEO:40.4610063;-79.925589
X-APPLE-STRUCTURED-LOCATION;VALUE=URI;X-ADDRESS=ELPC – Social Hall 116 South Highland Avenue Pittsburgh PA 15206 United States;X-APPLE-RADIUS=500;X-TITLE=116 South Highland Avenue:geo:-79.925589,40.4610063
END:VEVENT
BEGIN:VEVENT
DTSTART;TZID=America/Halifax:20260517T084500
DTEND;TZID=America/Halifax:20260517T094500
DTSTAMP:20260423T085058
CREATED:20250822T120056Z
LAST-MODIFIED:20260325T174257Z
UID:10002968-1779007500-1779011100@cathedralofhope.org
SUMMARY:Journey Worship
DESCRIPTION:Join us for Journey worship in the Chapel each Sunday\, 8:45 am. \nClick here to see details for this week’s worship services. \n\nAbout ELPC’s Journey Worship Service\nOur Journey worship service is a lively service of spirit\, hope\, and praise in which we encounter God’s word in a fresh\, compelling way. The blending of contemporary music\, Gospel songs and hymns\, introspective worship\, and interactive communal praise helps to reflect the diverse\, creative spirit that is at the heart of ELPC. The service is led by ELPC’s pastoral staff.
URL:https://cathedralofhope.org/event/journey-worship/2026-05-17/
LOCATION:ELPC – Social Hall\, 116 South Highland Avenue\, Pittsburgh\, PA\, 15206\, United States
CATEGORIES:Worship Services
ATTACH;FMTTYPE=image/png:https://cathedralofhope.org/wp-content/uploads/2025/08/img_journey-worship-chapel.png
GEO:40.4610063;-79.925589
X-APPLE-STRUCTURED-LOCATION;VALUE=URI;X-ADDRESS=ELPC – Social Hall 116 South Highland Avenue Pittsburgh PA 15206 United States;X-APPLE-RADIUS=500;X-TITLE=116 South Highland Avenue:geo:-79.925589,40.4610063
END:VEVENT
BEGIN:VEVENT
DTSTART;TZID=America/Halifax:20260524T084500
DTEND;TZID=America/Halifax:20260524T094500
DTSTAMP:20260423T085058
CREATED:20250822T120056Z
LAST-MODIFIED:20260325T174257Z
UID:10002969-1779612300-1779615900@cathedralofhope.org
SUMMARY:Journey Worship
DESCRIPTION:Join us for Journey worship in the Chapel each Sunday\, 8:45 am. \nClick here to see details for this week’s worship services. \n\nAbout ELPC’s Journey Worship Service\nOur Journey worship service is a lively service of spirit\, hope\, and praise in which we encounter God’s word in a fresh\, compelling way. The blending of contemporary music\, Gospel songs and hymns\, introspective worship\, and interactive communal praise helps to reflect the diverse\, creative spirit that is at the heart of ELPC. The service is led by ELPC’s pastoral staff.
URL:https://cathedralofhope.org/event/journey-worship/2026-05-24/
LOCATION:ELPC – Social Hall\, 116 South Highland Avenue\, Pittsburgh\, PA\, 15206\, United States
CATEGORIES:Worship Services
ATTACH;FMTTYPE=image/png:https://cathedralofhope.org/wp-content/uploads/2025/08/img_journey-worship-chapel.png
GEO:40.4610063;-79.925589
X-APPLE-STRUCTURED-LOCATION;VALUE=URI;X-ADDRESS=ELPC – Social Hall 116 South Highland Avenue Pittsburgh PA 15206 United States;X-APPLE-RADIUS=500;X-TITLE=116 South Highland Avenue:geo:-79.925589,40.4610063
END:VEVENT
BEGIN:VEVENT
DTSTART;TZID=America/Halifax:20260531T084500
DTEND;TZID=America/Halifax:20260531T094500
DTSTAMP:20260423T085058
CREATED:20250822T120056Z
LAST-MODIFIED:20260325T174257Z
UID:10002970-1780217100-1780220700@cathedralofhope.org
SUMMARY:Journey Worship
DESCRIPTION:Join us for Journey worship in the Chapel each Sunday\, 8:45 am. \nClick here to see details for this week’s worship services. \n\nAbout ELPC’s Journey Worship Service\nOur Journey worship service is a lively service of spirit\, hope\, and praise in which we encounter God’s word in a fresh\, compelling way. The blending of contemporary music\, Gospel songs and hymns\, introspective worship\, and interactive communal praise helps to reflect the diverse\, creative spirit that is at the heart of ELPC. The service is led by ELPC’s pastoral staff.
URL:https://cathedralofhope.org/event/journey-worship/2026-05-31/
LOCATION:ELPC – Social Hall\, 116 South Highland Avenue\, Pittsburgh\, PA\, 15206\, United States
CATEGORIES:Worship Services
ATTACH;FMTTYPE=image/png:https://cathedralofhope.org/wp-content/uploads/2025/08/img_journey-worship-chapel.png
GEO:40.4610063;-79.925589
X-APPLE-STRUCTURED-LOCATION;VALUE=URI;X-ADDRESS=ELPC – Social Hall 116 South Highland Avenue Pittsburgh PA 15206 United States;X-APPLE-RADIUS=500;X-TITLE=116 South Highland Avenue:geo:-79.925589,40.4610063
END:VEVENT
END:VCALENDAR