BEGIN:VCALENDAR
VERSION:2.0
PRODID:-//East Liberty Presbyterian Church - ECPv6.15.20//NONSGML v1.0//EN
CALSCALE:GREGORIAN
METHOD:PUBLISH
X-ORIGINAL-URL:https://cathedralofhope.org
X-WR-CALDESC:Events for East Liberty Presbyterian Church
REFRESH-INTERVAL;VALUE=DURATION:PT1H
X-Robots-Tag:noindex
X-PUBLISHED-TTL:PT1H
BEGIN:VTIMEZONE
TZID:America/Halifax
BEGIN:DAYLIGHT
TZOFFSETFROM:-0400
TZOFFSETTO:-0300
TZNAME:ADT
DTSTART:20130310T060000
END:DAYLIGHT
BEGIN:STANDARD
TZOFFSETFROM:-0300
TZOFFSETTO:-0400
TZNAME:AST
DTSTART:20131103T050000
END:STANDARD
BEGIN:DAYLIGHT
TZOFFSETFROM:-0400
TZOFFSETTO:-0300
TZNAME:ADT
DTSTART:20140309T060000
END:DAYLIGHT
BEGIN:STANDARD
TZOFFSETFROM:-0300
TZOFFSETTO:-0400
TZNAME:AST
DTSTART:20141102T050000
END:STANDARD
BEGIN:DAYLIGHT
TZOFFSETFROM:-0400
TZOFFSETTO:-0300
TZNAME:ADT
DTSTART:20150308T060000
END:DAYLIGHT
BEGIN:STANDARD
TZOFFSETFROM:-0300
TZOFFSETTO:-0400
TZNAME:AST
DTSTART:20151101T050000
END:STANDARD
BEGIN:DAYLIGHT
TZOFFSETFROM:-0400
TZOFFSETTO:-0300
TZNAME:ADT
DTSTART:20160313T060000
END:DAYLIGHT
BEGIN:STANDARD
TZOFFSETFROM:-0300
TZOFFSETTO:-0400
TZNAME:AST
DTSTART:20161106T050000
END:STANDARD
BEGIN:DAYLIGHT
TZOFFSETFROM:-0400
TZOFFSETTO:-0300
TZNAME:ADT
DTSTART:20170312T060000
END:DAYLIGHT
BEGIN:STANDARD
TZOFFSETFROM:-0300
TZOFFSETTO:-0400
TZNAME:AST
DTSTART:20171105T050000
END:STANDARD
BEGIN:DAYLIGHT
TZOFFSETFROM:-0400
TZOFFSETTO:-0300
TZNAME:ADT
DTSTART:20180311T060000
END:DAYLIGHT
BEGIN:STANDARD
TZOFFSETFROM:-0300
TZOFFSETTO:-0400
TZNAME:AST
DTSTART:20181104T050000
END:STANDARD
END:VTIMEZONE
BEGIN:VEVENT
DTSTART;TZID=America/Halifax:20170311T193000
DTEND;TZID=America/Halifax:20170311T213000
DTSTAMP:20260424T055144
CREATED:20170306T163502Z
LAST-MODIFIED:20170306T163502Z
UID:10002640-1489260600-1489267800@cathedralofhope.org
SUMMARY:RCC Cabaret: The Power of Pop
DESCRIPTION:Renaissance City Choir (RCC) will present their Cabaret\, The Power of Pop\, featuring music to uplift and encourage the LGBTQA community in a continuing struggle for equality\, freedom\, and respect. Music will be drawn from the artistry of Lady Gaga\, Melissa Etheridge\, Paul Simon\, the Beatles\, Kelly Clarkson\, Queen\, Matt Alber\, Joe Stevens\, and more. The performance will be directed by Alexandra Vansuch and choreographed by Kaitlin Mausser\, with RCC Music Director Jeffry Blake Johnson. \nThe Cabaret takes place on Sat.\, March 11\, at 7:30 pm\, and on Sun.\, March 12\, at 3 pm. \nFor tickets\, please call 1.800.838.3006 or visit www.RCCpittsburgh.com.
URL:https://cathedralofhope.org/event/rcc-cabaret-power-pop/2017-03-11/
LOCATION:ELPC – Social Hall\, 116 South Highland Avenue\, Pittsburgh\, PA\, 15206\, United States
CATEGORIES:Community,Featured Events,LGBTQIA+,Music
ATTACH;FMTTYPE=image/png:https://cathedralofhope.org/wp-content/uploads/2017/03/rcc-cabaret2017-web.png
GEO:40.4610063;-79.925589
X-APPLE-STRUCTURED-LOCATION;VALUE=URI;X-ADDRESS=ELPC – Social Hall 116 South Highland Avenue Pittsburgh PA 15206 United States;X-APPLE-RADIUS=500;X-TITLE=116 South Highland Avenue:geo:-79.925589,40.4610063
END:VEVENT
BEGIN:VEVENT
DTSTART;TZID=America/Halifax:20170305T121500
DTEND;TZID=America/Halifax:20170305T140000
DTSTAMP:20260424T055144
CREATED:20170203T194850Z
LAST-MODIFIED:20170203T194850Z
UID:10003218-1488716100-1488722400@cathedralofhope.org
SUMMARY:Interfaith Panel
DESCRIPTION:March marks the beginning of the Spiritual Life Committee’s new focus on Science\, Cosmology\, Theology\, and Mysticism. Our journey will be based on the work of the 20th Century Jesuit and world-renowned paleontologist\, Teilhard de Chardin. Click here to download a brochure with more information. \nFollowing Sanctuary worship on Sun.\, March 5\, the Spiritual Life Committee invites you to an Interfaith Panel that will discuss the question\, “What is our (Human) role in the universe?” The Rev. Dr. Randy Bush will join representatives from Judaism\, Islam\, Buddhism\, and more in this discussion. Hear responses and discuss the role of humankind from diverse religious perspectives. A light lunch will be served. \nIf you plan on attending\, please RSVP with Kate Carlson.
URL:https://cathedralofhope.org/event/interfaith-panel/
LOCATION:ELPC – Social Hall\, 116 South Highland Avenue\, Pittsburgh\, PA\, 15206\, United States
CATEGORIES:Educational & Spiritual Life,Featured Events
ORGANIZER;CN="Rev. Mary Lynn Callahan":MAILTO:MaryLynn@coh.net
GEO:40.4610063;-79.925589
X-APPLE-STRUCTURED-LOCATION;VALUE=URI;X-ADDRESS=ELPC – Social Hall 116 South Highland Avenue Pittsburgh PA 15206 United States;X-APPLE-RADIUS=500;X-TITLE=116 South Highland Avenue:geo:-79.925589,40.4610063
END:VEVENT
BEGIN:VEVENT
DTSTART;TZID=America/Halifax:20161213T070000
DTEND;TZID=America/Halifax:20161213T203000
DTSTAMP:20260424T055144
CREATED:20161208T022536Z
LAST-MODIFIED:20161208T022536Z
UID:10003177-1481612400-1481661000@cathedralofhope.org
SUMMARY:HAT Co Holiday-ish Cabaret 2016
DESCRIPTION:Hope Academy Theater Company (HAT Co) singers and band present an evening of music and song. \nPerformances include: \n\nBand under the direction of Ben Barson & Emma Cox – Desmond Rucker\, Henry Schultz\, James Jaap and Tomi Olaore\nVocal Ensemble under the direction of Anna Elder – Raffaela Carattino\, Emily Khuu\, Kira Mukogosi\, Laela Lumsden\, Maya Ginter-Frankovitch\, Kyra Simmons\, Clara Swanson\, Esai Aliquo-Varela\, Maya Burley\, Courtney Connor and Amber Taylor\n Voice students of Anna Elder – Raffaela Carattino\, Emily Khuu\, Kira Mukogosi\, Laela Lumsden\, Maya Ginter-Frankovitch and Jewel Strothers\n Composition and Bass students of Ryan McMasters – Henry Schultz and Anela Lumsden\n\nFamilies should bring something for the reception (cookies\, cupcakes\, brownies\, candy\, drinks). \nCall time for performers is 5:30 pm. Wear black\, red and gray. Be festive!
URL:https://cathedralofhope.org/event/hat-co-winter-caberet-2016/
LOCATION:ELPC – Social Hall\, 116 South Highland Avenue\, Pittsburgh\, PA\, 15206\, United States
CATEGORIES:Featured Events,Hope Academy
ATTACH;FMTTYPE=image/jpeg:https://cathedralofhope.org/wp-content/uploads/2016/12/AAA-HAT-Co-Band-Courtyard-Shadows.jpg
GEO:40.4610063;-79.925589
X-APPLE-STRUCTURED-LOCATION;VALUE=URI;X-ADDRESS=ELPC – Social Hall 116 South Highland Avenue Pittsburgh PA 15206 United States;X-APPLE-RADIUS=500;X-TITLE=116 South Highland Avenue:geo:-79.925589,40.4610063
END:VEVENT
BEGIN:VEVENT
DTSTART;TZID=America/Halifax:20161113T123000
DTEND;TZID=America/Halifax:20161113T153000
DTSTAMP:20260424T055144
CREATED:20160828T195027Z
LAST-MODIFIED:20160828T195027Z
UID:10003091-1479040200-1479051000@cathedralofhope.org
SUMMARY:Understanding and Speaking Up for LGBTQ Christians: A Learning & Discussion Series
DESCRIPTION:All ELPC Friends and Members who want to learn how to better support LGBTQ Christians are invited to this three-part learning and discussion series. These sessions are designed to be an educational and development series (not debates) that provides an environment where authoritative presenters will share information\, where attendees will be able to have their questions answered\, and where participants will gain competencies related to being an advocate for LGBTQ Christians and issues. \nThis church-wide series will be on three consecutive Sundays with different stand-alone content each week. A simple lunch will be served. Childcare can be provided with an RSVP at least one week prior to the session you plan to attend. Please RSVP to Wil Forrest at wil@coh.net or at 412.260.2554. \nSun.\, Oct. 30: Understanding Language and LGBTQ Basics \nLed by the Rev. Dr. Randy Bush and Betty Hill\, executive director of Persad\nCo-sponsored by the Mission Board \nSample Question: “What does the Q mean?” \nSun.\, Nov. 6: The Bible and LGBTQ Inclusion \nLed by the Rev. Heather Schoenewolf and the Rev. Patrice Fowler-Searcy\nCo-sponsored by Christian Education Committee \nSample Question: “How do I reply to a family member who asks what the Bible says about homosexuality?” \nSun.\, Nov. 13: History\, Polity\, Theology\, Oh My! \nLed by the Rev. Dr. Randy Bush\, the Rev. Mary Lynn Callahan\, and Elder Carol Chonoska\nCo-sponsored by Spiritual Life Committee \nSample Question: “How can ELPC be fully inclusive of LGBTQ people and some other Presbyterian churches are not?”
URL:https://cathedralofhope.org/event/understanding-and-speaking-up-for-lgbtq-christiansa-learning-discussion-series/2016-11-13/
LOCATION:ELPC – Social Hall\, 116 South Highland Avenue\, Pittsburgh\, PA\, 15206\, United States
CATEGORIES:Church Life,Community,Educational & Spiritual Life,Featured Events,LGBTQIA+,Mission Activities,Special Events
ORGANIZER;CN="Jim DiGiorgio":MAILTO:JimD@coh.net
GEO:40.4610063;-79.925589
X-APPLE-STRUCTURED-LOCATION;VALUE=URI;X-ADDRESS=ELPC – Social Hall 116 South Highland Avenue Pittsburgh PA 15206 United States;X-APPLE-RADIUS=500;X-TITLE=116 South Highland Avenue:geo:-79.925589,40.4610063
END:VEVENT
BEGIN:VEVENT
DTSTART;TZID=America/Halifax:20161106T123000
DTEND;TZID=America/Halifax:20161106T153000
DTSTAMP:20260424T055144
CREATED:20160828T195027Z
LAST-MODIFIED:20160828T195027Z
UID:10003090-1478435400-1478446200@cathedralofhope.org
SUMMARY:Understanding and Speaking Up for LGBTQ Christians: A Learning & Discussion Series
DESCRIPTION:All ELPC Friends and Members who want to learn how to better support LGBTQ Christians are invited to this three-part learning and discussion series. These sessions are designed to be an educational and development series (not debates) that provides an environment where authoritative presenters will share information\, where attendees will be able to have their questions answered\, and where participants will gain competencies related to being an advocate for LGBTQ Christians and issues. \nThis church-wide series will be on three consecutive Sundays with different stand-alone content each week. A simple lunch will be served. Childcare can be provided with an RSVP at least one week prior to the session you plan to attend. Please RSVP to Wil Forrest at wil@coh.net or at 412.260.2554. \nSun.\, Oct. 30: Understanding Language and LGBTQ Basics \nLed by the Rev. Dr. Randy Bush and Betty Hill\, executive director of Persad\nCo-sponsored by the Mission Board \nSample Question: “What does the Q mean?” \nSun.\, Nov. 6: The Bible and LGBTQ Inclusion \nLed by the Rev. Heather Schoenewolf and the Rev. Patrice Fowler-Searcy\nCo-sponsored by Christian Education Committee \nSample Question: “How do I reply to a family member who asks what the Bible says about homosexuality?” \nSun.\, Nov. 13: History\, Polity\, Theology\, Oh My! \nLed by the Rev. Dr. Randy Bush\, the Rev. Mary Lynn Callahan\, and Elder Carol Chonoska\nCo-sponsored by Spiritual Life Committee \nSample Question: “How can ELPC be fully inclusive of LGBTQ people and some other Presbyterian churches are not?”
URL:https://cathedralofhope.org/event/understanding-and-speaking-up-for-lgbtq-christiansa-learning-discussion-series/2016-11-06/
LOCATION:ELPC – Social Hall\, 116 South Highland Avenue\, Pittsburgh\, PA\, 15206\, United States
CATEGORIES:Church Life,Community,Educational & Spiritual Life,Featured Events,LGBTQIA+,Mission Activities,Special Events
ORGANIZER;CN="Jim DiGiorgio":MAILTO:JimD@coh.net
GEO:40.4610063;-79.925589
X-APPLE-STRUCTURED-LOCATION;VALUE=URI;X-ADDRESS=ELPC – Social Hall 116 South Highland Avenue Pittsburgh PA 15206 United States;X-APPLE-RADIUS=500;X-TITLE=116 South Highland Avenue:geo:-79.925589,40.4610063
END:VEVENT
BEGIN:VEVENT
DTSTART;TZID=America/Halifax:20161105T170000
DTEND;TZID=America/Halifax:20161105T200000
DTSTAMP:20260424T055144
CREATED:20161021T152210Z
LAST-MODIFIED:20161021T152210Z
UID:10003145-1478365200-1478376000@cathedralofhope.org
SUMMARY:All-Church Talent Show
DESCRIPTION:Join us for an evening of fun and fellowship as we celebrate the talents of church members of all ages. Gather in the Social Hall for a potluck dinner at 5 pm. The Christian Education committee will provide chili and rice\, but please bring a side dish to share. \nAll talents are welcome\, but please keep your act to less than three minutes. If you’d like to perform\, email Sara Hackett at Sarah@coh.net\, RSVP on the ELPC Facebook page\, or sign up on the Second Floor CE Bulletin Board.
URL:https://cathedralofhope.org/event/church-talent-show/
LOCATION:ELPC – Social Hall\, 116 South Highland Avenue\, Pittsburgh\, PA\, 15206\, United States
CATEGORIES:Children & Youth,Community,Featured Events
ORGANIZER;CN="Sara Hackett":MAILTO:SaraH@coh.net
GEO:40.4610063;-79.925589
X-APPLE-STRUCTURED-LOCATION;VALUE=URI;X-ADDRESS=ELPC – Social Hall 116 South Highland Avenue Pittsburgh PA 15206 United States;X-APPLE-RADIUS=500;X-TITLE=116 South Highland Avenue:geo:-79.925589,40.4610063
END:VEVENT
BEGIN:VEVENT
DTSTART;TZID=America/Halifax:20161030T123000
DTEND;TZID=America/Halifax:20161030T153000
DTSTAMP:20260424T055144
CREATED:20160828T195027Z
LAST-MODIFIED:20160828T195027Z
UID:10003089-1477830600-1477841400@cathedralofhope.org
SUMMARY:Understanding and Speaking Up for LGBTQ Christians: A Learning & Discussion Series
DESCRIPTION:All ELPC Friends and Members who want to learn how to better support LGBTQ Christians are invited to this three-part learning and discussion series. These sessions are designed to be an educational and development series (not debates) that provides an environment where authoritative presenters will share information\, where attendees will be able to have their questions answered\, and where participants will gain competencies related to being an advocate for LGBTQ Christians and issues. \nThis church-wide series will be on three consecutive Sundays with different stand-alone content each week. A simple lunch will be served. Childcare can be provided with an RSVP at least one week prior to the session you plan to attend. Please RSVP to Wil Forrest at wil@coh.net or at 412.260.2554. \nSun.\, Oct. 30: Understanding Language and LGBTQ Basics \nLed by the Rev. Dr. Randy Bush and Betty Hill\, executive director of Persad\nCo-sponsored by the Mission Board \nSample Question: “What does the Q mean?” \nSun.\, Nov. 6: The Bible and LGBTQ Inclusion \nLed by the Rev. Heather Schoenewolf and the Rev. Patrice Fowler-Searcy\nCo-sponsored by Christian Education Committee \nSample Question: “How do I reply to a family member who asks what the Bible says about homosexuality?” \nSun.\, Nov. 13: History\, Polity\, Theology\, Oh My! \nLed by the Rev. Dr. Randy Bush\, the Rev. Mary Lynn Callahan\, and Elder Carol Chonoska\nCo-sponsored by Spiritual Life Committee \nSample Question: “How can ELPC be fully inclusive of LGBTQ people and some other Presbyterian churches are not?”
URL:https://cathedralofhope.org/event/understanding-and-speaking-up-for-lgbtq-christiansa-learning-discussion-series/2016-10-30/
LOCATION:ELPC – Social Hall\, 116 South Highland Avenue\, Pittsburgh\, PA\, 15206\, United States
CATEGORIES:Church Life,Community,Educational & Spiritual Life,Featured Events,LGBTQIA+,Mission Activities,Special Events
ORGANIZER;CN="Jim DiGiorgio":MAILTO:JimD@coh.net
GEO:40.4610063;-79.925589
X-APPLE-STRUCTURED-LOCATION;VALUE=URI;X-ADDRESS=ELPC – Social Hall 116 South Highland Avenue Pittsburgh PA 15206 United States;X-APPLE-RADIUS=500;X-TITLE=116 South Highland Avenue:geo:-79.925589,40.4610063
END:VEVENT
BEGIN:VEVENT
DTSTART;TZID=America/Halifax:20161009T121500
DTEND;TZID=America/Halifax:20161009T140000
DTSTAMP:20260424T055144
CREATED:20160922T190940Z
LAST-MODIFIED:20160922T190940Z
UID:10002579-1476015300-1476021600@cathedralofhope.org
SUMMARY:Presentation: Indigenous Pittsburgh
DESCRIPTION:Nationalism Redefined: In this election year\, there has been a rise in so-called nationalism in our country—a call to return to the loyalty and devotion upon which the U.S. was established; a sense of consciousness that exalts the U.S. above all other countries and emphasizes the promotion of culture and superiority. However\, America was not discovered\, as the land was already inhabited when the Europeans arrived. A true return to nationalism would be a return to the indigenous people’s way of life\, culture\, and restoration of their land. \nIn recognition of Indigenous Peoples Day (this year on Monday\, October 10)\, the Mission Board will present Indigenous Pittsburgh: Christian Doctrine\, Small Pox Blankets\, and Native Populations. This presentation will provide a foundational framework for understanding U.S. policy and beliefs toward native populations and how they impacted our local history and treatment of natives. A light lunch will be served.
URL:https://cathedralofhope.org/event/presentation-indigenous-pittsburgh/
LOCATION:ELPC – Social Hall\, 116 South Highland Avenue\, Pittsburgh\, PA\, 15206\, United States
CATEGORIES:Community,Featured Events,Mission Activities
GEO:40.4610063;-79.925589
X-APPLE-STRUCTURED-LOCATION;VALUE=URI;X-ADDRESS=ELPC – Social Hall 116 South Highland Avenue Pittsburgh PA 15206 United States;X-APPLE-RADIUS=500;X-TITLE=116 South Highland Avenue:geo:-79.925589,40.4610063
END:VEVENT
BEGIN:VEVENT
DTSTART;TZID=America/Halifax:20161001T190000
DTEND;TZID=America/Halifax:20161001T210000
DTSTAMP:20260424T055144
CREATED:20160817T192019Z
LAST-MODIFIED:20160817T192019Z
UID:10002561-1475348400-1475355600@cathedralofhope.org
SUMMARY:Community Sing with Ysaÿe Barnwell
DESCRIPTION:Ysaÿe Barnwell\, former member of Sweet Honey in the Rock\, returns to ELPC after last leading an inspirational Community Sing here in 2013. \nClick here to download a poster. \nThis event is free and open to the public.  A freewill offering will be received. \n \n  \n \nWatch this YouTube video where Dr. Barnwell leads a TED Talk in a Community Sing.
URL:https://cathedralofhope.org/event/community-sing-ysaye-barnwell/
LOCATION:ELPC – Social Hall\, 116 South Highland Avenue\, Pittsburgh\, PA\, 15206\, United States
CATEGORIES:Community,Concerts,Featured Events,Hope Academy,Music,Special Events
ATTACH;FMTTYPE=image/jpeg:https://cathedralofhope.org/wp-content/uploads/2013/11/YMB5.jpg
ORGANIZER;CN="Dr. Ed Moore":MAILTO:EdM@coh.net
GEO:40.4610063;-79.925589
X-APPLE-STRUCTURED-LOCATION;VALUE=URI;X-ADDRESS=ELPC – Social Hall 116 South Highland Avenue Pittsburgh PA 15206 United States;X-APPLE-RADIUS=500;X-TITLE=116 South Highland Avenue:geo:-79.925589,40.4610063
END:VEVENT
BEGIN:VEVENT
DTSTART;TZID=America/Halifax:20160821T111500
DTEND;TZID=America/Halifax:20160821T130000
DTSTAMP:20260424T055144
CREATED:20160726T183420Z
LAST-MODIFIED:20160726T183420Z
UID:10003050-1471778100-1471784400@cathedralofhope.org
SUMMARY:Lunch with the Islamic Center of Pittsburgh
DESCRIPTION:The ELPC Mission Board has entered into a collaborative interfaith relationship of learning and friendship with the members of the local Muslim community. Many of the gatherings have been offered at the Islamic Center of Pittsburgh (ICP)\, where people of all faiths have been greeted with warm hospitality and a genuine desire to get to know and support one another. \nNow\, we have an opportunity to return the same radical hospitality that we have received from our sisters and brothers at ICP. On Sun.\, Aug. 21\, members of ICP will join us for worship in the Courtyard and lunch in the Social Hall. Following lunch\, Kelcey Sharkas\, outreach coordinator at ICP\, will facilitate a seminar\, entitled “How to Be a Muslim Ally.” \nThe Mission Board cordially invites and encourages all ELPC members and friends to offer a warm\, radically hospitable welcome to our guests and to extend their Sunday at church by participating in lunch and the seminar. \nFor more information\, contact Michele Bossers or Pastor Patrice. \n“God is love\, and those who abide in love abide in God\, and God abides in them.”—1 John 4:16
URL:https://cathedralofhope.org/event/lunch-islamic-center-pittsburgh/
LOCATION:ELPC – Social Hall\, 116 South Highland Avenue\, Pittsburgh\, PA\, 15206\, United States
CATEGORIES:Community,Featured Events,Mission Activities
ATTACH;FMTTYPE=image/jpeg:https://cathedralofhope.org/wp-content/uploads/2016/07/ELPC-YAM-at-ICP.jpg
GEO:40.4610063;-79.925589
X-APPLE-STRUCTURED-LOCATION;VALUE=URI;X-ADDRESS=ELPC – Social Hall 116 South Highland Avenue Pittsburgh PA 15206 United States;X-APPLE-RADIUS=500;X-TITLE=116 South Highland Avenue:geo:-79.925589,40.4610063
END:VEVENT
BEGIN:VEVENT
DTSTART;TZID=America/Halifax:20160731T084500
DTEND;TZID=America/Halifax:20160731T094500
DTSTAMP:20260424T055144
CREATED:20160622T135553Z
LAST-MODIFIED:20160622T135553Z
UID:10003030-1469954700-1469958300@cathedralofhope.org
SUMMARY:Journey Prayer
DESCRIPTION:Journey Prayer is a time of gathering and mutual intercessory prayer during the summer months. Our time together will be held in the Social Hall and will include singing\, reading of scripture\, and shared prayer time\, concluding in time for our Summer Worship service at 10 am. This prayer service will be alternately led by Pastors Randy\, Patrice\, and Mary Lynn. Everyone is welcome and encouraged to attend.
URL:https://cathedralofhope.org/event/journey-prayer-2016-07-31/
LOCATION:ELPC – Social Hall\, 116 South Highland Avenue\, Pittsburgh\, PA\, 15206\, United States
CATEGORIES:Worship Services
GEO:40.4610063;-79.925589
X-APPLE-STRUCTURED-LOCATION;VALUE=URI;X-ADDRESS=ELPC – Social Hall 116 South Highland Avenue Pittsburgh PA 15206 United States;X-APPLE-RADIUS=500;X-TITLE=116 South Highland Avenue:geo:-79.925589,40.4610063
END:VEVENT
BEGIN:VEVENT
DTSTART;TZID=America/Halifax:20160514T163000
DTEND;TZID=America/Halifax:20160514T183000
DTSTAMP:20260424T055144
CREATED:20160506T121641Z
LAST-MODIFIED:20160506T121641Z
UID:10002992-1463243400-1463250600@cathedralofhope.org
SUMMARY:PW Spring Social Potluck
DESCRIPTION:When women support each other\, incredible things happen! Let’s get together\, meet\, network\, socialize\, and have fun as sisters in Christ in the Social Hall. Every woman in the congregation is invited\, as we are all a part of Presbyterian Women! \nWe ask that you bring a salad\, entree\, side\, or dessert that introduces you. It could be your favorite food\, a family favorite dish\, a cultural dish\, or a dish that has your name in it! Be as creative as you would like with this assignment as we celebrate who we are as women and gather for a time of fellowship with one another. \nPlease RSVP with what category of dish you will bring (salad\, entree\, side\, or dessert) to Kelli Booher by email at kjbooher@gmail.com or text/call 405.501.0711.
URL:https://cathedralofhope.org/event/pw-spring-social-potluck/
LOCATION:ELPC – Social Hall\, 116 South Highland Avenue\, Pittsburgh\, PA\, 15206\, United States
CATEGORIES:Featured Events,Presbyterian Women
GEO:40.4610063;-79.925589
X-APPLE-STRUCTURED-LOCATION;VALUE=URI;X-ADDRESS=ELPC – Social Hall 116 South Highland Avenue Pittsburgh PA 15206 United States;X-APPLE-RADIUS=500;X-TITLE=116 South Highland Avenue:geo:-79.925589,40.4610063
END:VEVENT
BEGIN:VEVENT
DTSTART;TZID=America/Halifax:20160417T123000
DTEND;TZID=America/Halifax:20160417T150000
DTSTAMP:20260424T055144
CREATED:20151222T051102Z
LAST-MODIFIED:20151222T051102Z
UID:10002884-1460896200-1460905200@cathedralofhope.org
SUMMARY:The Great Exchange: Holidays
DESCRIPTION:Folks of all ages are invited to this fun\, interactive event where we—together\, across the generations—will explore some fun and intriguing discussion questions centered around the topic of holidays. We will have a simple lunch while sharing our stories with one another. No preparation is necessary\, just come and enjoy! \nThis event is co-sponsored by the Young Adult and Health Ministries.
URL:https://cathedralofhope.org/event/the-great-exchange-holidays/
LOCATION:ELPC – Social Hall\, 116 South Highland Avenue\, Pittsburgh\, PA\, 15206\, United States
CATEGORIES:Featured Events,Health,Special Events,Young Adult
ATTACH;FMTTYPE=image/jpeg:https://cathedralofhope.org/wp-content/uploads/2015/12/The-Great-Exchange-Nov-2015.jpg
ORGANIZER;CN="Jim DiGiorgio":MAILTO:JimD@coh.net
GEO:40.4610063;-79.925589
X-APPLE-STRUCTURED-LOCATION;VALUE=URI;X-ADDRESS=ELPC – Social Hall 116 South Highland Avenue Pittsburgh PA 15206 United States;X-APPLE-RADIUS=500;X-TITLE=116 South Highland Avenue:geo:-79.925589,40.4610063
END:VEVENT
BEGIN:VEVENT
DTSTART;TZID=America/Halifax:20141026T123000
DTEND;TZID=America/Halifax:20141026T153000
DTSTAMP:20260424T055144
CREATED:20141014T141453Z
LAST-MODIFIED:20141014T141453Z
UID:10002299-1414326600-1414337400@cathedralofhope.org
SUMMARY:A Mission Affair
DESCRIPTION:Join the Mission Board of ELPC as we welcome our 22 community mission partners to our church from 12:30-3:30 pm Sunday\, October 26. Representatives from these groups\, listed below\, will host booths in the Social Hall to present their work and promote their mission to our members and friends. For more information\, call Becky Gloninger at 412-913-6070. \n\nBlack and White Reunion\nCovenant Network of Presbyterians\nCrestfield Camp\nEast End Community Thrift Shop\nEast End Cooperative Ministry\nEast Liberty Development\, Inc.\nEast Liberty Family Health Center\nFoundation of HOPE/AC Jail\nFrontera de Cristo\nGarfield Community Farm\nHope Academy\nJeremiah’s Place\nKingsley Association\nLarimer Consensus Group\nMore Light Presbyterians\nThe Neighborhood Academy\nOpen Hand Ministries\nPittsburgh AIDS Task Force\nPresbyterian Disaster Assistance\nSisters of St. Joseph/Casa San Jose\nThe Partnership for Minority AIDS?HIV Prevention\nInternational Partnership Ministry Teams of Pittsburgh Presbytery
URL:https://cathedralofhope.org/event/mission-affair/
LOCATION:ELPC – Social Hall\, 116 South Highland Avenue\, Pittsburgh\, PA\, 15206\, United States
CATEGORIES:Featured Events,Mission Activities
GEO:40.4610063;-79.925589
X-APPLE-STRUCTURED-LOCATION;VALUE=URI;X-ADDRESS=ELPC – Social Hall 116 South Highland Avenue Pittsburgh PA 15206 United States;X-APPLE-RADIUS=500;X-TITLE=116 South Highland Avenue:geo:-79.925589,40.4610063
END:VEVENT
END:VCALENDAR