BEGIN:VCALENDAR
VERSION:2.0
PRODID:-//East Liberty Presbyterian Church - ECPv6.15.20//NONSGML v1.0//EN
CALSCALE:GREGORIAN
METHOD:PUBLISH
X-WR-CALNAME:East Liberty Presbyterian Church
X-ORIGINAL-URL:https://cathedralofhope.org
X-WR-CALDESC:Events for East Liberty Presbyterian Church
REFRESH-INTERVAL;VALUE=DURATION:PT1H
X-Robots-Tag:noindex
X-PUBLISHED-TTL:PT1H
BEGIN:VTIMEZONE
TZID:America/New_York
BEGIN:DAYLIGHT
TZOFFSETFROM:-0500
TZOFFSETTO:-0400
TZNAME:EDT
DTSTART:20210314T070000
END:DAYLIGHT
BEGIN:STANDARD
TZOFFSETFROM:-0400
TZOFFSETTO:-0500
TZNAME:EST
DTSTART:20211107T060000
END:STANDARD
BEGIN:DAYLIGHT
TZOFFSETFROM:-0500
TZOFFSETTO:-0400
TZNAME:EDT
DTSTART:20220313T070000
END:DAYLIGHT
BEGIN:STANDARD
TZOFFSETFROM:-0400
TZOFFSETTO:-0500
TZNAME:EST
DTSTART:20221106T060000
END:STANDARD
BEGIN:DAYLIGHT
TZOFFSETFROM:-0500
TZOFFSETTO:-0400
TZNAME:EDT
DTSTART:20230312T070000
END:DAYLIGHT
BEGIN:STANDARD
TZOFFSETFROM:-0400
TZOFFSETTO:-0500
TZNAME:EST
DTSTART:20231105T060000
END:STANDARD
END:VTIMEZONE
BEGIN:VEVENT
DTSTART;TZID=America/New_York:20220929T170000
DTEND;TZID=America/New_York:20220929T190000
DTSTAMP:20260423T190319
CREATED:20220829T165900Z
LAST-MODIFIED:20220914T173526Z
UID:10006822-1664470800-1664478000@cathedralofhope.org
SUMMARY:YAMS @ Emory Community Senior Housing
DESCRIPTION:All young adults are invited to an of afternoon conversation and fun with our seniors at Emory Community Center. Come on out and enjoy ice cream and play bingo with our friends. \nFor more information and to RSVP\, contact Derail at DerailH@coh.net.
URL:https://cathedralofhope.org/event/yams-emory-community-senior-housing/
LOCATION:Emory Community Center\, 324 N Beatty St\, Pittsburgh\, 15206\, United States
CATEGORIES:Featured Events,Young Adult
ORGANIZER;CN="Derail Holcomb":MAILTO:DerailH@coh.net
END:VEVENT
END:VCALENDAR