BEGIN:VCALENDAR
VERSION:2.0
PRODID:-//East Liberty Presbyterian Church - ECPv6.15.20//NONSGML v1.0//EN
CALSCALE:GREGORIAN
METHOD:PUBLISH
X-ORIGINAL-URL:https://cathedralofhope.org
X-WR-CALDESC:Events for East Liberty Presbyterian Church
REFRESH-INTERVAL;VALUE=DURATION:PT1H
X-Robots-Tag:noindex
X-PUBLISHED-TTL:PT1H
BEGIN:VTIMEZONE
TZID:America/Halifax
BEGIN:DAYLIGHT
TZOFFSETFROM:-0400
TZOFFSETTO:-0300
TZNAME:ADT
DTSTART:20140309T060000
END:DAYLIGHT
BEGIN:STANDARD
TZOFFSETFROM:-0300
TZOFFSETTO:-0400
TZNAME:AST
DTSTART:20141102T050000
END:STANDARD
BEGIN:DAYLIGHT
TZOFFSETFROM:-0400
TZOFFSETTO:-0300
TZNAME:ADT
DTSTART:20150308T060000
END:DAYLIGHT
BEGIN:STANDARD
TZOFFSETFROM:-0300
TZOFFSETTO:-0400
TZNAME:AST
DTSTART:20151101T050000
END:STANDARD
BEGIN:DAYLIGHT
TZOFFSETFROM:-0400
TZOFFSETTO:-0300
TZNAME:ADT
DTSTART:20160313T060000
END:DAYLIGHT
BEGIN:STANDARD
TZOFFSETFROM:-0300
TZOFFSETTO:-0400
TZNAME:AST
DTSTART:20161106T050000
END:STANDARD
END:VTIMEZONE
BEGIN:VEVENT
DTSTART;TZID=America/Halifax:20150220T180000
DTEND;TZID=America/Halifax:20150222T123000
DTSTAMP:20260423T185442
CREATED:20150129T151112Z
LAST-MODIFIED:20150129T151112Z
UID:10002587-1424455200-1424608200@cathedralofhope.org
SUMMARY:Enneagram Retreat
DESCRIPTION:The Enneagram is an ancient and mysterious means for better understanding ourselves\, exploring our motivations\, and discovering ways in which we can move toward wholeness. \nDuring Lent\, plan on joining us at the Franciscan Spirit and Life Center in the South Hills\, as Fr. Bernie Tickerhoof leads an Enneagram Retreat\, providing you with an opportunity to discover—in greater depth—who you are and why you do the things you do. It is strongly recommended that participants read the small book\, The Essential Enneagram\, by David Daniels and Virginia Price\, prior to the retreat. The Spiritual Life committee will have copies available by February 6. \nThe cost is $150\, which includes accommodations for two nights\, three meals on Saturday\, and brunch on Sunday. Full and partial scholarships are available. \nClick here to download a registration form.
URL:https://cathedralofhope.org/event/enneagram-retreat/
LOCATION:Franciscan Spirit and Life Center\, 3605 McRoberts Road\, Pittsburgh\, PA\, 15234\, United States
CATEGORIES:Church Life,Educational & Spiritual Life,Featured Events
ORGANIZER;CN="Rev. Mary Lynn Callahan":MAILTO:MaryLynn@coh.net
GEO:40.3618433;-80.013083
X-APPLE-STRUCTURED-LOCATION;VALUE=URI;X-ADDRESS=Franciscan Spirit and Life Center 3605 McRoberts Road Pittsburgh PA 15234 United States;X-APPLE-RADIUS=500;X-TITLE=3605 McRoberts Road:geo:-80.013083,40.3618433
END:VEVENT
END:VCALENDAR