BEGIN:VCALENDAR
VERSION:2.0
PRODID:-//East Liberty Presbyterian Church - ECPv6.15.20//NONSGML v1.0//EN
CALSCALE:GREGORIAN
METHOD:PUBLISH
X-WR-CALNAME:East Liberty Presbyterian Church
X-ORIGINAL-URL:https://cathedralofhope.org
X-WR-CALDESC:Events for East Liberty Presbyterian Church
REFRESH-INTERVAL;VALUE=DURATION:PT1H
X-Robots-Tag:noindex
X-PUBLISHED-TTL:PT1H
BEGIN:VTIMEZONE
TZID:America/Halifax
BEGIN:DAYLIGHT
TZOFFSETFROM:-0400
TZOFFSETTO:-0300
TZNAME:ADT
DTSTART:20130310T060000
END:DAYLIGHT
BEGIN:STANDARD
TZOFFSETFROM:-0300
TZOFFSETTO:-0400
TZNAME:AST
DTSTART:20131103T050000
END:STANDARD
BEGIN:DAYLIGHT
TZOFFSETFROM:-0400
TZOFFSETTO:-0300
TZNAME:ADT
DTSTART:20140309T060000
END:DAYLIGHT
BEGIN:STANDARD
TZOFFSETFROM:-0300
TZOFFSETTO:-0400
TZNAME:AST
DTSTART:20141102T050000
END:STANDARD
BEGIN:DAYLIGHT
TZOFFSETFROM:-0400
TZOFFSETTO:-0300
TZNAME:ADT
DTSTART:20150308T060000
END:DAYLIGHT
BEGIN:STANDARD
TZOFFSETFROM:-0300
TZOFFSETTO:-0400
TZNAME:AST
DTSTART:20151101T050000
END:STANDARD
BEGIN:DAYLIGHT
TZOFFSETFROM:-0400
TZOFFSETTO:-0300
TZNAME:ADT
DTSTART:20160313T060000
END:DAYLIGHT
BEGIN:STANDARD
TZOFFSETFROM:-0300
TZOFFSETTO:-0400
TZNAME:AST
DTSTART:20161106T050000
END:STANDARD
BEGIN:DAYLIGHT
TZOFFSETFROM:-0400
TZOFFSETTO:-0300
TZNAME:ADT
DTSTART:20170312T060000
END:DAYLIGHT
BEGIN:STANDARD
TZOFFSETFROM:-0300
TZOFFSETTO:-0400
TZNAME:AST
DTSTART:20171105T050000
END:STANDARD
BEGIN:DAYLIGHT
TZOFFSETFROM:-0400
TZOFFSETTO:-0300
TZNAME:ADT
DTSTART:20180311T060000
END:DAYLIGHT
BEGIN:STANDARD
TZOFFSETFROM:-0300
TZOFFSETTO:-0400
TZNAME:AST
DTSTART:20181104T050000
END:STANDARD
END:VTIMEZONE
BEGIN:VEVENT
DTSTART;TZID=America/Halifax:20171014T143000
DTEND;TZID=America/Halifax:20171014T163000
DTSTAMP:20260423T152734
CREATED:20170919T193142Z
LAST-MODIFIED:20170919T193142Z
UID:10003339-1507991400-1507998600@cathedralofhope.org
SUMMARY:Reel Q: LGBT Film Festival
DESCRIPTION:The Justice Committee is sponsoring a film called Saturday Church\, which will be shown at Harris Theater. After the unexpected death of his father\, Ulysses\, a shy\, gender-nonconforming teen\, faces a sudden onslaught of painful realities at home. In this coming-of-age drama\, Ulysses flees to New York City and finds an inclusive gathering of trans and queer youths who shepherd him into the sanctuary that is Saturday Church. \nFor more information about the film and tickets\, call Carol Chonoska at 724.272.9722.
URL:https://cathedralofhope.org/event/reel-q-lgbt-film-festival/
LOCATION:Harris Theater\, 809 LIberty Avenue\, Pittsburgh\, PA\, 15222\, United States
CATEGORIES:Community,Featured Events,Mission Activities
ATTACH;FMTTYPE=image/jpeg:https://cathedralofhope.org/wp-content/uploads/2017/09/2017_Reel-Q.jpeg
GEO:40.4429498;-79.9986476
X-APPLE-STRUCTURED-LOCATION;VALUE=URI;X-ADDRESS=Harris Theater 809 LIberty Avenue Pittsburgh PA 15222 United States;X-APPLE-RADIUS=500;X-TITLE=809 LIberty Avenue:geo:-79.9986476,40.4429498
END:VEVENT
BEGIN:VEVENT
DTSTART;TZID=America/Halifax:20141017T190000
DTEND;TZID=America/Halifax:20141017T210000
DTSTAMP:20260423T152734
CREATED:20140930T184851Z
LAST-MODIFIED:20140930T184851Z
UID:10002529-1413572400-1413579600@cathedralofhope.org
SUMMARY:Out in the Night
DESCRIPTION:It’s ELPC Night at the Pittsburgh International Gay and Lesbian Film Festival at the Harris Theater. Visit the PLGFS website to read more about the film\, Out in the Night.
URL:https://cathedralofhope.org/event/night/
LOCATION:Harris Theater\, 809 LIberty Avenue\, Pittsburgh\, PA\, 15222\, United States
CATEGORIES:Featured Events,Mission Activities
GEO:40.4429498;-79.9986476
X-APPLE-STRUCTURED-LOCATION;VALUE=URI;X-ADDRESS=Harris Theater 809 LIberty Avenue Pittsburgh PA 15222 United States;X-APPLE-RADIUS=500;X-TITLE=809 LIberty Avenue:geo:-79.9986476,40.4429498
END:VEVENT
END:VCALENDAR